BEGIN:VCALENDAR
VERSION:2.0
PRODID:-//Xceptional Heroes - ECPv6.15.20//NONSGML v1.0//EN
CALSCALE:GREGORIAN
METHOD:PUBLISH
X-WR-CALNAME:Xceptional Heroes
X-ORIGINAL-URL:https://xceptionalheroes.org
X-WR-CALDESC:Events for Xceptional Heroes
REFRESH-INTERVAL;VALUE=DURATION:PT1H
X-Robots-Tag:noindex
X-PUBLISHED-TTL:PT1H
BEGIN:VTIMEZONE
TZID:UTC
BEGIN:STANDARD
TZOFFSETFROM:+0000
TZOFFSETTO:+0000
TZNAME:UTC
DTSTART:20230101T000000
END:STANDARD
END:VTIMEZONE
BEGIN:VEVENT
DTSTART;TZID=UTC:20241218T180000
DTEND;TZID=UTC:20241218T193000
DTSTAMP:20260424T154529
CREATED:20241130T002712Z
LAST-MODIFIED:20241130T002712Z
UID:3999-1734544800-1734550200@xceptionalheroes.org
SUMMARY:XH North Bingo Night
DESCRIPTION:We have found a location to be able to offer more events in the Clio area for our Heroes that live farther North! \nCome join us for a funfilled Bingo Night! \nThis is a free event\, but you do need to bring 2.75 in quarters to play with! You may have noticed we upped the price a little but bubba wanted to create a bigger jackpot of winnings for Bingo! \nThis is a very popular event and would love to invite anyone that has not joined yet! \n  \nClick here to sign up! \n 
URL:https://xceptionalheroes.org/event/xh-north-bingo-night-3/
LOCATION:12167 N Lewis Rd Clio\, MI\, 12167 N Lewis Rd\, Clio\, Michigan\, 48420
CATEGORIES:Ticket or Entry Costs
ATTACH;FMTTYPE=image/jpeg:https://xceptionalheroes.org/wp-content/uploads/2024/11/IMG_8271-scaled.jpeg
END:VEVENT
BEGIN:VEVENT
DTSTART;TZID=UTC:20241216T180000
DTEND;TZID=UTC:20241216T193000
DTSTAMP:20260424T154529
CREATED:20241130T002104Z
LAST-MODIFIED:20241130T002104Z
UID:3997-1734372000-1734377400@xceptionalheroes.org
SUMMARY:XH North Craft Night
DESCRIPTION:Are you looking for something crafty to do\, but can’t make our normal location? \nWe have just the thing for you! XH North Craft Night in Clio! \nRobin will be putting together amazing craft activities for you to join us at the Lacure Community Center for! \n  \nClick here to sign up! \n  \n 
URL:https://xceptionalheroes.org/event/xh-north-craft-night-3/
LOCATION:12167 N Lewis Rd Clio\, MI\, 12167 N Lewis Rd\, Clio\, Michigan\, 48420
CATEGORIES:Free For All
ATTACH;FMTTYPE=image/jpeg:https://xceptionalheroes.org/wp-content/uploads/2024/10/IMG_8116-scaled.jpeg
END:VEVENT
BEGIN:VEVENT
DTSTART;TZID=UTC:20241212T120000
DTEND;TZID=UTC:20241212T130000
DTSTAMP:20260424T154529
CREATED:20241130T001552Z
LAST-MODIFIED:20241130T001552Z
UID:3995-1734004800-1734008400@xceptionalheroes.org
SUMMARY:Fitness Class
DESCRIPTION:We are going back to the gym for Fitness this month! \nThis is a great way to get your body moving and stay active during the cold months! \nTamara always has fun ideas to keep Fitness fun and interesting! \nMake sure to wear the proper shoes and to bring lots of water with you! \n  \nClick here to sign up! \n  \n 
URL:https://xceptionalheroes.org/event/fitness-class-48/
LOCATION:Ascension Genesys Health Club\, 801 Health Park Blvd\, Grand Blanc\, MI\, 48439
CATEGORIES:Free For All
ATTACH;FMTTYPE=image/jpeg:https://xceptionalheroes.org/wp-content/uploads/2024/04/IMG_3058-scaled.jpeg
END:VEVENT
BEGIN:VEVENT
DTSTART;TZID=UTC:20241211T180000
DTEND;TZID=UTC:20241211T193000
DTSTAMP:20260424T154529
CREATED:20241130T001403Z
LAST-MODIFIED:20241130T001403Z
UID:3993-1733940000-1733945400@xceptionalheroes.org
SUMMARY:Craft Night
DESCRIPTION:Come join Robin for a fun and creative Craft Night! \nThis event is free thanks to our amazing donations that go towards every craft every Month! \nRobin keeps it interesting by choosing a different craft to do with the Heroes each month! \n  \nClick here to sign up! \n 
URL:https://xceptionalheroes.org/event/craft-night-8/
LOCATION:Richfield Road Church\, 6259 Richfield Rd\, Flint\, 48506
CATEGORIES:Free For All
ATTACH;FMTTYPE=image/jpeg:https://xceptionalheroes.org/wp-content/uploads/2024/04/IMG_3101.jpg
END:VEVENT
BEGIN:VEVENT
DTSTART;TZID=UTC:20241205T120000
DTEND;TZID=UTC:20241205T130000
DTSTAMP:20260424T154529
CREATED:20241130T001108Z
LAST-MODIFIED:20241130T001108Z
UID:3991-1733400000-1733403600@xceptionalheroes.org
SUMMARY:Fitness Class
DESCRIPTION:We are going back to the gym for Fitness this month! \nThis is a great way to get your body moving and stay active during the cold months! \nTamara always has fun ideas to keep Fitness fun and interesting! \nMake sure to wear the proper shoes and to bring lots of water with you! \n  \nClick here to sign up! \n 
URL:https://xceptionalheroes.org/event/fitness-class-47/
LOCATION:Ascension Genesys Health Club\, 801 Health Park Blvd\, Grand Blanc\, MI\, 48439
CATEGORIES:Free For All
ATTACH;FMTTYPE=image/jpeg:https://xceptionalheroes.org/wp-content/uploads/2024/04/IMG_3059-scaled.jpeg
END:VEVENT
BEGIN:VEVENT
DTSTART;TZID=UTC:20241204T180000
DTEND;TZID=UTC:20241204T193000
DTSTAMP:20260424T154529
CREATED:20241130T000403Z
LAST-MODIFIED:20241130T000403Z
UID:3989-1733335200-1733340600@xceptionalheroes.org
SUMMARY:Bingo Night
DESCRIPTION:Come join us for a funfilled Bingo Night with Bubba!\n\nThis is a very popular event and always has everyone leaving with a smile on their face!\n\nMake sure to bring 2.75 in quarters with you to play with as Bubba has a fun progressive jackpot going!\n\n\nClick here to sign up!
URL:https://xceptionalheroes.org/event/bingo-night-17/
LOCATION:Richfield Road Church\, 6259 Richfield Rd\, Flint\, 48506
CATEGORIES:Ticket or Entry Costs
ATTACH;FMTTYPE=image/jpeg:https://xceptionalheroes.org/wp-content/uploads/2024/04/IMG_3066.jpg
END:VEVENT
BEGIN:VEVENT
DTSTART;TZID=UTC:20241122T140000
DTEND;TZID=UTC:20241122T144500
DTSTAMP:20260424T154529
CREATED:20241109T233711Z
LAST-MODIFIED:20241109T233738Z
UID:3767-1732284000-1732286700@xceptionalheroes.org
SUMMARY:FIM Music Therapy
DESCRIPTION:Join us for some Music Therapy fun! \nFlint Institute of Music is welcoming us for a 45 minute class to teach us about about different instruments\, music generes\, and how to use different music instruments. \nThis is an amazing opportunity and has gone to show that music can be therapeutic or most! \nClick here to sign up! \n 
URL:https://xceptionalheroes.org/event/fim-music-therapy/
ATTACH;FMTTYPE=image/jpeg:https://xceptionalheroes.org/wp-content/uploads/2024/11/IMG_7211-scaled.jpg
END:VEVENT
BEGIN:VEVENT
DTSTART;TZID=UTC:20241121T120000
DTEND;TZID=UTC:20241121T130000
DTSTAMP:20260424T154529
CREATED:20241109T233008Z
LAST-MODIFIED:20241109T233008Z
UID:3765-1732190400-1732194000@xceptionalheroes.org
SUMMARY:Fitness Class
DESCRIPTION:We are going back to the gym for Fitness this month! \nThis is a great way to get your body moving and stay active during the cold months! \nTamara always has fun ideas to keep Fitness fun and interesting! \nMake sure to wear the proper shoes and to bring lots of water with you! \n  \nClick here to sign up! \n 
URL:https://xceptionalheroes.org/event/fitness-class-46/
LOCATION:Ascension Genesys Health Club\, 801 Health Park Blvd\, Grand Blanc\, MI\, 48439
CATEGORIES:Free For All
ATTACH;FMTTYPE=image/jpeg:https://xceptionalheroes.org/wp-content/uploads/2024/04/IMG_3049-scaled.jpeg
END:VEVENT
BEGIN:VEVENT
DTSTART;TZID=UTC:20241120T173000
DTEND;TZID=UTC:20241120T190000
DTSTAMP:20260424T154529
CREATED:20241109T232611Z
LAST-MODIFIED:20241109T232611Z
UID:3761-1732123800-1732129200@xceptionalheroes.org
SUMMARY:XH North Bingo Night
DESCRIPTION:We have found a location to be able to offer more events in the Clio area for our Heroes that live farther North! \nCome join us for a funfilled Bingo Night! \nThis is a free event\, but you do need to bring 2.75 in quarters to play with! You may have noticed we upped the price a little but bubba wanted to create a bigger jackpot of winnings for Bingo! \nThis is a very popular event and would love to invite anyone that has not joined yet! \n  \nClick here to sign up! \n 
URL:https://xceptionalheroes.org/event/xh-north-bingo-night-2/
LOCATION:12167 N Lewis Rd Clio\, MI\, 12167 N Lewis Rd\, Clio\, Michigan\, 48420
CATEGORIES:Free For All
ATTACH;FMTTYPE=image/jpeg:https://xceptionalheroes.org/wp-content/uploads/2024/04/IMG_3063.jpg
END:VEVENT
BEGIN:VEVENT
DTSTART;TZID=UTC:20241120T110000
DTEND;TZID=UTC:20241120T130000
DTSTAMP:20260424T154529
CREATED:20241109T232812Z
LAST-MODIFIED:20241109T232812Z
UID:3763-1732100400-1732107600@xceptionalheroes.org
SUMMARY:Wilderness Trails
DESCRIPTION:We are very excited to announce a new partnership with Wilderness Trails Zoo in Birch Run! \nBeginning this month\, Xceptional Heroes will work with the zoo with a variety of tasks to assist them with their day-to-day operations. \nThis might include assisting with food prep for the animals\, grounds maintenance and special event help. This first\, monthly event\, will encompass a bit of “house-keeping” details but we will definitely plan to get busy helping our new partners. \nIt’s quite possible that there will be some employment opportunities as our partnership grows. Please plan to pack a snack or lunch. \nPlease\, also wear your XH shirts and closed toe shoes and bring work gloves. Participants are encouraged to carpool. We will do our best to assist with coordinating carpools. \nWe are also looking for a few committed volunteers that might be able to help with driving. \n  \nClick here to sign up! \n 
URL:https://xceptionalheroes.org/event/wilderness-trails-4/
LOCATION:Wilderness Trails Animal Zoo\, 11721 Gera Rd\, Birch Run\, MI\, 48415\, United States
CATEGORIES:Free For All
ATTACH;FMTTYPE=image/jpeg:https://xceptionalheroes.org/wp-content/uploads/2024/08/IMG_6014-scaled.jpg
END:VEVENT
BEGIN:VEVENT
DTSTART;TZID=UTC:20241118T180000
DTEND;TZID=UTC:20241118T200000
DTSTAMP:20260424T154529
CREATED:20241108T130318Z
LAST-MODIFIED:20241108T130318Z
UID:3754-1731952800-1731960000@xceptionalheroes.org
SUMMARY:XH North Craft Night
DESCRIPTION:Are you looking for something crafty to do\, but can’t make our normal location? \nWe have just the thing for you! XH North Craft Night in Clio! \nRobin will be putting together amazing craft activities for you to join us at the Lacure Community Center for! \n  \nClick this link to sign up! \n 
URL:https://xceptionalheroes.org/event/xh-north-craft-night-2/
LOCATION:12167 N Lewis Rd Clio\, MI\, 12167 N Lewis Rd\, Clio\, Michigan\, 48420
CATEGORIES:Free For All
ATTACH;FMTTYPE=image/jpeg:https://xceptionalheroes.org/wp-content/uploads/2024/10/IMG_8119-scaled.jpeg
END:VEVENT
BEGIN:VEVENT
DTSTART;TZID=UTC:20241116T170000
DTEND;TZID=UTC:20241116T220000
DTSTAMP:20260424T154529
CREATED:20241108T130119Z
LAST-MODIFIED:20241108T130119Z
UID:3751-1731776400-1731794400@xceptionalheroes.org
SUMMARY:Flint Firebirds Events
DESCRIPTION:Are you ready for a Firebirds game! \nWe were  gifted tickets to watch the Firebirds on 11/16/2024 and we couldn’t be more grateful! \nMTA is gifting us transportation to the game so there will be limited seats. We would love to give Heroes the first pick on tickets and then we will award tickets to caregivers. \nIf you plan on riding the transportation provided to us by MTA you will have to be at the Walmart in Grand Blanc by 5pm and we should be returning to Grand Blanc by 10-10:30. \nThe deadline to sign up for this game is going to be 11/8! Please only sign up if you can attend the event so that all tickets are accounted for. \n  \nClick the link below to sign up! \n 
URL:https://xceptionalheroes.org/event/flint-firebirds-events/
LOCATION:Flint Iceland Arena\, 1160 Elms Rd\, Flint\, MI\, 48532\, United States
CATEGORIES:Free For All
ATTACH;FMTTYPE=image/jpeg:https://xceptionalheroes.org/wp-content/uploads/2024/11/1802_Firebirds.jpg
END:VEVENT
BEGIN:VEVENT
DTSTART;TZID=UTC:20241115T180000
DTEND;TZID=UTC:20241115T200000
DTSTAMP:20260424T154529
CREATED:20241108T125755Z
LAST-MODIFIED:20241108T125755Z
UID:3749-1731693600-1731700800@xceptionalheroes.org
SUMMARY:Bowling Night
DESCRIPTION:Join us for a “Rolling good time” at Grand Blanc Lanes for Bowling Night with Bubba! \nEach game will be $10 and we welcome parents and caregivers to join in if they please as well! \nPlease make sure to sign up if you would like to bowl so that we have enough lanes reserved. \n  \nClick the link below to sign up! \n  \n  \n  \n 
URL:https://xceptionalheroes.org/event/bowling-night-6/
LOCATION:Grand Blanc Lanes\, 5301 S. Saginaw St\, Grand Blanc\, MI\, 48439\, United States
CATEGORIES:Ticket or Entry Costs
ATTACH;FMTTYPE=image/jpeg:https://xceptionalheroes.org/wp-content/uploads/2024/03/4b9bd515-b386-40f9-b78c-796e5861ae4b.jpg
END:VEVENT
BEGIN:VEVENT
DTSTART;TZID=UTC:20241114T120000
DTEND;TZID=UTC:20241114T130000
DTSTAMP:20260424T154529
CREATED:20241108T125301Z
LAST-MODIFIED:20241108T125301Z
UID:3747-1731585600-1731589200@xceptionalheroes.org
SUMMARY:Fitness Class
DESCRIPTION:We are going back to the gym for Fitness this month! \nThis is a great way to get your body moving and stay active during the cold months! \nTamara always has fun ideas to keep Fitness fun and interesting! \nMake sure to wear the proper shoes and to bring lots of water with you! \n  \nClick the link below to sign up! \n  \n 
URL:https://xceptionalheroes.org/event/fitness-class-45/
LOCATION:Ascension Genesys Health Club\, 801 Health Park Blvd\, Grand Blanc\, MI\, 48439
CATEGORIES:Free For All
ATTACH;FMTTYPE=image/jpeg:https://xceptionalheroes.org/wp-content/uploads/2024/04/IMG_3059-scaled.jpeg
END:VEVENT
BEGIN:VEVENT
DTSTART;TZID=UTC:20241113T180000
DTEND;TZID=UTC:20241113T200000
DTSTAMP:20260424T154529
CREATED:20241108T125103Z
LAST-MODIFIED:20241108T125103Z
UID:3745-1731520800-1731528000@xceptionalheroes.org
SUMMARY:Craft Night
DESCRIPTION:Come join Robin for a fun and creative Craft Night! \nThis event is free thanks to our amazing donations that go towards every craft every Month! \nRobin keeps it interesting by choosing a different craft to do with the Heroes each month! \nIf you want to donate any craft supplies we have a wishlist link on our Facebook page! \nClick the link below to sign up! \n  \n 
URL:https://xceptionalheroes.org/event/craft-night-7/
LOCATION:Richfield Road Church\, 6259 Richfield Rd\, Flint\, 48506
CATEGORIES:Free For All
ATTACH;FMTTYPE=image/jpeg:https://xceptionalheroes.org/wp-content/uploads/2024/04/IMG_3103.jpg
END:VEVENT
BEGIN:VEVENT
DTSTART;TZID=UTC:20241112T140000
DTEND;TZID=UTC:20241112T160000
DTSTAMP:20260424T154529
CREATED:20241108T124032Z
LAST-MODIFIED:20241108T124032Z
UID:3736-1731420000-1731427200@xceptionalheroes.org
SUMMARY:FIA Art Event
DESCRIPTION:Join us for an amazing opportunity at The Flint Institute of Arts! \nWe have been invited back to learn about the culture of art and learn a little bit about the background of some pieces. \nWe may even get to create some art of our own and learn some techniques when it comes to creating art! \n  \nClick the link below to sign up! \n  \n 
URL:https://xceptionalheroes.org/event/fia-art-event/
LOCATION:Flint Institute of Arts
ATTACH;FMTTYPE=image/jpeg:https://xceptionalheroes.org/wp-content/uploads/2024/11/IMG_5609-scaled.jpg
END:VEVENT
BEGIN:VEVENT
DTSTART;TZID=UTC:20241108T180000
DTEND;TZID=UTC:20241108T200000
DTSTAMP:20260424T154529
CREATED:20241108T123030Z
LAST-MODIFIED:20241108T123030Z
UID:3734-1731088800-1731096000@xceptionalheroes.org
SUMMARY:Monthly Social
DESCRIPTION:Come join us for an amazing Monthly Social! \nThere will be lots of dancing\, socializing\, and nothing but fun to be had! \nFeel free to bring snacks to share with the group and come join us for a night full of meeting new friends! \nIf you would like to Volunteer use the link below to sign up! \n  \nClick here to sign up! \n  \n 
URL:https://xceptionalheroes.org/event/monthly-social-7/
LOCATION:Richfield Road Church\, 6259 Richfield Rd\, Flint\, 48506
CATEGORIES:Free For All
ATTACH;FMTTYPE=image/jpeg:https://xceptionalheroes.org/wp-content/uploads/2024/07/IMG_5438-scaled.jpg
END:VEVENT
BEGIN:VEVENT
DTSTART;TZID=UTC:20241105T130000
DTEND;TZID=UTC:20241119T140000
DTSTAMP:20260424T154529
CREATED:20241109T232147Z
LAST-MODIFIED:20241109T232147Z
UID:3758-1730811600-1732024800@xceptionalheroes.org
SUMMARY:Pickle-ball
DESCRIPTION:Our Heroes have been participating in a few different Pickle-ball classes throughout the past months and we are lucky enough to be able to provide the class again for the heroes! \nThey are able to learn the game of Pickle-ball and learn the techniques and rules of the games. They have really enjoyed these 3-4 week courses and we are so blessed to be able to provide this for them!
URL:https://xceptionalheroes.org/event/pickle-ball/
LOCATION:Ascension Genesys Health Club\, 801 Health Park Blvd\, Grand Blanc\, MI\, 48439
ATTACH;FMTTYPE=image/jpeg:https://xceptionalheroes.org/wp-content/uploads/2024/11/IMG_6992-scaled.jpg
END:VEVENT
BEGIN:VEVENT
DTSTART;TZID=UTC:20241030T180000
DTEND;TZID=UTC:20241030T200000
DTSTAMP:20260424T154529
CREATED:20241002T151207Z
LAST-MODIFIED:20241002T151207Z
UID:3721-1730311200-1730318400@xceptionalheroes.org
SUMMARY:XH North Craft Night
DESCRIPTION:Are you looking for something crafty to do\, but can’t make our normal location? \nWe have just the thing for you! XH North Craft Night in Clio! \nRobin will be putting together amazing craft activities for you to join us at the Lacure Community Center for! \nClick here to sign up! \n  \n 
URL:https://xceptionalheroes.org/event/xh-north-craft-night/
LOCATION:12167 N Lewis Rd Clio\, MI\, 12167 N Lewis Rd\, Clio\, Michigan\, 48420
CATEGORIES:Free For All
ATTACH;FMTTYPE=image/jpeg:https://xceptionalheroes.org/wp-content/uploads/2024/10/IMG_8119-scaled.jpeg
END:VEVENT
BEGIN:VEVENT
DTSTART;TZID=UTC:20241024T120000
DTEND;TZID=UTC:20241024T130000
DTSTAMP:20260424T154529
CREATED:20241002T151019Z
LAST-MODIFIED:20241002T151019Z
UID:3719-1729771200-1729774800@xceptionalheroes.org
SUMMARY:Fitness Class w/ Tamara
DESCRIPTION:We are going back to the gym for Fitness this month! \nThis is a great way to get your body moving and stay active during the cold months! \nTamara always has fun ideas to keep Fitness fun and interesting! \nMake sure to wear the proper shoes and to bring lots of water with you! \nClick here to sign up! \n  \n 
URL:https://xceptionalheroes.org/event/fitness-class-w-tamara-5/
LOCATION:Ascension Genesys Health Club\, 801 Health Park Blvd\, Grand Blanc\, MI\, 48439
CATEGORIES:Free For All
ATTACH;FMTTYPE=image/jpeg:https://xceptionalheroes.org/wp-content/uploads/2024/03/IMG_3036-scaled.jpeg
END:VEVENT
BEGIN:VEVENT
DTSTART;TZID=UTC:20241023T173000
DTEND;TZID=UTC:20241023T190000
DTSTAMP:20260424T154529
CREATED:20241002T150428Z
LAST-MODIFIED:20241002T151312Z
UID:3705-1729704600-1729710000@xceptionalheroes.org
SUMMARY:XH North Bingo Night
DESCRIPTION:Join us for our Third XH North event! \nWe will be doing Bingo Night with Bubba in Clio! \nWe ask that you bring 2.75 in quarters to play with and we ask that you tell all your friends so that we can add to our North participation! \nClick here to sign up! \n  \n  \n 
URL:https://xceptionalheroes.org/event/xh-north-bingo-night/
LOCATION:12167 N Lewis Rd Clio\, MI\, 12167 N Lewis Rd\, Clio\, Michigan\, 48420
CATEGORIES:Ticket or Entry Costs
ATTACH;FMTTYPE=image/jpeg:https://xceptionalheroes.org/wp-content/uploads/2024/04/IMG_3062.jpg
END:VEVENT
BEGIN:VEVENT
DTSTART;TZID=UTC:20241023T140000
DTEND;TZID=UTC:20241023T144500
DTSTAMP:20260424T154529
CREATED:20241002T150803Z
LAST-MODIFIED:20241002T150803Z
UID:3717-1729692000-1729694700@xceptionalheroes.org
SUMMARY:FIM Music Event
DESCRIPTION:Join us for some Music Therapy fun! \nFlint Institute of Music is welcoming us for a 45 minute class to teach us about about different instruments\, music generes\, and how to use different music instruments. \nThis is an amazing opportunity and has gone to show that music can be theraputic or most! \nClick below to sign up! \n  \n 
URL:https://xceptionalheroes.org/event/fim-music-event/
LOCATION:FIM
CATEGORIES:Free For All
END:VEVENT
BEGIN:VEVENT
DTSTART;TZID=UTC:20241018T180000
DTEND;TZID=UTC:20241018T200000
DTSTAMP:20260424T154529
CREATED:20241002T144944Z
LAST-MODIFIED:20241002T144944Z
UID:3703-1729274400-1729281600@xceptionalheroes.org
SUMMARY:Bowling Night
DESCRIPTION:Join us for a “Rolling good time” at Grand Blanc Lanes for Bowling Night with Bubba! \nEach game will be $10 and we welcome parents and caregivers to join in if they please as well! \nPlease make sure to sign up if you would like to bowl so that we have enought lanes reserved. \n  \nClick here to sign up! \n  \n 
URL:https://xceptionalheroes.org/event/bowling-night-5/
LOCATION:Grand Blanc Lanes\, 5301 S. Saginaw St\, Grand Blanc\, MI\, 48439\, United States
CATEGORIES:Ticket or Entry Costs
ATTACH;FMTTYPE=image/jpeg:https://xceptionalheroes.org/wp-content/uploads/2024/03/PHOTO-2024-02-03-09-16-02.jpg
END:VEVENT
BEGIN:VEVENT
DTSTART;TZID=UTC:20241017T120000
DTEND;TZID=UTC:20241017T130000
DTSTAMP:20260424T154529
CREATED:20241002T144709Z
LAST-MODIFIED:20241002T144709Z
UID:3700-1729166400-1729170000@xceptionalheroes.org
SUMMARY:Fitness Class w/ Tamara
DESCRIPTION:We are going back to the gym for Fitness this month! \nThis is a great way to get your body moving and stay active during the cold months! \nTamara always has fun ideas to keep Fitness fun and interesting! \nMake sure to wear the proper shoes and to bring lots of water with you! \n  \nClick here to sign up! \n  \n 
URL:https://xceptionalheroes.org/event/fitness-class-w-tamara-4/
LOCATION:Ascension Genesys Health Club\, 801 Health Park Blvd\, Grand Blanc\, MI\, 48439
CATEGORIES:Free For All
ATTACH;FMTTYPE=image/jpeg:https://xceptionalheroes.org/wp-content/uploads/2024/03/IMG_3059-1-scaled.jpeg
END:VEVENT
BEGIN:VEVENT
DTSTART;TZID=UTC:20241016T180000
DTEND;TZID=UTC:20241016T200000
DTSTAMP:20260424T154529
CREATED:20241002T144350Z
LAST-MODIFIED:20241002T144350Z
UID:3698-1729101600-1729108800@xceptionalheroes.org
SUMMARY:Craft Night
DESCRIPTION:Come join Robin for a fun and creative Craft Night! \nThis event is free thanks to our amazing donations that go towards every craft every Month! \nRobin keeps it interesting by choosing a different craft to do with the Heroes each month! \n  \nClick here to sign up! \n  \n 
URL:https://xceptionalheroes.org/event/craft-night-6/
LOCATION:Richfield Road Church\, 6259 Richfield Rd\, Flint\, 48506
CATEGORIES:Free For All
ATTACH;FMTTYPE=image/jpeg:https://xceptionalheroes.org/wp-content/uploads/2024/04/IMG_3108.jpg
END:VEVENT
BEGIN:VEVENT
DTSTART;TZID=UTC:20241011T180000
DTEND;TZID=UTC:20241011T200000
DTSTAMP:20260424T154529
CREATED:20241002T144001Z
LAST-MODIFIED:20241002T144001Z
UID:3696-1728669600-1728676800@xceptionalheroes.org
SUMMARY:Harvest Party
DESCRIPTION:Are you all ready for a Harvest Party!? \nWe are going to have lots of fun Fall activities for you all! \nThere will be a sign up within the group for everyone to sign up to bring a dish to pass for the party! \nWe will have a DJ like our normal Monthly Social events! \nWe truly can not wait for the Harvest party and we know everyone will have a blast! \n  \nClick the link below to sign up! \n  \n 
URL:https://xceptionalheroes.org/event/harvest-party/
LOCATION:Faith Lutheran\, 12534 Holly Road\, Grand Blanc\, MI\, 48439\, United States
CATEGORIES:Free For All
ATTACH;FMTTYPE=image/jpeg:https://xceptionalheroes.org/wp-content/uploads/2023/09/party.jpg
END:VEVENT
BEGIN:VEVENT
DTSTART;TZID=UTC:20241010T120000
DTEND;TZID=UTC:20241010T130000
DTSTAMP:20260424T154529
CREATED:20241002T143440Z
LAST-MODIFIED:20241002T143440Z
UID:3694-1728561600-1728565200@xceptionalheroes.org
SUMMARY:Fitness Class w/ Tamara
DESCRIPTION:We are going back to the gym for Fitness this month! \nThis is a great way to get your body moving and stay active during the cold months! \nTamara always has fun ideas to keep Fitness fun and interesting! \nMake sure to wear the proper shoes and to bring lots of water with you! \n  \nClick the link below to sign up! \n  \n 
URL:https://xceptionalheroes.org/event/fitness-class-w-tamara-3/
LOCATION:Ascension Genesys Health Club\, 801 Health Park Blvd\, Grand Blanc\, MI\, 48439
CATEGORIES:Free For All
ATTACH;FMTTYPE=image/jpeg:https://xceptionalheroes.org/wp-content/uploads/2024/03/IMG_3036-scaled.jpeg
END:VEVENT
BEGIN:VEVENT
DTSTART;TZID=UTC:20241009T173000
DTEND;TZID=UTC:20241009T190000
DTSTAMP:20260424T154529
CREATED:20241002T142732Z
LAST-MODIFIED:20241002T142732Z
UID:3690-1728495000-1728500400@xceptionalheroes.org
SUMMARY:Bingo Night
DESCRIPTION:Come join us for a funfilled Bingo Night with Bubba! \nThis is a very popular event and always has everyone leaving with a smile on their face! \nMake sure to bring 2.75 in quarters with you to play with as Bubba has a fun progressive jackpot going! \n  \nClick the link to sign up! \n  \n 
URL:https://xceptionalheroes.org/event/bingo-night-16/
LOCATION:Richfield Road Church\, 6259 Richfield Rd\, Flint\, 48506
CATEGORIES:Ticket or Entry Costs
ATTACH;FMTTYPE=image/jpeg:https://xceptionalheroes.org/wp-content/uploads/2024/04/IMG_3066.jpg
END:VEVENT
BEGIN:VEVENT
DTSTART;TZID=UTC:20241009T110000
DTEND;TZID=UTC:20241009T130000
DTSTAMP:20260424T154529
CREATED:20241002T143232Z
LAST-MODIFIED:20241002T143232Z
UID:3692-1728471600-1728478800@xceptionalheroes.org
SUMMARY:Wilderness Trails
DESCRIPTION:We are very excited to announce a new partnership with Wilderness Trails Zoo in Birch Run! \nBeginning this month\, Xceptional Heroes will work with the zoo with a variety of tasks to assist them with their day-to-day operations. \nThis might include assisting with food prep for the animals\, grounds maintenance and special event help. This first\, monthly event\, will encompass a bit of “house-keeping” details but we will definitely plan to get busy helping our new partners. \nIt’s quite possible that there will be some employment opportunities as our partnership grows. Please plan to pack a snack or lunch. \nPlease\, also wear your XH shirts and closed toe shoes and bring work gloves. Participants are encouraged to carpool. We will do our best to assist with coordinating carpools. \nWe are also looking for a few committed volunteers that might be able to help with driving. \n  \nClick here to sign up! \n  \n 
URL:https://xceptionalheroes.org/event/wilderness-trails-3/
LOCATION:Wilderness Trails Animal Zoo\, 11721 Gera Rd\, Birch Run\, MI\, 48415\, United States
CATEGORIES:Free For All
ATTACH;FMTTYPE=image/jpeg:https://xceptionalheroes.org/wp-content/uploads/2024/08/IMG_6032-scaled.jpg
END:VEVENT
BEGIN:VEVENT
DTSTART;TZID=UTC:20241006T110000
DTEND;TZID=UTC:20241006T170000
DTSTAMP:20260424T154529
CREATED:20241002T142016Z
LAST-MODIFIED:20241002T142016Z
UID:3688-1728212400-1728234000@xceptionalheroes.org
SUMMARY:Movie and Lunch
DESCRIPTION:Join us for Movie and lunch at Buffalo Wild Wings! \nThe Heroes will be responsible for their own lunch and tickers for the movies. \nThe time and movie will be determined soon! \n  \nClick here to sign up! \n  \n 
URL:https://xceptionalheroes.org/event/movie-and-lunch-4/
LOCATION:NCG Triullium\, 8220 Trillium Circle Ave\, Grand Blanc\, MI\, 48439\, United States
CATEGORIES:Ticket or Entry Costs
ATTACH;FMTTYPE=image/jpeg:https://xceptionalheroes.org/wp-content/uploads/2023/11/dinner.jpg
END:VEVENT
END:VCALENDAR