BEGIN:VCALENDAR
VERSION:2.0
PRODID:-//Xceptional Heroes - ECPv6.15.20//NONSGML v1.0//EN
CALSCALE:GREGORIAN
METHOD:PUBLISH
X-WR-CALNAME:Xceptional Heroes
X-ORIGINAL-URL:https://xceptionalheroes.org
X-WR-CALDESC:Events for Xceptional Heroes
REFRESH-INTERVAL;VALUE=DURATION:PT1H
X-Robots-Tag:noindex
X-PUBLISHED-TTL:PT1H
BEGIN:VTIMEZONE
TZID:UTC
BEGIN:STANDARD
TZOFFSETFROM:+0000
TZOFFSETTO:+0000
TZNAME:UTC
DTSTART:20230101T000000
END:STANDARD
END:VTIMEZONE
BEGIN:VEVENT
DTSTART;TZID=UTC:20241011T180000
DTEND;TZID=UTC:20241011T200000
DTSTAMP:20260424T154527
CREATED:20241002T144001Z
LAST-MODIFIED:20241002T144001Z
UID:3696-1728669600-1728676800@xceptionalheroes.org
SUMMARY:Harvest Party
DESCRIPTION:Are you all ready for a Harvest Party!? \nWe are going to have lots of fun Fall activities for you all! \nThere will be a sign up within the group for everyone to sign up to bring a dish to pass for the party! \nWe will have a DJ like our normal Monthly Social events! \nWe truly can not wait for the Harvest party and we know everyone will have a blast! \n  \nClick the link below to sign up! \n  \n 
URL:https://xceptionalheroes.org/event/harvest-party/
LOCATION:Faith Lutheran\, 12534 Holly Road\, Grand Blanc\, MI\, 48439\, United States
CATEGORIES:Free For All
ATTACH;FMTTYPE=image/jpeg:https://xceptionalheroes.org/wp-content/uploads/2023/09/party.jpg
END:VEVENT
BEGIN:VEVENT
DTSTART;TZID=UTC:20241010T120000
DTEND;TZID=UTC:20241010T130000
DTSTAMP:20260424T154527
CREATED:20241002T143440Z
LAST-MODIFIED:20241002T143440Z
UID:3694-1728561600-1728565200@xceptionalheroes.org
SUMMARY:Fitness Class w/ Tamara
DESCRIPTION:We are going back to the gym for Fitness this month! \nThis is a great way to get your body moving and stay active during the cold months! \nTamara always has fun ideas to keep Fitness fun and interesting! \nMake sure to wear the proper shoes and to bring lots of water with you! \n  \nClick the link below to sign up! \n  \n 
URL:https://xceptionalheroes.org/event/fitness-class-w-tamara-3/
LOCATION:Ascension Genesys Health Club\, 801 Health Park Blvd\, Grand Blanc\, MI\, 48439
CATEGORIES:Free For All
ATTACH;FMTTYPE=image/jpeg:https://xceptionalheroes.org/wp-content/uploads/2024/03/IMG_3036-scaled.jpeg
END:VEVENT
BEGIN:VEVENT
DTSTART;TZID=UTC:20241009T173000
DTEND;TZID=UTC:20241009T190000
DTSTAMP:20260424T154527
CREATED:20241002T142732Z
LAST-MODIFIED:20241002T142732Z
UID:3690-1728495000-1728500400@xceptionalheroes.org
SUMMARY:Bingo Night
DESCRIPTION:Come join us for a funfilled Bingo Night with Bubba! \nThis is a very popular event and always has everyone leaving with a smile on their face! \nMake sure to bring 2.75 in quarters with you to play with as Bubba has a fun progressive jackpot going! \n  \nClick the link to sign up! \n  \n 
URL:https://xceptionalheroes.org/event/bingo-night-16/
LOCATION:Richfield Road Church\, 6259 Richfield Rd\, Flint\, 48506
CATEGORIES:Ticket or Entry Costs
ATTACH;FMTTYPE=image/jpeg:https://xceptionalheroes.org/wp-content/uploads/2024/04/IMG_3066.jpg
END:VEVENT
BEGIN:VEVENT
DTSTART;TZID=UTC:20241009T110000
DTEND;TZID=UTC:20241009T130000
DTSTAMP:20260424T154527
CREATED:20241002T143232Z
LAST-MODIFIED:20241002T143232Z
UID:3692-1728471600-1728478800@xceptionalheroes.org
SUMMARY:Wilderness Trails
DESCRIPTION:We are very excited to announce a new partnership with Wilderness Trails Zoo in Birch Run! \nBeginning this month\, Xceptional Heroes will work with the zoo with a variety of tasks to assist them with their day-to-day operations. \nThis might include assisting with food prep for the animals\, grounds maintenance and special event help. This first\, monthly event\, will encompass a bit of “house-keeping” details but we will definitely plan to get busy helping our new partners. \nIt’s quite possible that there will be some employment opportunities as our partnership grows. Please plan to pack a snack or lunch. \nPlease\, also wear your XH shirts and closed toe shoes and bring work gloves. Participants are encouraged to carpool. We will do our best to assist with coordinating carpools. \nWe are also looking for a few committed volunteers that might be able to help with driving. \n  \nClick here to sign up! \n  \n 
URL:https://xceptionalheroes.org/event/wilderness-trails-3/
LOCATION:Wilderness Trails Animal Zoo\, 11721 Gera Rd\, Birch Run\, MI\, 48415\, United States
CATEGORIES:Free For All
ATTACH;FMTTYPE=image/jpeg:https://xceptionalheroes.org/wp-content/uploads/2024/08/IMG_6032-scaled.jpg
END:VEVENT
BEGIN:VEVENT
DTSTART;TZID=UTC:20241006T110000
DTEND;TZID=UTC:20241006T170000
DTSTAMP:20260424T154527
CREATED:20241002T142016Z
LAST-MODIFIED:20241002T142016Z
UID:3688-1728212400-1728234000@xceptionalheroes.org
SUMMARY:Movie and Lunch
DESCRIPTION:Join us for Movie and lunch at Buffalo Wild Wings! \nThe Heroes will be responsible for their own lunch and tickers for the movies. \nThe time and movie will be determined soon! \n  \nClick here to sign up! \n  \n 
URL:https://xceptionalheroes.org/event/movie-and-lunch-4/
LOCATION:NCG Triullium\, 8220 Trillium Circle Ave\, Grand Blanc\, MI\, 48439\, United States
CATEGORIES:Ticket or Entry Costs
ATTACH;FMTTYPE=image/jpeg:https://xceptionalheroes.org/wp-content/uploads/2023/11/dinner.jpg
END:VEVENT
BEGIN:VEVENT
DTSTART;TZID=UTC:20241003T120000
DTEND;TZID=UTC:20241003T130000
DTSTAMP:20260424T154527
CREATED:20241002T141819Z
LAST-MODIFIED:20241002T141819Z
UID:3686-1727956800-1727960400@xceptionalheroes.org
SUMMARY:Fitness Class w/ Tamara
DESCRIPTION:We are going back to the gym for Fitness this month! \nThis is a great way to get your body moving and stay active during the cold months! \nTamara always has fun ideas to keep Fitness fun and interesting! \nMake sure to wear the proper shoes and to bring lots of water with you! \n  \nClick here to sign up! \n  \n 
URL:https://xceptionalheroes.org/event/fitness-class-w-tamara-2/
LOCATION:Ascension Genesys Health Club\, 801 Health Park Blvd\, Grand Blanc\, MI\, 48439
CATEGORIES:Free For All
ATTACH;FMTTYPE=image/jpeg:https://xceptionalheroes.org/wp-content/uploads/2024/03/IMG_3038-scaled.jpeg
END:VEVENT
BEGIN:VEVENT
DTSTART;TZID=UTC:20241002T173000
DTEND;TZID=UTC:20241002T190000
DTSTAMP:20260424T154527
CREATED:20241002T141553Z
LAST-MODIFIED:20241002T141553Z
UID:3684-1727890200-1727895600@xceptionalheroes.org
SUMMARY:Bingo Night
DESCRIPTION:Come join us for a funfilled Bingo Night with Bubba! \nThis is a very popular event and always has everyone leaving with a smile on their face! \nMake sure to bring 2.75 in quarters with you to play with as Bubba has a fun progressive jackpot going! \n  \nClick the link below to sign up! \n  \n 
URL:https://xceptionalheroes.org/event/bingo-night-15/
LOCATION:Richfield Road Church\, 6259 Richfield Rd\, Flint\, 48506
CATEGORIES:Free For All
ATTACH;FMTTYPE=image/jpeg:https://xceptionalheroes.org/wp-content/uploads/2024/04/IMG_3073.jpg
END:VEVENT
BEGIN:VEVENT
DTSTART;TZID=UTC:20240930T173000
DTEND;TZID=UTC:20240930T190000
DTSTAMP:20260424T154527
CREATED:20240830T233437Z
LAST-MODIFIED:20240830T233437Z
UID:3649-1727717400-1727722800@xceptionalheroes.org
SUMMARY:Craft Night in the North
DESCRIPTION:Welcome to Craft Night in the North!\n\nJoin us in Clio for a funfilled Craft Night and be able to let your creativity fly!\n\nThere is no cost to this event as all the craft supplies have been donated!\n\nClick here to sign up!
URL:https://xceptionalheroes.org/event/craft-night-in-the-north/
LOCATION:12167 N Lewis Rd Clio\, MI\, 12167 N Lewis Rd\, Clio\, Michigan\, 48420
ATTACH;FMTTYPE=image/jpeg:https://xceptionalheroes.org/wp-content/uploads/2024/04/IMG_3098.jpg
END:VEVENT
BEGIN:VEVENT
DTSTART;TZID=UTC:20240925T173000
DTEND;TZID=UTC:20240925T190000
DTSTAMP:20260424T154527
CREATED:20240830T233238Z
LAST-MODIFIED:20240830T233238Z
UID:3647-1727285400-1727290800@xceptionalheroes.org
SUMMARY:Bingo Night
DESCRIPTION:Come join us for a funfilled Bingo Night!\n\nThis is a free event\, but you do need to bring 2.75 in quarters to play with!\n\nThis is a very popular event and would love to invite anyone that has not joined yet!\n\nClick here to sign up!
URL:https://xceptionalheroes.org/event/bingo-night-14/
LOCATION:Richfield Road Church\, 6259 Richfield Rd\, Flint\, 48506
CATEGORIES:Ticket or Entry Costs
ATTACH;FMTTYPE=image/jpeg:https://xceptionalheroes.org/wp-content/uploads/2024/04/IMG_3065.jpg
END:VEVENT
BEGIN:VEVENT
DTSTART;TZID=UTC:20240922T110000
DTEND;TZID=UTC:20240922T170000
DTSTAMP:20260424T154527
CREATED:20240830T232902Z
LAST-MODIFIED:20240830T232902Z
UID:3645-1727002800-1727024400@xceptionalheroes.org
SUMMARY:Lunch and Movie
DESCRIPTION:Join us for lunch at Buffalo Wild Wings and a movie right after!\n\nThe Heroes are responsible for their movie ticket and lunch!\n\nThe Movie will be determined closer to the event!\n\nClick here to sign up!
URL:https://xceptionalheroes.org/event/lunch-and-movie-2/
LOCATION:NCG Triullium\, 8220 Trillium Circle Ave\, Grand Blanc\, MI\, 48439\, United States
CATEGORIES:Ticket or Entry Costs
ATTACH;FMTTYPE=image/jpeg:https://xceptionalheroes.org/wp-content/uploads/2023/11/dinner.jpg
END:VEVENT
BEGIN:VEVENT
DTSTART;TZID=UTC:20240920T180000
DTEND;TZID=UTC:20240920T200000
DTSTAMP:20260424T154527
CREATED:20240830T232629Z
LAST-MODIFIED:20240830T232629Z
UID:3643-1726855200-1726862400@xceptionalheroes.org
SUMMARY:Bowling Night w/ Bubba
DESCRIPTION:Join Bubba for a night full of Bowling!\n\nIt will be $10 per game for the Heroes and we ask that you arrive a little bit early so that we can get lanes figured out and not have it cut into our bowling time!\n\nClick here to sign up!
URL:https://xceptionalheroes.org/event/bowling-night-w-bubba/
LOCATION:Grand Blanc Lanes\, 5301 S. Saginaw St\, Grand Blanc\, MI\, 48439\, United States
CATEGORIES:Ticket or Entry Costs
ATTACH;FMTTYPE=image/jpeg:https://xceptionalheroes.org/wp-content/uploads/2024/03/PHOTO-2024-02-03-09-16-02-2.jpg
END:VEVENT
BEGIN:VEVENT
DTSTART;TZID=UTC:20240919T120000
DTEND;TZID=UTC:20240919T130000
DTSTAMP:20260424T154527
CREATED:20240830T230128Z
LAST-MODIFIED:20240830T230128Z
UID:3641-1726747200-1726750800@xceptionalheroes.org
SUMMARY:Fitness Class w/ Tamara
DESCRIPTION:Are you ready for Fitness Class with Tamara?!\n\nWe will be heading back to Mundy Miracles Commons!\n\nMake sure to dress for the weather and to wear the appropriate shoes!\n\nClick  here to sign up!
URL:https://xceptionalheroes.org/event/fitness-class-w-tamara/
LOCATION:Mundy Miracle Commons\, 1286 W. Hill Rd\, Flint\, 48507
CATEGORIES:Free For All
ATTACH;FMTTYPE=image/jpeg:https://xceptionalheroes.org/wp-content/uploads/2024/08/IMG_3553.jpg
END:VEVENT
BEGIN:VEVENT
DTSTART;TZID=UTC:20240918T180000
DTEND;TZID=UTC:20240918T200000
DTSTAMP:20260424T154527
CREATED:20240830T225825Z
LAST-MODIFIED:20240830T225825Z
UID:3639-1726682400-1726689600@xceptionalheroes.org
SUMMARY:Craft Night
DESCRIPTION:Join Robin for Craft Night!\n\nThere is no cost to Craft Night thanks to the numerous donations of craft supplies from some amzing people!\n\nThe craft that we will be making will be determined based on what supplies we have but Tina will surely let us know ahead of time!\n\nClick here to sign up!
URL:https://xceptionalheroes.org/event/craft-night-5/
LOCATION:Richfield Road Church\, 6259 Richfield Rd\, Flint\, 48506
CATEGORIES:Free For All
ATTACH;FMTTYPE=image/jpeg:https://xceptionalheroes.org/wp-content/uploads/2024/04/IMG_3108.jpg
END:VEVENT
BEGIN:VEVENT
DTSTART;TZID=UTC:20240918T110000
DTEND;TZID=UTC:20240918T130000
DTSTAMP:20260424T154527
CREATED:20240830T225554Z
LAST-MODIFIED:20240830T225554Z
UID:3637-1726657200-1726664400@xceptionalheroes.org
SUMMARY:Wilderness Trails
DESCRIPTION:We are very excited to announce a new partnership with Wilderness Trails Zoo in Birch Run!\n\nBeginning this month\, Xceptional Heroes will work with the zoo with a variety of tasks to assist them with their day-to-day operations.\n\nThis might include assisting with food prep for the animals\, grounds maintenance and special event help. This first\, monthly event\, will encompass a bit of “house-keeping” details but we will definitely plan to get busy helping our new partners.\n\nIt’s quite possible that there will be some employment opportunities as our partnership grows. Please plan to pack a snack or lunch.\n\nPlease\, also wear your XH shirts and closed toe shoes and bring work gloves. Participants are encouraged to carpool. We will do our best to assist with coordinating carpools.\n\nWe are also looking for a few committed volunteers that might be able to help with driving.\nIf you would love to help out message us or sign up as a volunteer with the link below!\n\nClick here to sign up!
URL:https://xceptionalheroes.org/event/wilderness-trails-2/
LOCATION:Wilderness Trails Animal Zoo\, 11721 Gera Rd\, Birch Run\, MI\, 48415\, United States
CATEGORIES:Free For All
ATTACH;FMTTYPE=image/jpeg:https://xceptionalheroes.org/wp-content/uploads/2024/08/IMG_6032-scaled.jpg
END:VEVENT
BEGIN:VEVENT
DTSTART;TZID=UTC:20240913T180000
DTEND;TZID=UTC:20240913T200000
DTSTAMP:20260424T154527
CREATED:20240830T225245Z
LAST-MODIFIED:20240830T225245Z
UID:3635-1726250400-1726257600@xceptionalheroes.org
SUMMARY:Monthly Social
DESCRIPTION:Come join us for an amazing Monthly Social!\n\nThere will be lots of dancing\, socializing\, and nothing but fun to be had!\n\nFeel free to bring snacks to share with the group and come join us for a night full of meeting new friends!\n\nIf you would like to Volunteer use the link below to sign up!\n\nClick here to sign up!
URL:https://xceptionalheroes.org/event/monthly-social-6/
LOCATION:Faith Lutheran\, 12534 Holly Road\, Grand Blanc\, MI\, 48439\, United States
CATEGORIES:Free For All
ATTACH;FMTTYPE=image/jpeg:https://xceptionalheroes.org/wp-content/uploads/2024/07/IMG_5457-scaled.jpg
END:VEVENT
BEGIN:VEVENT
DTSTART;TZID=UTC:20240912T173000
DTEND;TZID=UTC:20240912T190000
DTSTAMP:20260424T154527
CREATED:20240830T225005Z
LAST-MODIFIED:20240830T225005Z
UID:3632-1726162200-1726167600@xceptionalheroes.org
SUMMARY:Bingo Night in the North
DESCRIPTION:Welcome to our first event for XH North!\n\nWe have found a location to be able to offer more events in the Clio area for our Heroes that live farther North!\n\nCome join us for a funfilled Bingo Night!\n\nThis is a free event\, but you do need to bring 2.75 in quarters to play with! You may have noticed we upped the price a little but bubba wanted to create a bigger jackpot of winnings for Bingo!\n\nThis is a very popular event and would love to invite anyone that has not joined yet!\n\nClick here to sign up!
URL:https://xceptionalheroes.org/event/bingo-night-in-the-north/
LOCATION:12167 N Lewis Rd Clio\, MI\, 12167 N Lewis Rd\, Clio\, Michigan\, 48420
CATEGORIES:Ticket or Entry Costs
ATTACH;FMTTYPE=image/jpeg:https://xceptionalheroes.org/wp-content/uploads/2024/04/IMG_3064.jpg
END:VEVENT
BEGIN:VEVENT
DTSTART;TZID=UTC:20240912T120000
DTEND;TZID=UTC:20240912T130000
DTSTAMP:20260424T154527
CREATED:20240830T224517Z
LAST-MODIFIED:20240830T224517Z
UID:3630-1726142400-1726146000@xceptionalheroes.org
SUMMARY:Fitness w/ Tamara
DESCRIPTION:Are you ready for Fitness Class with Tamara?!\nWe will be heading back to Mundy Miracles Commons!\nMake sure to dress for the weather and to wear the appropriate shoes!\n\nClick here to sign up!
URL:https://xceptionalheroes.org/event/fitness-w-tamara-6/
LOCATION:Mundy Miracle Commons\, 1286 W. Hill Rd\, Flint\, 48507
CATEGORIES:Free For All
ATTACH;FMTTYPE=image/jpeg:https://xceptionalheroes.org/wp-content/uploads/2024/08/IMG_3553.jpg
END:VEVENT
BEGIN:VEVENT
DTSTART;TZID=UTC:20240911T173000
DTEND;TZID=UTC:20240911T190000
DTSTAMP:20260424T154527
CREATED:20240830T224259Z
LAST-MODIFIED:20240830T224259Z
UID:3628-1726075800-1726081200@xceptionalheroes.org
SUMMARY:Bingo Night
DESCRIPTION:Come join us for a funfilled Bingo Night! \nThis is a free event\, but you do need to bring 2.75 in quarters to play with! You may have noticed we upped the price a little but bubba wanted to create a bigger jackpot of winnings for Bingo! \nThis is a very popular event and would love to invite anyone that has not joined yet! \n  \nClick here to sign up! \n  \n 
URL:https://xceptionalheroes.org/event/bingo-night-13/
LOCATION:Richfield Road Church\, 6259 Richfield Rd\, Flint\, 48506
CATEGORIES:Ticket or Entry Costs
ATTACH;FMTTYPE=image/jpeg:https://xceptionalheroes.org/wp-content/uploads/2024/04/IMG_3066.jpg
END:VEVENT
BEGIN:VEVENT
DTSTART;TZID=UTC:20240905T120000
DTEND;TZID=UTC:20240905T130000
DTSTAMP:20260424T154527
CREATED:20240830T223949Z
LAST-MODIFIED:20240830T223949Z
UID:3625-1725537600-1725541200@xceptionalheroes.org
SUMMARY:Fitness w/ Tamara
DESCRIPTION:Are you ready for Fitness Class with Tamara?!\nWe will be heading back to Mundy Miracles Commons!\nMake sure to dress for the weather and to wear the appropriate shoes!\n\nClick here to sign up!
URL:https://xceptionalheroes.org/event/fitness-w-tamara-5/
LOCATION:Mundy Miracle Commons\, 1286 W. Hill Rd\, Flint\, 48507
ATTACH;FMTTYPE=image/jpeg:https://xceptionalheroes.org/wp-content/uploads/2024/08/IMG_3553.jpg
END:VEVENT
BEGIN:VEVENT
DTSTART;TZID=UTC:20240829T120000
DTEND;TZID=UTC:20240829T130000
DTSTAMP:20260424T154527
CREATED:20240806T164413Z
LAST-MODIFIED:20240806T164413Z
UID:3574-1724932800-1724936400@xceptionalheroes.org
SUMMARY:Fitness w/ Tamara
DESCRIPTION:Are you ready for Fitness Class with Tamara?! \nWe will be heading back to Mundy Miracles Commons! \nMake sure to dress for the weather and to wear the appropriate shoes! \n  \nClick here to sign up! \n 
URL:https://xceptionalheroes.org/event/fitness-w-tamara-4/
LOCATION:Mundy Miracle Commons\, 1286 W. Hill Rd\, Flint\, 48507
CATEGORIES:Free For All
ATTACH;FMTTYPE=image/jpeg:https://xceptionalheroes.org/wp-content/uploads/2024/08/IMG_3553.jpg
END:VEVENT
BEGIN:VEVENT
DTSTART;TZID=UTC:20240825T120000
DTEND;TZID=UTC:20240825T160000
DTSTAMP:20260424T154527
CREATED:20240806T162319Z
LAST-MODIFIED:20240816T211002Z
UID:3556-1724587200-1724601600@xceptionalheroes.org
SUMMARY:Beach Day
DESCRIPTION:Are you ready for a Beach Day!?!? \nJoin us for a funfilled Beach Day at Holly Recreation Area! \nWe highly encourage that the Heroes bring their own little packed lunch for the beach day as we will not be providing food. \nThere will be games and of course lots of swimming! \n  \nClick here to sign up! \n 
URL:https://xceptionalheroes.org/event/beach-day-3/
LOCATION:Holly Recreation Area\, 8100 Grange Hall Rd\, Holly\, Michigan\, 48422
CATEGORIES:Free For All
ATTACH;FMTTYPE=image/webp:https://xceptionalheroes.org/wp-content/uploads/2024/08/Landing-Page-Beach_Day.png.webp
END:VEVENT
BEGIN:VEVENT
DTSTART;TZID=UTC:20240822T120000
DTEND;TZID=UTC:20240822T130000
DTSTAMP:20260424T154527
CREATED:20240806T164230Z
LAST-MODIFIED:20240806T164230Z
UID:3572-1724328000-1724331600@xceptionalheroes.org
SUMMARY:Fitness w/ Tamara
DESCRIPTION:Are you ready for Fitness Class with Tamara?! \nWe will be heading back to Mundy Miracles Commons! \nMake sure to dress for the weather and to wear the appropriate shoes! \nClick here to sign up! \n 
URL:https://xceptionalheroes.org/event/fitness-w-tamara-3/
LOCATION:Mundy Miracle Commons\, 1286 W. Hill Rd\, Flint\, 48507
CATEGORIES:Free For All
ATTACH;FMTTYPE=image/jpeg:https://xceptionalheroes.org/wp-content/uploads/2024/08/IMG_3553.jpg
END:VEVENT
BEGIN:VEVENT
DTSTART;TZID=UTC:20240821T173000
DTEND;TZID=UTC:20240821T190000
DTSTAMP:20260424T154527
CREATED:20240806T164027Z
LAST-MODIFIED:20240806T164027Z
UID:3570-1724261400-1724266800@xceptionalheroes.org
SUMMARY:Bingo Night
DESCRIPTION:Come join us for a funfilled Bingo Night! \nThis is a free event\, but you do need to bring 2.50 in quarters to play with! \nThis is a very popular event and would love to invite anyone that has not joined yet! \n  \nClick here to sign up! \n 
URL:https://xceptionalheroes.org/event/bingo-night-12/
LOCATION:Richfield Road Church\, 6259 Richfield Rd\, Flint\, 48506
CATEGORIES:Free For All
ATTACH;FMTTYPE=image/jpeg:https://xceptionalheroes.org/wp-content/uploads/2024/04/IMG_3066.jpg
END:VEVENT
BEGIN:VEVENT
DTSTART;TZID=UTC:20240816T180000
DTEND;TZID=UTC:20240816T200000
DTSTAMP:20260424T154527
CREATED:20240806T163831Z
LAST-MODIFIED:20240806T163831Z
UID:3568-1723831200-1723838400@xceptionalheroes.org
SUMMARY:Bowling Night
DESCRIPTION:Join Bubba for a night full of Bowling! \nIt will be $10 per game for the Heroes and we ask that you arrive a little bit early so that we can get lanes figured out and not have it cut into our bowling time! \n  \nClick here to sign up! \n 
URL:https://xceptionalheroes.org/event/bowling-night-4/
LOCATION:Grand Blanc Lanes\, 5301 S. Saginaw St\, Grand Blanc\, MI\, 48439\, United States
CATEGORIES:Free For All,Ticket or Entry Costs
END:VEVENT
BEGIN:VEVENT
DTSTART;TZID=UTC:20240815T120000
DTEND;TZID=UTC:20240815T130000
DTSTAMP:20260424T154527
CREATED:20240806T163525Z
LAST-MODIFIED:20240806T163525Z
UID:3565-1723723200-1723726800@xceptionalheroes.org
SUMMARY:Fitness w/ Tamara
DESCRIPTION:Are you ready for Fitness Class with Tamara?! \nWe will be heading back to Mundy Miracles Commons! \nMake sure to dress for the weather and to wear the appropriate shoes! \n  \nClick here to sign up!
URL:https://xceptionalheroes.org/event/fitness-w-tamara-2/
LOCATION:Mundy Miracle Commons\, 1286 W. Hill Rd\, Flint\, 48507
CATEGORIES:Free For All
ATTACH;FMTTYPE=image/jpeg:https://xceptionalheroes.org/wp-content/uploads/2024/08/IMG_3553.jpg
END:VEVENT
BEGIN:VEVENT
DTSTART;TZID=UTC:20240814T180000
DTEND;TZID=UTC:20240814T200000
DTSTAMP:20260424T154527
CREATED:20240806T163244Z
LAST-MODIFIED:20240806T163244Z
UID:3563-1723658400-1723665600@xceptionalheroes.org
SUMMARY:Craft Night
DESCRIPTION:Join Tina for Craft Night! \nThere is no cost to Craft Night thanks to the numerous donations of craft supplies from some aamzing people! \nThe craft that we will be making will be determined based on what supplies we have but Tina will surely let us know ahead of time 🙂 \n  \nClick here to sign up! \n 
URL:https://xceptionalheroes.org/event/craft-night-4/
LOCATION:Richfield Road Church\, 6259 Richfield Rd\, Flint\, 48506
CATEGORIES:Free For All
ATTACH;FMTTYPE=image/jpeg:https://xceptionalheroes.org/wp-content/uploads/2024/04/IMG_3103.jpg
END:VEVENT
BEGIN:VEVENT
DTSTART;TZID=UTC:20240813T110000
DTEND;TZID=UTC:20240813T150000
DTSTAMP:20260424T154527
CREATED:20240806T162904Z
LAST-MODIFIED:20240806T162904Z
UID:3560-1723546800-1723561200@xceptionalheroes.org
SUMMARY:Wilderness Trails
DESCRIPTION:We are very excited to announce a new partnership with Wilderness Trails Zoo in Birch Run! \nBeginning this month\, Xceptional Heroes will work with the zoo with a variety of tasks to assist them with their day-to-day operations. \nThis might include assisting with food prep for the animals\, grounds maintenance and special event help. This first\, monthly event\, will encompass a bit of “house-keeping” details but we will definitely plan to get busy helping our new partners. \nIt’s quite possible that there will be some employment opportunities as our partnership grows. Please plan to pack a snack or lunch. \nPlease\, also wear your XH shirts and closed toe shoes and bring work gloves. Participants are encouraged to carpool. We will do our best to assist with coordinating carpools. \nWe are looking for a few committed volunteers that might be able to help with driving. \n  \nClick here to sign up! \n 
URL:https://xceptionalheroes.org/event/wilderness-trails/
LOCATION:Wilderness Trails Animal Zoo\, 11721 Gera Rd\, Birch Run\, MI\, 48415\, United States
CATEGORIES:Free For All
ATTACH;FMTTYPE=image/jpeg:https://xceptionalheroes.org/wp-content/uploads/2024/08/IMG_3556.jpg
END:VEVENT
BEGIN:VEVENT
DTSTART;TZID=UTC:20240809T180000
DTEND;TZID=UTC:20240809T200000
DTSTAMP:20260424T154527
CREATED:20240806T161929Z
LAST-MODIFIED:20240806T161929Z
UID:3554-1723226400-1723233600@xceptionalheroes.org
SUMMARY:Monthly Social
DESCRIPTION:Come join us for an amazing Monthly Social! \nThere will be lots of dancing\, socializing\, and nothing but fun to be had! \nFeel free to bring snacks to share with the group and come join us for a night full of meeting new friends! \n  \nClick here to sign up! \n  \n 
URL:https://xceptionalheroes.org/event/monthly-social-5/
LOCATION:Faith Lutheran\, 12534 Holly Road\, Grand Blanc\, MI\, 48439\, United States
CATEGORIES:Free For All
ATTACH;FMTTYPE=image/jpeg:https://xceptionalheroes.org/wp-content/uploads/2024/07/IMG_5457-scaled.jpg
END:VEVENT
BEGIN:VEVENT
DTSTART;TZID=UTC:20240808T120000
DTEND;TZID=UTC:20240808T140000
DTSTAMP:20260424T154527
CREATED:20240806T161528Z
LAST-MODIFIED:20240806T161528Z
UID:3551-1723118400-1723125600@xceptionalheroes.org
SUMMARY:Fitness w/ Tamara
DESCRIPTION:Join Tamara at the Grand Blanc Aquatic Center for a Fitness Class full of water! \nMake sure to dress accordingly and bring $5 in cash with you as we can pay upon our arrival this time around instead of paying through the site to avoid any issues! \n  \nClick the link below to sign up! \n 
URL:https://xceptionalheroes.org/event/fitness-w-tamara/
LOCATION:Grand Blanc HS East Campus\, 12500 Holly Rd\, Grand Blanc\, MI\, 48439
CATEGORIES:Ticket or Entry Costs
ATTACH;FMTTYPE=image/jpeg:https://xceptionalheroes.org/wp-content/uploads/2024/08/IMG_3559.jpg
END:VEVENT
BEGIN:VEVENT
DTSTART;TZID=UTC:20240807T173000
DTEND;TZID=UTC:20240807T190000
DTSTAMP:20260424T154527
CREATED:20240806T160957Z
LAST-MODIFIED:20240806T160957Z
UID:3549-1723051800-1723057200@xceptionalheroes.org
SUMMARY:Bingo Night
DESCRIPTION:Come join us for a funfilled Bingo Night!\n\nThis is a free event\, but you do need to bring 2.50 in quarters to play with!\n\nThis is a very popular event and would love to invite anyone that has not joined yet!\n\nClick the link below to sign up!
URL:https://xceptionalheroes.org/event/bingo-night-11/
LOCATION:Richfield Road Church\, 6259 Richfield Rd\, Flint\, 48506
CATEGORIES:Free For All
ATTACH;FMTTYPE=image/jpeg:https://xceptionalheroes.org/wp-content/uploads/2024/04/IMG_3066.jpg
END:VEVENT
END:VCALENDAR