BEGIN:VCALENDAR
VERSION:2.0
PRODID:-//Xceptional Heroes - ECPv6.15.20//NONSGML v1.0//EN
CALSCALE:GREGORIAN
METHOD:PUBLISH
X-WR-CALNAME:Xceptional Heroes
X-ORIGINAL-URL:https://xceptionalheroes.org
X-WR-CALDESC:Events for Xceptional Heroes
REFRESH-INTERVAL;VALUE=DURATION:PT1H
X-Robots-Tag:noindex
X-PUBLISHED-TTL:PT1H
BEGIN:VTIMEZONE
TZID:UTC
BEGIN:STANDARD
TZOFFSETFROM:+0000
TZOFFSETTO:+0000
TZNAME:UTC
DTSTART:20210101T000000
END:STANDARD
END:VTIMEZONE
BEGIN:VEVENT
DTSTART;TZID=UTC:20230216T120000
DTEND;TZID=UTC:20230216T130000
DTSTAMP:20260426T012659
CREATED:20230203T141345Z
LAST-MODIFIED:20230203T141345Z
UID:2300-1676548800-1676552400@xceptionalheroes.org
SUMMARY:Fitness with Cam
DESCRIPTION:Join Cam and Crew at Ascension Genesys Health Club for fitness\, wellness\, and nutrition tips!  Bring your accountability journals\, comfortable clothing\, and water!
URL:https://xceptionalheroes.org/event/fitness-with-cam-18/
LOCATION:Ascension Genesys Health Club\, 801 Health Park Blvd\, Grand Blanc\, MI\, 48439
CATEGORIES:Free For All
ATTACH;FMTTYPE=image/jpeg:https://xceptionalheroes.org/wp-content/uploads/2022/10/fitness.jpg
END:VEVENT
BEGIN:VEVENT
DTSTART;TZID=UTC:20230215T180000
DTEND;TZID=UTC:20230215T200000
DTSTAMP:20260426T012659
CREATED:20230203T194725Z
LAST-MODIFIED:20230203T195448Z
UID:2315-1676484000-1676491200@xceptionalheroes.org
SUMMARY:Cooking Class
DESCRIPTION:Join Teresa and Chris Huff at Grand Blanc High School-West Campus for our first cooking class!\nWe will be preparing Egg Roll In A Bowl for the meal. Chris and Teresa will select 2 participants from the class to go to the grocery store and learn how to shop for ingredients (this will rotate from class to class!)\n\nIn order to attend\, you must register through the link below. The cost is $10/class which covers the room rental and cost of the groceries.\nhttps://anc.apm.activecommunities.com/…/detail/207…
URL:https://xceptionalheroes.org/event/cooking-class/
LOCATION:Grand Blanc HS West Campus\, 1 Jewett Trail\, Grand Blanc\, MI\, 48439
CATEGORIES:Ticket or Entry Costs
ATTACH;FMTTYPE=image/jpeg:https://xceptionalheroes.org/wp-content/uploads/2023/02/eggroll.jpg
END:VEVENT
BEGIN:VEVENT
DTSTART;TZID=UTC:20230211T100000
DTEND;TZID=UTC:20230211T120000
DTSTAMP:20260426T012659
CREATED:20230203T142457Z
LAST-MODIFIED:20230203T195529Z
UID:2312-1676109600-1676116800@xceptionalheroes.org
SUMMARY:Open Swim
DESCRIPTION:Join us for Open Swim at Grand Blanc High School – West Campus! Pre-registration is required and there is a $5 fee that is paid at the time of registration. Below is the direct link to register for the event! You will want to bring a beach towel and flip flops/shower shoes!\nThere are 2 SESSIONS available:\n\nOpen Swim Feb 11th 10am-11am\nhttps://anc.apm.activecommunities.com/…/detail/213…\nOpen Swim Feb 11th 11am-12pm\nhttps://anc.apm.activecommunities.com/…/detail/214…
URL:https://xceptionalheroes.org/event/open-swim/
LOCATION:Grand Blanc HS East Campus\, 12500 Holly Rd\, Grand Blanc\, MI\, 48439
CATEGORIES:Ticket or Entry Costs
END:VEVENT
BEGIN:VEVENT
DTSTART;TZID=UTC:20230210T170000
DTEND;TZID=UTC:20230210T190000
DTSTAMP:20260426T012659
CREATED:20230122T222808Z
LAST-MODIFIED:20230122T222808Z
UID:2293-1676048400-1676055600@xceptionalheroes.org
SUMMARY:Bowling
DESCRIPTION:Join us in the Annex of Grand Blanc Lanes for 2 hours of bowling\, cornhole\, fowling\, and arcade games!  The cost is $10 and includes shoe rental.  GB Lanes has concessions available! \nhttps://www.signupgenius.com/go/10C0948A4A72FAAFBCE9-bowling
URL:https://xceptionalheroes.org/event/bowling-5/
LOCATION:Grand Blanc Lanes\, 5301 S. Saginaw St\, Grand Blanc\, MI\, 48439\, United States
CATEGORIES:Ticket or Entry Costs
ATTACH;FMTTYPE=image/jpeg:https://xceptionalheroes.org/wp-content/uploads/2022/10/bowling.jpg
END:VEVENT
BEGIN:VEVENT
DTSTART;TZID=UTC:20230209T120000
DTEND;TZID=UTC:20230209T130000
DTSTAMP:20260426T012659
CREATED:20230203T141317Z
LAST-MODIFIED:20230203T141317Z
UID:2298-1675944000-1675947600@xceptionalheroes.org
SUMMARY:Fitness with Cam
DESCRIPTION:Join Cam and Crew at Ascension Genesys Health Club for fitness\, wellness\, and nutrition tips!  Bring your accountability journals\, comfortable clothing\, and water!
URL:https://xceptionalheroes.org/event/fitness-with-cam-17/
LOCATION:Ascension Genesys Health Club\, 801 Health Park Blvd\, Grand Blanc\, MI\, 48439
CATEGORIES:Free For All
ATTACH;FMTTYPE=image/jpeg:https://xceptionalheroes.org/wp-content/uploads/2022/10/fitness.jpg
END:VEVENT
BEGIN:VEVENT
DTSTART;TZID=UTC:20230207T183000
DTEND;TZID=UTC:20230207T193000
DTSTAMP:20260426T012659
CREATED:20230203T141853Z
LAST-MODIFIED:20230203T141853Z
UID:2308-1675794600-1675798200@xceptionalheroes.org
SUMMARY:Yoga with Kelsey
DESCRIPTION:Kelsey is a certified yoga instructor and she is also an amputee.  Kelsey walks the same path as our Heroes and she has so much to offer our group!  Kelsey has had national coverage for her courage and ability to overcome adversity! \nDress comfortably\, bring your yoga mats\, and water!  Ladies\, keep in mind that yoga involves a lot of inverted poses so be mindful to wear tops that won’t slide up and gentlemen\, please wear pants that will stay up!  Yoga is typically done in bare feet\, but if you are uncomfortable with that\, you can purchase yoga socks. \nWe have plenty of yoga mats available\, but if you have your own mat please bring it along with plenty of water!
URL:https://xceptionalheroes.org/event/yoga-with-kelsey-6/
LOCATION:Faith Lutheran\, 12534 Holly Road\, Grand Blanc\, MI\, 48439\, United States
CATEGORIES:Free For All
ATTACH;FMTTYPE=image/jpeg:https://xceptionalheroes.org/wp-content/uploads/2022/10/yoga.jpg
END:VEVENT
BEGIN:VEVENT
DTSTART;TZID=UTC:20230203T080000
DTEND;TZID=UTC:20230203T170000
DTSTAMP:20260426T012659
CREATED:20230203T141802Z
LAST-MODIFIED:20230203T141802Z
UID:2304-1675411200-1675443600@xceptionalheroes.org
SUMMARY:Special Olympics Polar Plunge
DESCRIPTION:Go to the Fenton Moose Lodge and show your support for all the plungers!  XH does not have a team jumping this year\, but we always love to show support for our friends at Special Olympics!
URL:https://xceptionalheroes.org/event/special-olympics-polar-plunge/
LOCATION:Fenton Moose Lodge\, 2245 Sonora Drive\, Fenton\, MI\, 48430
ATTACH;FMTTYPE=image/jpeg:https://xceptionalheroes.org/wp-content/uploads/2023/02/polar.jpg
END:VEVENT
BEGIN:VEVENT
DTSTART;TZID=UTC:20230202T120000
DTEND;TZID=UTC:20230202T130000
DTSTAMP:20260426T012659
CREATED:20230203T141245Z
LAST-MODIFIED:20230203T141245Z
UID:2296-1675339200-1675342800@xceptionalheroes.org
SUMMARY:Fitness with Cam
DESCRIPTION:Join Cam and Crew at Ascension Genesys Health Club for fitness\, wellness\, and nutrition tips!  Bring your accountability journals\, comfortable clothing\, and water!
URL:https://xceptionalheroes.org/event/fitness-with-cam-16/
LOCATION:Ascension Genesys Health Club\, 801 Health Park Blvd\, Grand Blanc\, MI\, 48439
CATEGORIES:Free For All
ATTACH;FMTTYPE=image/jpeg:https://xceptionalheroes.org/wp-content/uploads/2022/10/fitness.jpg
END:VEVENT
BEGIN:VEVENT
DTSTART;TZID=UTC:20230131T173000
DTEND;TZID=UTC:20230131T190000
DTSTAMP:20260426T012659
CREATED:20230101T160217Z
LAST-MODIFIED:20230101T160217Z
UID:2267-1675186200-1675191600@xceptionalheroes.org
SUMMARY:Yoga with Kelsey
DESCRIPTION:Kelsey is a certified yoga instructor and she is also an amputee.  Kelsey walks the same path as our Heroes and she has so much to offer our group!  Kelsey has had national coverage for her courage and ability to overcome adversity! \nDress comfortably\, bring your yoga mats\, and water!  Ladies\, keep in mind that yoga involves a lot of inverted poses so be mindful to wear tops that won’t slide up and gentlemen\, please wear pants that will stay up!  Yoga is typically done in bare feet\, but if you are uncomfortable with that\, you can purchase yoga socks. \nWe have plenty of yoga mats available\, but if you have your own mat please bring it along with plenty of water!
URL:https://xceptionalheroes.org/event/yoga-with-kelsey-5/
LOCATION:Faith Lutheran\, 12534 Holly Road\, Grand Blanc\, MI\, 48439\, United States
CATEGORIES:Free For All
ATTACH;FMTTYPE=image/jpeg:https://xceptionalheroes.org/wp-content/uploads/2022/10/yoga.jpg
END:VEVENT
BEGIN:VEVENT
DTSTART;TZID=UTC:20230127T170000
DTEND;TZID=UTC:20230127T190000
DTSTAMP:20260426T012659
CREATED:20230101T194504Z
LAST-MODIFIED:20230101T194504Z
UID:2275-1674838800-1674846000@xceptionalheroes.org
SUMMARY:Bowling
DESCRIPTION:Join us in the Annex of Grand Blanc Lanes for 2 hours of bowling\, cornhole\, fowling\, and arcade games!  The cost is $10 and includes shoe rental.  GB Lanes has concessions available!
URL:https://xceptionalheroes.org/event/bowling-4/
LOCATION:Grand Blanc Lanes\, 5301 S. Saginaw St\, Grand Blanc\, MI\, 48439\, United States
CATEGORIES:Ticket or Entry Costs
ATTACH;FMTTYPE=image/jpeg:https://xceptionalheroes.org/wp-content/uploads/2022/10/bowling.jpg
END:VEVENT
BEGIN:VEVENT
DTSTART;TZID=UTC:20230124T170000
DTEND;TZID=UTC:20230124T190000
DTSTAMP:20260426T012659
CREATED:20230101T194408Z
LAST-MODIFIED:20230110T152332Z
UID:2273-1674579600-1674586800@xceptionalheroes.org
SUMMARY:Craft Day
DESCRIPTION:Our Heroes will be creating a personalized door hanger for Valentine’s Day!  Print family photos (as many as you want!!) and bring them with you!  We will be providing paints\, embellishments\, and a large assortment of items to decorate your project! \n  \nSince supplies have to be purchased prior to this activity\, a firm RSVP is required no later than Jan 20th.  Any responses after that cannot be honored.
URL:https://xceptionalheroes.org/event/craft-day-2/
LOCATION:Faith Lutheran\, 12534 Holly Road\, Grand Blanc\, MI\, 48439\, United States
ATTACH;FMTTYPE=image/jpeg:https://xceptionalheroes.org/wp-content/uploads/2023/01/324943925_3458542534389990_1729573329672507558_n-scaled.jpg
END:VEVENT
BEGIN:VEVENT
DTSTART;VALUE=DATE:20230122
DTEND;VALUE=DATE:20230123
DTSTAMP:20260426T012659
CREATED:20230101T160457Z
LAST-MODIFIED:20230101T160457Z
UID:2271-1674345600-1674431999@xceptionalheroes.org
SUMMARY:Movie Matinee & Lunch at BWW
DESCRIPTION:Join us for a Movie Matinee and lunch at Buffalo Wild Wings.  The movie and time is still TBD based on available movie showtimes.
URL:https://xceptionalheroes.org/event/movie-matinee-lunch-at-bww-2/
LOCATION:NCG Triullium\, 8220 Trillium Circle Ave\, Grand Blanc\, MI\, 48439\, United States
CATEGORIES:Ticket or Entry Costs
END:VEVENT
BEGIN:VEVENT
DTSTART;TZID=UTC:20230121T183000
DTEND;TZID=UTC:20230121T213000
DTSTAMP:20260426T012659
CREATED:20230101T150609Z
LAST-MODIFIED:20230101T150609Z
UID:2252-1674325800-1674336600@xceptionalheroes.org
SUMMARY:Flint Firebirds - vs. Saginaw Spirit
DESCRIPTION:XH families purchase tickets in Section 7 where the Firebirds shoot on net twice a night.  This is a very popular and highly attended activity and we are excited for you to join us!  Ticket prices can vary depending on attendance and we are able to secure group rates when we get 10 or more firm commitments.  Xceptional Heroes will create an event on our Facebook page to collect RSVP’s so we know if we are able to secure the group rate.  Please go to the event page and indicate that you will be attending! \nAlso\, parking is $10 at this venue\, but if you tell the guard that you are with Xceptional Heroes there is no fee.  Please try to arrive at 6:30 to get through security check-in. \n  \n 
URL:https://xceptionalheroes.org/event/flint-firebirds-vs-saginaw-spirit/
LOCATION:Dort Financial Center\, 3501 Lapeer Rd.\, Flint\, MI\, 48503
CATEGORIES:Ticket or Entry Costs
ATTACH;FMTTYPE=image/jpeg:https://xceptionalheroes.org/wp-content/uploads/2022/10/firebirds.jpg
END:VEVENT
BEGIN:VEVENT
DTSTART;TZID=UTC:20230120T170000
DTEND;TZID=UTC:20230120T190000
DTSTAMP:20260426T012659
CREATED:20230101T160307Z
LAST-MODIFIED:20230101T160307Z
UID:2269-1674234000-1674241200@xceptionalheroes.org
SUMMARY:Gym Night
DESCRIPTION:Join us for Gym Night at Faith Lutheran Church to participate in a variety of activities!  It could range from kickball\, dodgeball\, basketball\, nerf gun wars\, obstacle courses\, etc!  This is a great way to release a lot of pent up energy and have fun with your friends!
URL:https://xceptionalheroes.org/event/gym-night-5/
LOCATION:Faith Lutheran\, 12534 Holly Road\, Grand Blanc\, MI\, 48439\, United States
ATTACH;FMTTYPE=image/jpeg:https://xceptionalheroes.org/wp-content/uploads/2022/10/gym-night.jpg
END:VEVENT
BEGIN:VEVENT
DTSTART;TZID=UTC:20230117T173000
DTEND;TZID=UTC:20230117T190000
DTSTAMP:20260426T012659
CREATED:20230101T160136Z
LAST-MODIFIED:20230101T160136Z
UID:2265-1673976600-1673982000@xceptionalheroes.org
SUMMARY:Yoga with Kelsey
DESCRIPTION:Kelsey is a certified yoga instructor and she is also an amputee.  Kelsey walks the same path as our Heroes and she has so much to offer our group!  Kelsey has had national coverage for her courage and ability to overcome adversity! \nDress comfortably\, bring your yoga mats\, and water!  Ladies\, keep in mind that yoga involves a lot of inverted poses so be mindful to wear tops that won’t slide up and gentlemen\, please wear pants that will stay up!  Yoga is typically done in bare feet\, but if you are uncomfortable with that\, you can purchase yoga socks. \nWe have plenty of yoga mats available\, but if you have your own mat please bring it along with plenty of water!
URL:https://xceptionalheroes.org/event/yoga-with-kelsey-4/
LOCATION:Faith Lutheran\, 12534 Holly Road\, Grand Blanc\, MI\, 48439\, United States
CATEGORIES:Free For All
ATTACH;FMTTYPE=image/jpeg:https://xceptionalheroes.org/wp-content/uploads/2022/10/yoga.jpg
END:VEVENT
BEGIN:VEVENT
DTSTART;TZID=UTC:20230113T170000
DTEND;TZID=UTC:20230113T190000
DTSTAMP:20260426T012659
CREATED:20230101T155822Z
LAST-MODIFIED:20230101T155822Z
UID:2261-1673629200-1673636400@xceptionalheroes.org
SUMMARY:Defy Trampoline Park
DESCRIPTION:This is a hugely successful\, and very fun\, activity for our Heroes!!\nXceptional Heroes has purchased coupons that will help reduce the cost of admission. PLEASE DO NOT PAY AT THE COUNTER!! See Christopher Cassidy in the lobby upon arrival and he will coordinate everything!\nCost is $15/person plus an additional $3 for socks if you don’t already have some! Socks from any air park will work!\nIf you have not previously signed waivers\, please plan to arrive a few minutes early to take care of that! It is quite hectic trying to get everything organized at the beginning with collecting money\, signing waivers\, getting socks\, etc. Please plan to arrive early to avoid this frustration!\nAlso\, please have exact change as it is a challenge to try and make change while also coordinating arriving Heroes\, waivers\, collecting payments\, etc.\nChristopher will be present from 5-7pm as our volunteer coordinator\, but you are welcome to stay beyond that time as your leisure!
URL:https://xceptionalheroes.org/event/defy-trampoline-park/
LOCATION:Defy Trampoline Park\, 3450 Miller Rd\, Flint\, MI\, 48507
ATTACH;FMTTYPE=image/jpeg:https://xceptionalheroes.org/wp-content/uploads/2023/01/Defy.jpg
END:VEVENT
BEGIN:VEVENT
DTSTART;TZID=UTC:20230112T120000
DTEND;TZID=UTC:20230112T133000
DTSTAMP:20260426T012659
CREATED:20230101T145536Z
LAST-MODIFIED:20230101T145536Z
UID:2248-1673524800-1673530200@xceptionalheroes.org
SUMMARY:Fitness with Cam
DESCRIPTION:Join Cam and Crew at Ascension Genesys Health Club for fitness\, wellness\, and nutrition tips!  Bring your accountability journals\, comfortable clothing\, and water!
URL:https://xceptionalheroes.org/event/fitness-with-cam-15/
LOCATION:Ascension Genesys Health Club\, 801 Health Park Blvd\, Grand Blanc\, MI\, 48439
CATEGORIES:Free For All
ATTACH;FMTTYPE=image/jpeg:https://xceptionalheroes.org/wp-content/uploads/2022/10/fitness.jpg
END:VEVENT
BEGIN:VEVENT
DTSTART;TZID=UTC:20230110T191500
DTEND;TZID=UTC:20230110T201500
DTSTAMP:20260426T012659
CREATED:20230101T151932Z
LAST-MODIFIED:20230101T195328Z
UID:2254-1673378100-1673381700@xceptionalheroes.org
SUMMARY:Open Swim @ Grand Blanc West High School
DESCRIPTION:Join us for Open Swim at Grand Blanc High School – West Campus! Pre-registration is required and there is a $5 fee that is paid at the time of registration. Below is the direct link to register for the event! You will want to bring a beach towel and flip flops/shower shoes! \nhttps://l.facebook.com/l.php?u=https%3A%2F%2Fanc.apm.activecommunities.com%2Fgbparks%2Factivity%2Fsearch%3FonlineSiteId%3D0%26locale%3Den-US%26activity_select_param%3D2%26activity_keyword%3Dopen%2520swim%26viewMode%3Dlist%26fbclid%3DIwAR0hwhRijm0iAwFLBl3ooY0rND1yO0a4ato2UBOrannIXTsL7Tqf5Zw6n8Q&h=AT2nLnfrIl-DG5syhahYON_X85LPNpQDvBbN0kfcAqnLg3vyqEPiQa-Gsz7b5DJmvBhn5nwc2bPgL4dKPR7neajSPvv7lRbccKbJcx7e_QT8IVxenGHHRqxcssgZPslUzw&__tn__=q&c[0]=AT39VBD0qvHbuUJLh-Op09VXsmS-dkTtuxpO37jGxUoCumyPKC2GAcd4JCQTrFnJ8AmCOKBXM6Mn7aHSxOJdvU8zdG6MUjSQuhQ5a2yciRyawKtdrJXeB-SYQLrDYQFSFmI
URL:https://xceptionalheroes.org/event/open-swim-grand-blanc-west-high-school/
LOCATION:Grand Blanc HS West Campus\, 1 Jewett Trail\, Grand Blanc\, MI\, 48439
ATTACH;FMTTYPE=image/jpeg:https://xceptionalheroes.org/wp-content/uploads/2023/01/swim.jpg
END:VEVENT
BEGIN:VEVENT
DTSTART;TZID=UTC:20230107T183000
DTEND;TZID=UTC:20230107T213000
DTSTAMP:20260426T012659
CREATED:20230101T145904Z
LAST-MODIFIED:20230101T145904Z
UID:2250-1673116200-1673127000@xceptionalheroes.org
SUMMARY:Flint Firebirds - vs. Kitchener; benefitting Eastern Michigan Food Bank
DESCRIPTION:XH families purchase tickets in Section 7 where the Firebirds shoot on net twice a night.  This is a very popular and highly attended activity and we are excited for you to join us!  Ticket prices can vary depending on attendance and we are able to secure group rates when we get 10 or more firm commitments.  Xceptional Heroes will create an event on our Facebook page to collect RSVP’s so we know if we are able to secure the group rate.  Please go to the event page and indicate that you will be attending! \nAlso\, parking is $10 at this venue\, but if you tell the guard that you are with Xceptional Heroes there is no fee.  Please try to arrive at 6:30 to get through security check-in. \nFor this game\, you can bring 5 non-perishable food items in exchange for a ticket.  Tamara Schlosser is coordinating this so that we can be seated together\, as much as possible! \n 
URL:https://xceptionalheroes.org/event/flint-firebirds-vs-kitchener-benefitting-eastern-michigan-food-bank/
LOCATION:Dort Financial Center\, 3501 Lapeer Rd.\, Flint\, MI\, 48503
CATEGORIES:Ticket or Entry Costs
ATTACH;FMTTYPE=image/jpeg:https://xceptionalheroes.org/wp-content/uploads/2022/10/firebirds.jpg
END:VEVENT
BEGIN:VEVENT
DTSTART;TZID=UTC:20230106T170000
DTEND;TZID=UTC:20230106T190000
DTSTAMP:20260426T012659
CREATED:20230101T153507Z
LAST-MODIFIED:20230101T153507Z
UID:2258-1673024400-1673031600@xceptionalheroes.org
SUMMARY:Laser Tag / Dinner at Palace
DESCRIPTION:Join us for a couple games of Laser Tag at Rollhaven\, then going two doors over for dinner at Palace restaurant!  The cost for this event can vary depending on how many laser tag games you choose to play and the cost of your meal plus tip. \n  \nLaser tag is $5/per person per game\, or $8/person for two games.  Depending on the number of attendance\, we may get a group rate.
URL:https://xceptionalheroes.org/event/laser-tag-dinner-at-palace/
LOCATION:Rollhaven\, 5315 S. Saginaw St\, Grand Blanc\, MI\, 48507\, United States
ATTACH;FMTTYPE=image/png:https://xceptionalheroes.org/wp-content/uploads/2023/01/Laser-Tag-Guns.png
END:VEVENT
BEGIN:VEVENT
DTSTART;TZID=UTC:20230105T120000
DTEND;TZID=UTC:20230105T133000
DTSTAMP:20260426T012659
CREATED:20230101T145458Z
LAST-MODIFIED:20230101T145458Z
UID:2246-1672920000-1672925400@xceptionalheroes.org
SUMMARY:Fitness with Cam
DESCRIPTION:Join Cam and Crew at Ascension Genesys Health Club for fitness\, wellness\, and nutrition tips!  Bring your accountability journals\, comfortable clothing\, and water!
URL:https://xceptionalheroes.org/event/fitness-with-cam-14/
LOCATION:Ascension Genesys Health Club\, 801 Health Park Blvd\, Grand Blanc\, MI\, 48439
CATEGORIES:Free For All
ATTACH;FMTTYPE=image/jpeg:https://xceptionalheroes.org/wp-content/uploads/2022/10/fitness.jpg
END:VEVENT
BEGIN:VEVENT
DTSTART;TZID=UTC:20221230T170000
DTEND;TZID=UTC:20221230T190000
DTSTAMP:20260426T012659
CREATED:20221119T135627Z
LAST-MODIFIED:20221119T140142Z
UID:1542-1672419600-1672426800@xceptionalheroes.org
SUMMARY:New Years Party - Glow Bowling
DESCRIPTION:Join us in the Annex of Grand Blanc Lanes for 2 hours of glow bowling\, cornhole\, fowling\, and arcade games!  The cost is $10 and includes shoe rental.  GB Lanes has concessions available! \nXH will be providing pizza and beverages so a firm headcount is required for this event!  We will also be celebrating our Birthday Bash this evening!  Please respond your attendance on our Facebook Event Page \nhttps://www.facebook.com/events/1837020839970329?acontext=%7B%22event_action_history%22%3A[%7B%22surface%22%3A%22group%22%7D]%7D \n 
URL:https://xceptionalheroes.org/event/new-years-party-glow-bowling/
LOCATION:Grand Blanc Lanes\, 5301 S. Saginaw St\, Grand Blanc\, MI\, 48439\, United States
CATEGORIES:Ticket or Entry Costs
ATTACH;FMTTYPE=image/jpeg:https://xceptionalheroes.org/wp-content/uploads/2022/11/bowling.jpg
END:VEVENT
BEGIN:VEVENT
DTSTART;TZID=UTC:20221229T113000
DTEND;TZID=UTC:20221229T130000
DTSTAMP:20260426T012659
CREATED:20221119T124817Z
LAST-MODIFIED:20221119T124817Z
UID:1509-1672313400-1672318800@xceptionalheroes.org
SUMMARY:Fitness with Cam
DESCRIPTION:Join Cam and Crew at Ascension Genesys Health Club for fitness\, wellness\, and nutrition tips!  Bring your accountability journals\, comfortable clothing\, and water!
URL:https://xceptionalheroes.org/event/fitness-with-cam-13/
LOCATION:Ascension Genesys Health Club\, 801 Health Park Blvd\, Grand Blanc\, MI\, 48439
CATEGORIES:Free For All
ATTACH;FMTTYPE=image/jpeg:https://xceptionalheroes.org/wp-content/uploads/2022/10/fitness.jpg
END:VEVENT
BEGIN:VEVENT
DTSTART;TZID=UTC:20221227T173000
DTEND;TZID=UTC:20221227T190000
DTSTAMP:20260426T012659
CREATED:20221119T133001Z
LAST-MODIFIED:20221119T133001Z
UID:1523-1672162200-1672167600@xceptionalheroes.org
SUMMARY:Yoga with Kelsey
DESCRIPTION:Kelsey is a certified yoga instructor and she is also an amputee.  Kelsey walks the same path as our Heroes and she has so much to offer our group!  Kelsey has had national coverage for her courage and ability to overcome adversity! \nDress comfortably\, bring your yoga mats\, and water!  Ladies\, keep in mind that yoga involves a lot of inverted poses so be mindful to wear tops that won’t slide up and gentlemen\, please wear pants that will stay up!  Yoga is typically done in bare feet\, but if you are uncomfortable with that\, you can purchase yoga socks. \nWe have plenty of yoga mats available\, but if you have your own mat please bring it along with plenty of water!
URL:https://xceptionalheroes.org/event/yoga-with-kelsey-3/
LOCATION:Faith Lutheran\, 12534 Holly Road\, Grand Blanc\, MI\, 48439\, United States
CATEGORIES:Free For All
ATTACH;FMTTYPE=image/jpeg:https://xceptionalheroes.org/wp-content/uploads/2022/10/yoga.jpg
END:VEVENT
BEGIN:VEVENT
DTSTART;TZID=UTC:20221223T170000
DTEND;TZID=UTC:20221223T190000
DTSTAMP:20260426T012659
CREATED:20221119T133501Z
LAST-MODIFIED:20221119T133501Z
UID:1527-1671814800-1671822000@xceptionalheroes.org
SUMMARY:Bowling
DESCRIPTION:Join us in the Annex of Grand Blanc Lanes for 2 hours of bowling\, cornhole\, fowling\, and arcade games!  The cost is $10 and includes shoe rental.  GB Lanes has concessions available!
URL:https://xceptionalheroes.org/event/bowling-3/
LOCATION:Grand Blanc Lanes\, 5301 S. Saginaw St\, Grand Blanc\, MI\, 48439\, United States
CATEGORIES:Ticket or Entry Costs
ATTACH;FMTTYPE=image/jpeg:https://xceptionalheroes.org/wp-content/uploads/2022/10/bowling.jpg
END:VEVENT
BEGIN:VEVENT
DTSTART;TZID=UTC:20221222T113000
DTEND;TZID=UTC:20221222T130000
DTSTAMP:20260426T012659
CREATED:20221119T124755Z
LAST-MODIFIED:20221119T124755Z
UID:1507-1671708600-1671714000@xceptionalheroes.org
SUMMARY:Fitness with Cam
DESCRIPTION:Join Cam and Crew at Ascension Genesys Health Club for fitness\, wellness\, and nutrition tips!  Bring your accountability journals\, comfortable clothing\, and water!
URL:https://xceptionalheroes.org/event/fitness-with-cam-12/
LOCATION:Ascension Genesys Health Club\, 801 Health Park Blvd\, Grand Blanc\, MI\, 48439
CATEGORIES:Free For All
ATTACH;FMTTYPE=image/jpeg:https://xceptionalheroes.org/wp-content/uploads/2022/10/fitness.jpg
END:VEVENT
BEGIN:VEVENT
DTSTART;TZID=UTC:20221220T170000
DTEND;TZID=UTC:20221220T190000
DTSTAMP:20260426T012659
CREATED:20221119T135200Z
LAST-MODIFIED:20221119T135200Z
UID:1540-1671555600-1671562800@xceptionalheroes.org
SUMMARY:Rollhaven Roller Skating
DESCRIPTION:We’re going roller skating at Rollhaven! They have a beautiful wood floor\, laser tag\, bounce house and soft play area which provides fun for all ages. \nSkating lessons are from 5-6pm and Open Skate is from 6-8pm
URL:https://xceptionalheroes.org/event/rollhaven-roller-skating-2/
LOCATION:Rollhaven\, 5315 S. Saginaw St\, Grand Blanc\, MI\, 48507\, United States
CATEGORIES:Ticket or Entry Costs
ATTACH;FMTTYPE=image/jpeg:https://xceptionalheroes.org/wp-content/uploads/2022/10/rollerskating.jpg
END:VEVENT
BEGIN:VEVENT
DTSTART;TZID=UTC:20221217T180000
DTEND;TZID=UTC:20221217T210000
DTSTAMP:20260426T012659
CREATED:20221119T134408Z
LAST-MODIFIED:20221119T134852Z
UID:1534-1671300000-1671310800@xceptionalheroes.org
SUMMARY:2nd Annual Holiday Party
DESCRIPTION:We are so excited to announce our 2nd Annual Holiday Party!!\n\nLast year was a huge success and we are ready to make this year even better! We will provide a full meal\, beverages\, dancing\, photo booth\, karaoke\, and more!\n\nThis event requires a firm RSVP as space is limited. While we understand that some of our Heroes require support and a caregiver must be present\, we encourage that this party be for the Heroes to enjoy their time with friends! Parents and caregivers will be more than welcome to join us toward the end to witness how much fun this party will be!\n\nStart planning your party clothes and dust off those dancing shoes!!\n\nRSVP on our Facebook Event Page:\nhttps://www.facebook.com/events/1239612633281003?acontext=%7B%22event_action_history%22%3A[%7B%22extra_data%22%3A%22%22%2C%22mechanism%22%3A%22left_rail%22%2C%22surface%22%3A%22bookmark%22%7D%2C%7B%22extra_data%22%3A%22%22%2C%22mechanism%22%3A%22left_rail%22%2C%22surface%22%3A%22bookmark%22%7D%2C%7B%22extra_data%22%3A%22%22%2C%22mechanism%22%3A%22calendar_hosting_events_unit%22%2C%22surface%22%3A%22bookmark_calendar%22%7D]%2C%22ref_notif_type%22%3Anull%7D
URL:https://xceptionalheroes.org/event/2nd-annual-holiday-party/
LOCATION:Faith Lutheran\, 12534 Holly Road\, Grand Blanc\, MI\, 48439\, United States
CATEGORIES:Free For All
ATTACH;FMTTYPE=image/jpeg:https://xceptionalheroes.org/wp-content/uploads/2022/11/Holiday-Party-flyer-event-page-scaled.jpg
END:VEVENT
BEGIN:VEVENT
DTSTART;TZID=UTC:20221216T170000
DTEND;TZID=UTC:20221216T190000
DTSTAMP:20260426T012659
CREATED:20221119T134128Z
LAST-MODIFIED:20221119T134128Z
UID:1532-1671210000-1671217200@xceptionalheroes.org
SUMMARY:Gym Night
DESCRIPTION:Join us for Gym Night at Faith Lutheran Church to participate in a variety of activities!  It could range from kickball\, dodgeball\, basketball\, nerf gun wars\, obstacle courses\, etc!  This is a great way to release a lot of pent up energy and have fun with your friends!
URL:https://xceptionalheroes.org/event/gym-night-4/
LOCATION:Faith Lutheran\, 12534 Holly Road\, Grand Blanc\, MI\, 48439\, United States
ATTACH;FMTTYPE=image/jpeg:https://xceptionalheroes.org/wp-content/uploads/2022/10/gym-night.jpg
END:VEVENT
BEGIN:VEVENT
DTSTART;TZID=UTC:20221215T113000
DTEND;TZID=UTC:20221215T130000
DTSTAMP:20260426T012659
CREATED:20221119T124721Z
LAST-MODIFIED:20221119T124721Z
UID:1505-1671103800-1671109200@xceptionalheroes.org
SUMMARY:Fitness with Cam
DESCRIPTION:Join Cam and Crew at Ascension Genesys Health Club for fitness\, wellness\, and nutrition tips!  Bring your accountability journals\, comfortable clothing\, and water!
URL:https://xceptionalheroes.org/event/fitness-with-cam-11/
LOCATION:Ascension Genesys Health Club\, 801 Health Park Blvd\, Grand Blanc\, MI\, 48439
CATEGORIES:Free For All
ATTACH;FMTTYPE=image/jpeg:https://xceptionalheroes.org/wp-content/uploads/2022/10/fitness.jpg
END:VEVENT
END:VCALENDAR