BEGIN:VCALENDAR
VERSION:2.0
PRODID:-//Xceptional Heroes - ECPv6.15.20//NONSGML v1.0//EN
CALSCALE:GREGORIAN
METHOD:PUBLISH
X-WR-CALNAME:Xceptional Heroes
X-ORIGINAL-URL:https://xceptionalheroes.org
X-WR-CALDESC:Events for Xceptional Heroes
REFRESH-INTERVAL;VALUE=DURATION:PT1H
X-Robots-Tag:noindex
X-PUBLISHED-TTL:PT1H
BEGIN:VTIMEZONE
TZID:UTC
BEGIN:STANDARD
TZOFFSETFROM:+0000
TZOFFSETTO:+0000
TZNAME:UTC
DTSTART:20210101T000000
END:STANDARD
END:VTIMEZONE
BEGIN:VEVENT
DTSTART;VALUE=DATE:20220626
DTEND;VALUE=DATE:20220627
DTSTAMP:20260426T033234
CREATED:20220615T015605Z
LAST-MODIFIED:20220615T015804Z
UID:884-1656201600-1656287999@xceptionalheroes.org
SUMMARY:Website Launch
DESCRIPTION:Join us on June 25th as we launch our new website!  Take time to check out our features.
URL:https://xceptionalheroes.org/event/website-launch/
LOCATION:MI
CATEGORIES:Free For All
END:VEVENT
BEGIN:VEVENT
DTSTART;TZID=UTC:20220324T080000
DTEND;TZID=UTC:20220324T170000
DTSTAMP:20260426T033234
CREATED:20220324T010224Z
LAST-MODIFIED:20220324T010224Z
UID:458-1648108800-1648141200@xceptionalheroes.org
SUMMARY:Test Event 1
DESCRIPTION:Here is where we would put the details about the event.  Where is it?  Maybe a link to a map.  Or how to buy tickets.
URL:https://xceptionalheroes.org/event/test-event-1/
LOCATION:MI
END:VEVENT
END:VCALENDAR