BEGIN:VCALENDAR
VERSION:2.0
PRODID:-//Xceptional Heroes - ECPv6.15.20//NONSGML v1.0//EN
CALSCALE:GREGORIAN
METHOD:PUBLISH
X-ORIGINAL-URL:https://xceptionalheroes.org
X-WR-CALDESC:Events for Xceptional Heroes
REFRESH-INTERVAL;VALUE=DURATION:PT1H
X-Robots-Tag:noindex
X-PUBLISHED-TTL:PT1H
BEGIN:VTIMEZONE
TZID:UTC
BEGIN:STANDARD
TZOFFSETFROM:+0000
TZOFFSETTO:+0000
TZNAME:UTC
DTSTART:20240101T000000
END:STANDARD
END:VTIMEZONE
BEGIN:VEVENT
DTSTART;TZID=UTC:20250513T180000
DTEND;TZID=UTC:20250513T183000
DTSTAMP:20260424T141022
CREATED:20250506T230226Z
LAST-MODIFIED:20250506T230226Z
UID:4221-1747159200-1747161000@xceptionalheroes.org
SUMMARY:Drumming in the North
DESCRIPTION:Join us for an amazing opportunity to learn to play the drums and get a good workout in!\n\nWe are offering a class for our Heroes to have some fun drumming and working up a sweat!\n\nThis event has been a huge hit and you won’t want to miss out!\n\nClick here to sign up!
URL:https://xceptionalheroes.org/event/drumming-in-the-north/
LOCATION:12167 N Lewis Rd Clio\, MI\, 12167 N Lewis Rd\, Clio\, Michigan\, 48420
CATEGORIES:Free For All
ATTACH;FMTTYPE=image/jpeg:https://xceptionalheroes.org/wp-content/uploads/2025/03/IMG_4345.jpg
END:VEVENT
BEGIN:VEVENT
DTSTART;TZID=UTC:20250515T113000
DTEND;TZID=UTC:20250515T123000
DTSTAMP:20260424T141022
CREATED:20250506T230521Z
LAST-MODIFIED:20250506T230521Z
UID:4223-1747308600-1747312200@xceptionalheroes.org
SUMMARY:Fun w/ Fitness
DESCRIPTION:We are so excited that its starting to get nice outside! We will be in the gym if the weather is not great\, but if we get a nice day we will take advantage of the weather outside!\n\nThis is a great way to get your body moving and stay active during the cold months!\n\nTamara always has fun ideas to keep Fitness fun and interesting!\nMake sure to wear the proper shoes and to bring lots of water with you!\n\nClick here to sign up!
URL:https://xceptionalheroes.org/event/fun-w-fitness-12/
LOCATION:Ascension Genesys Health Club\, 801 Health Park Blvd\, Grand Blanc\, MI\, 48439
CATEGORIES:Free For All
ATTACH;FMTTYPE=image/jpeg:https://xceptionalheroes.org/wp-content/uploads/2024/12/IMG_4229.jpg
END:VEVENT
BEGIN:VEVENT
DTSTART;TZID=UTC:20250516T180000
DTEND;TZID=UTC:20250516T200000
DTSTAMP:20260424T141022
CREATED:20250506T230749Z
LAST-MODIFIED:20250506T230749Z
UID:4225-1747418400-1747425600@xceptionalheroes.org
SUMMARY:Guys Night
DESCRIPTION:Join us for a funfilled Boys Night!\n\nWe will be meeting at Uncle Rays Dairyland to play some Put Put and enjoy some ice cream with friends!\n\nThis is only for our men in the group as we already did a girls night and wanted to create a fun-filled boys night as well!\n\nClick here to sign up!
URL:https://xceptionalheroes.org/event/guys-night/
LOCATION:Uncle Rays Dairyland
CATEGORIES:Free For All
ATTACH;FMTTYPE=image/webp:https://xceptionalheroes.org/wp-content/uploads/2025/05/attachment-kayla-farmer-qdKUa3IN0Cs-unsplash.jpg.webp
END:VEVENT
BEGIN:VEVENT
DTSTART;TZID=UTC:20250520T110000
DTEND;TZID=UTC:20250520T114500
DTSTAMP:20260424T141022
CREATED:20250506T231040Z
LAST-MODIFIED:20250506T231040Z
UID:4229-1747738800-1747741500@xceptionalheroes.org
SUMMARY:FIM Music Therapy
DESCRIPTION:Join us for some Music Therapy fun!\n\nFlint Institute of Music is welcoming us for a 45 minute class to teach us about about different instruments\, music generes\, and how to use different music instruments.\n\nThis is an amazing opportunity and has gone to show that music can be therapeutic or most!\n\nClick here to sign up!
URL:https://xceptionalheroes.org/event/fim-music-therapy-5/
LOCATION:Flint Institute of Music
ATTACH;FMTTYPE=image/jpeg:https://xceptionalheroes.org/wp-content/uploads/2024/11/IMG_7211-scaled.jpg
END:VEVENT
BEGIN:VEVENT
DTSTART;TZID=UTC:20250521T180000
DTEND;TZID=UTC:20250521T193000
DTSTAMP:20260424T141022
CREATED:20250506T231304Z
LAST-MODIFIED:20250506T231304Z
UID:4231-1747850400-1747855800@xceptionalheroes.org
SUMMARY:Bingo Night
DESCRIPTION:Come join us for a funfilled Bingo Night with Bubba!\n\nThis is a very popular event and always has everyone leaving with a smile on their face!\n\nMake sure to bring 2.75 in quarters with you to play with as Bubba has a fun progressive jackpot going!\n\nClick here to sign up!
URL:https://xceptionalheroes.org/event/bingo-night-20/
LOCATION:Richfield Road Church\, 6259 Richfield Rd\, Flint\, 48506
CATEGORIES:Ticket or Entry Costs
ATTACH;FMTTYPE=image/jpeg:https://xceptionalheroes.org/wp-content/uploads/2024/04/IMG_3058.jpg
END:VEVENT
BEGIN:VEVENT
DTSTART;TZID=UTC:20250522T113000
DTEND;TZID=UTC:20250522T123000
DTSTAMP:20260424T141022
CREATED:20250506T231452Z
LAST-MODIFIED:20250506T231452Z
UID:4233-1747913400-1747917000@xceptionalheroes.org
SUMMARY:Fun w/ Fitness
DESCRIPTION:We are so excited that its starting to get nice outside! We will be in the gym if the weather is not great\, but if we get a nice day we will take advantage of the weather outside!\n\nThis is a great way to get your body moving and stay active during the cold months!\nTamara always has fun ideas to keep Fitness fun and interesting!\n\nMake sure to wear the proper shoes and to bring lots of water with you!\n\nClick here to sign up!
URL:https://xceptionalheroes.org/event/fun-w-fitness-13/
LOCATION:Ascension Genesys Health Club\, 801 Health Park Blvd\, Grand Blanc\, MI\, 48439
CATEGORIES:Free For All
ATTACH;FMTTYPE=image/jpeg:https://xceptionalheroes.org/wp-content/uploads/2024/12/IMG_4229.jpg
END:VEVENT
BEGIN:VEVENT
DTSTART;TZID=UTC:20250522T180000
DTEND;TZID=UTC:20250522T193000
DTSTAMP:20260424T141022
CREATED:20250506T231734Z
LAST-MODIFIED:20250506T231734Z
UID:4235-1747936800-1747942200@xceptionalheroes.org
SUMMARY:Painting Class in the North
DESCRIPTION:Join us in the North for an amazing painting class!\n\nCome by and learn the ins and outs of painting. We will be learning different techniques and styles!\n\nWe hope to see you all there and can’t wait to see what we create!\n\nClick here to sign up!
URL:https://xceptionalheroes.org/event/painting-class-in-the-north/
LOCATION:12167 N Lewis Rd Clio\, MI\, 12167 N Lewis Rd\, Clio\, Michigan\, 48420
CATEGORIES:Free For All
ATTACH;FMTTYPE=image/jpeg:https://xceptionalheroes.org/wp-content/uploads/2025/03/IMG_4321.jpg
END:VEVENT
BEGIN:VEVENT
DTSTART;TZID=UTC:20250525T110000
DTEND;TZID=UTC:20250525T170000
DTSTAMP:20260424T141022
CREATED:20250506T232009Z
LAST-MODIFIED:20250506T232009Z
UID:4237-1748170800-1748192400@xceptionalheroes.org
SUMMARY:Lunch and Movie
DESCRIPTION:Join us for a little sunday Movie and lunch outing!\n\nWe will be meeting at Buffalo Wild Wings for lunch and heading right over to the theatre afterwards to catch our movie!\n\nWe wil be seeing Lilo and Stich and the time will be determined soon!\n\nClick here to sign up!
URL:https://xceptionalheroes.org/event/lunch-and-movie-4/
LOCATION:NCG Triullium\, 8220 Trillium Circle Ave\, Grand Blanc\, MI\, 48439\, United States
CATEGORIES:Ticket or Entry Costs
ATTACH;FMTTYPE=image/jpeg:https://xceptionalheroes.org/wp-content/uploads/2023/11/dinner.jpg
END:VEVENT
BEGIN:VEVENT
DTSTART;TZID=UTC:20250527T183000
DTEND;TZID=UTC:20250527T193000
DTSTAMP:20260424T141022
CREATED:20250506T232155Z
LAST-MODIFIED:20250506T232155Z
UID:4239-1748370600-1748374200@xceptionalheroes.org
SUMMARY:Fun w/ Fitness in the North
DESCRIPTION:We are so exctied to be able to offer Fintess in the North!\n\nThere is no cost to this event and all we ask is that you bring proper shoes and plenty of water with you!\n\nOur Heroes love the Fitness Classes and this is a great way to meet new people while learning a little bit about staying active!\n\nClick here to sign up!
URL:https://xceptionalheroes.org/event/fun-w-fitness-in-the-north-4/
LOCATION:12167 N Lewis Rd Clio\, MI\, 12167 N Lewis Rd\, Clio\, Michigan\, 48420
CATEGORIES:Free For All
ATTACH;FMTTYPE=image/jpeg:https://xceptionalheroes.org/wp-content/uploads/2024/12/IMG_4229.jpg
END:VEVENT
BEGIN:VEVENT
DTSTART;TZID=UTC:20250528T180000
DTEND;TZID=UTC:20250528T193000
DTSTAMP:20260424T141022
CREATED:20250506T232352Z
LAST-MODIFIED:20250506T232352Z
UID:4241-1748455200-1748460600@xceptionalheroes.org
SUMMARY:Game Night
DESCRIPTION:Join us for Game Night!\n\nWe encourage you to bring your favorite board game and share it with us!\n\nWe will be playing board games and teaching each other how to play our favorite games!\n\nClick here to sign up!
URL:https://xceptionalheroes.org/event/game-night-4/
LOCATION:Richfield Road Church\, 6259 Richfield Rd\, Flint\, 48506
CATEGORIES:Free For All
ATTACH;FMTTYPE=image/png:https://xceptionalheroes.org/wp-content/uploads/2024/12/Game-Night-Event-Image.png
END:VEVENT
BEGIN:VEVENT
DTSTART;TZID=UTC:20250528T180000
DTEND;TZID=UTC:20250528T200000
DTSTAMP:20260424T141022
CREATED:20250506T232602Z
LAST-MODIFIED:20250506T232602Z
UID:4243-1748455200-1748462400@xceptionalheroes.org
SUMMARY:Movie Night in the North
DESCRIPTION:Join us at XH North for a movie night!\n\nWe will determine what movie we will watch when it gets closer and have a chill movie night with snacks and activities!\n\nClick here to sign up!
URL:https://xceptionalheroes.org/event/movie-night-in-the-north/
LOCATION:12167 N Lewis Rd Clio\, MI\, 12167 N Lewis Rd\, Clio\, Michigan\, 48420
CATEGORIES:Free For All
ATTACH;FMTTYPE=image/jpeg:https://xceptionalheroes.org/wp-content/uploads/2023/11/dinner.jpg
END:VEVENT
BEGIN:VEVENT
DTSTART;TZID=UTC:20250530T180000
DTEND;TZID=UTC:20250530T193000
DTSTAMP:20260424T141022
CREATED:20250506T232754Z
LAST-MODIFIED:20250506T232754Z
UID:4245-1748628000-1748633400@xceptionalheroes.org
SUMMARY:Cornhole and Bingo
DESCRIPTION:Join us for a night full of fun with Bubba!\n\nWe will be doing a cornhole and bingo night in place of bowling night!\n\nCome learn how to play the game of cornhole with friends and test your bingo skills!\n\nClick here to sign up!
URL:https://xceptionalheroes.org/event/cornhole-and-bingo/
LOCATION:Mundy Miracle Commons\, 1286 W. Hill Rd\, Flint\, 48507
CATEGORIES:Free For All
ATTACH;FMTTYPE=image/jpeg:https://xceptionalheroes.org/wp-content/uploads/2025/05/closeup-of-corn-hole-bags-game-in-backyard.jpg_s1024x1024wisk20cHwWISwntz0eeWRnym1k8fgL4rYwxycph-e-N35t_J4.jpg
END:VEVENT
BEGIN:VEVENT
DTSTART;TZID=UTC:20250603T180000
DTEND;TZID=UTC:20250603T190000
DTSTAMP:20260424T141022
CREATED:20250529T220638Z
LAST-MODIFIED:20250529T220638Z
UID:4362-1748973600-1748977200@xceptionalheroes.org
SUMMARY:Gardening in the North
DESCRIPTION:Join us at the Lacure Community Center for our gardening class!\n\nWe are going to learn all things gardening related and we are going to have an amazing master gardener joining us to teach us the ins and outs of how to make sure our garden thrives!\n\nPlease make sure to sign up if you plan on attending!\n\nClick here to sign up!
URL:https://xceptionalheroes.org/event/gardening-in-the-north-3/
LOCATION:12167 N Lewis Rd Clio\, MI\, 12167 N Lewis Rd\, Clio\, Michigan\, 48420
CATEGORIES:Free For All
ATTACH;FMTTYPE=image/webp:https://xceptionalheroes.org/wp-content/uploads/2025/05/AdobeStock_145654607.webp
END:VEVENT
BEGIN:VEVENT
DTSTART;TZID=UTC:20250604T180000
DTEND;TZID=UTC:20250604T200000
DTSTAMP:20260424T141022
CREATED:20250529T220925Z
LAST-MODIFIED:20250529T220925Z
UID:4364-1749060000-1749067200@xceptionalheroes.org
SUMMARY:Game Night in the North
DESCRIPTION:Do you enjoy boardgames or card games?!\n\nJoin us in the North for a game night!\n\nWe will be learning how to play certain games and teaching others how to play our favorite games!\nMake sure to sign up if you plan on attending so that we can plan accordingly!\n\nClick here to sign up!
URL:https://xceptionalheroes.org/event/game-night-in-the-north/
LOCATION:12167 N Lewis Rd Clio\, MI\, 12167 N Lewis Rd\, Clio\, Michigan\, 48420
CATEGORIES:Free For All
ATTACH;FMTTYPE=image/png:https://xceptionalheroes.org/wp-content/uploads/2024/12/Game-Night-Event-Image.png
END:VEVENT
BEGIN:VEVENT
DTSTART;TZID=UTC:20250605T113000
DTEND;TZID=UTC:20250605T123000
DTSTAMP:20260424T141022
CREATED:20250529T221141Z
LAST-MODIFIED:20250529T221141Z
UID:4366-1749123000-1749126600@xceptionalheroes.org
SUMMARY:Fun w/ Fitness
DESCRIPTION:We are so excited that its starting to get nice outside! We will be in the gym if the weather is not great\, but if we get a nice day we will take advantage of the weather outside!\n\nThis is a great way to get your body moving and stay active during the cold months!\n\nTamara always has fun ideas to keep Fitness fun and interesting!\n\nMake sure to wear the proper shoes and to bring lots of water with you!\n\nClick here to sign up!
URL:https://xceptionalheroes.org/event/fun-w-fitness-14/
LOCATION:Ascension Genesys Health Club\, 801 Health Park Blvd\, Grand Blanc\, MI\, 48439
CATEGORIES:Free For All
ATTACH;FMTTYPE=image/jpeg:https://xceptionalheroes.org/wp-content/uploads/2024/12/IMG_4229.jpg
END:VEVENT
BEGIN:VEVENT
DTSTART;TZID=UTC:20250609T180000
DTEND;TZID=UTC:20250609T200000
DTSTAMP:20260424T141022
CREATED:20250529T221325Z
LAST-MODIFIED:20250529T221325Z
UID:4368-1749492000-1749499200@xceptionalheroes.org
SUMMARY:Craft Night in the North
DESCRIPTION:Come join Robin for a fun and creative Craft Night!\n\nThis event is free thanks to our amazing donations that go towards every craft every Month!\n\nRobin keeps it interesting by choosing a different craft to do with the Heroes each month!\n\nClick here to sign up!
URL:https://xceptionalheroes.org/event/craft-night-in-the-north-3/
LOCATION:12167 N Lewis Rd Clio\, MI\, 12167 N Lewis Rd\, Clio\, Michigan\, 48420
CATEGORIES:Free For All
ATTACH;FMTTYPE=image/jpeg:https://xceptionalheroes.org/wp-content/uploads/2025/03/IMG_8119-scaled.jpeg
END:VEVENT
BEGIN:VEVENT
DTSTART;TZID=UTC:20250610T183000
DTEND;TZID=UTC:20250610T193000
DTSTAMP:20260424T141022
CREATED:20250529T221723Z
LAST-MODIFIED:20250529T221723Z
UID:4370-1749580200-1749583800@xceptionalheroes.org
SUMMARY:Outside Fun in the North
DESCRIPTION:Join us in the North for some Outdoor fun!\n\nWe will have lots of activities planned like pickleball\, kickball\, walking\, and a new bean bag baseball game!\n\nThese activities will differ depending on the weather but surely fun will be had by all!\n\nMake sure to sign up if you plan on attending so that we can plan accordingly!\n\nClick here to sign up!
URL:https://xceptionalheroes.org/event/outside-fun-in-the-north/
LOCATION:12167 N Lewis Rd Clio\, MI\, 12167 N Lewis Rd\, Clio\, Michigan\, 48420
CATEGORIES:Free For All
ATTACH;FMTTYPE=image/jpeg:https://xceptionalheroes.org/wp-content/uploads/2025/05/IMG_4451.jpg
END:VEVENT
BEGIN:VEVENT
DTSTART;TZID=UTC:20250611T110000
DTEND;TZID=UTC:20250611T130000
DTSTAMP:20260424T141022
CREATED:20250529T221916Z
LAST-MODIFIED:20250529T221916Z
UID:4373-1749639600-1749646800@xceptionalheroes.org
SUMMARY:Wilderness Trails Zoo
DESCRIPTION:It’s time to get back to our animal friends at Wilderness Trails Zoo in Birch Run.\n\nIf you didn’t get the chance to join us last season\, be sure to sign up for this season! We will be helping zoo staff spruce up zoo grounds\, and prep food for zoo animals.\n\nStaff at the zoo always have something going on that we can help with. Be sure to apply sunscreen\, bring a hat\, gloves\, water and a snack/lunch. Stay on top of the weather so you have the appropriate attire.\n\nClick here to sign up!
URL:https://xceptionalheroes.org/event/wilderness-trails-zoo-2/
LOCATION:Wilderness Trails Animal Zoo\, 11721 Gera Rd\, Birch Run\, MI\, 48415\, United States
CATEGORIES:Free For All
ATTACH;FMTTYPE=image/jpeg:https://xceptionalheroes.org/wp-content/uploads/2024/08/IMG_6032-scaled.jpg
END:VEVENT
BEGIN:VEVENT
DTSTART;TZID=UTC:20250611T180000
DTEND;TZID=UTC:20250611T200000
DTSTAMP:20260424T141022
CREATED:20250529T222113Z
LAST-MODIFIED:20250529T222113Z
UID:4375-1749664800-1749672000@xceptionalheroes.org
SUMMARY:Craft Night
DESCRIPTION:Come join Robin for a fun and creative Craft Night!\n\nThis event is free thanks to our amazing donations that go towards every craft every Month!\n\nRobin keeps it interesting by choosing a different craft to do with the Heroes each month!\n\nClick here to sign up!
URL:https://xceptionalheroes.org/event/craft-night-13/
LOCATION:Richfield Road Church\, 6259 Richfield Rd\, Flint\, 48506
CATEGORIES:Free For All
ATTACH;FMTTYPE=image/jpeg:https://xceptionalheroes.org/wp-content/uploads/2024/04/IMG_3101.jpg
END:VEVENT
BEGIN:VEVENT
DTSTART;TZID=UTC:20250612T113000
DTEND;TZID=UTC:20250612T123000
DTSTAMP:20260424T141022
CREATED:20250529T222305Z
LAST-MODIFIED:20250529T222305Z
UID:4377-1749727800-1749731400@xceptionalheroes.org
SUMMARY:Fun w/ Fitness
DESCRIPTION:We are so excited that its starting to get nice outside! We will be in the gym if the weather is not great\, but if we get a nice day we will take advantage of the weather outside!\n\nThis is a great way to get your body moving and stay active during the cold months!\n\nTamara always has fun ideas to keep Fitness fun and interesting!\n\nMake sure to wear the proper shoes and to bring lots of water with you!\n\nClick here to sign up!
URL:https://xceptionalheroes.org/event/fun-w-fitness-15/
LOCATION:Ascension Genesys Health Club\, 801 Health Park Blvd\, Grand Blanc\, MI\, 48439
CATEGORIES:Free For All
ATTACH;FMTTYPE=image/jpeg:https://xceptionalheroes.org/wp-content/uploads/2024/12/IMG_4229.jpg
END:VEVENT
BEGIN:VEVENT
DTSTART;TZID=UTC:20250613T180000
DTEND;TZID=UTC:20250613T200000
DTSTAMP:20260424T141022
CREATED:20250529T222527Z
LAST-MODIFIED:20250529T222527Z
UID:4379-1749837600-1749844800@xceptionalheroes.org
SUMMARY:Monthly Social
DESCRIPTION:Join us for our Monthly Social!\n\nThis is a great way to get out there and meet new friends along with hanging out with old friends!\n\nWe encourage everyone to join us at the soical! Theres dancing\, snacks\, and nothing but a good time!\n\nClick here to sign up!
URL:https://xceptionalheroes.org/event/monthly-social-11/
LOCATION:Faith Lutheran\, 12534 Holly Road\, Grand Blanc\, MI\, 48439\, United States
CATEGORIES:Free For All
ATTACH;FMTTYPE=image/jpeg:https://xceptionalheroes.org/wp-content/uploads/2024/07/IMG_5430-scaled.jpg
END:VEVENT
BEGIN:VEVENT
DTSTART;TZID=UTC:20250616T150000
DTEND;TZID=UTC:20250616T170000
DTSTAMP:20260424T141022
CREATED:20250529T222757Z
LAST-MODIFIED:20250529T222757Z
UID:4381-1750086000-1750093200@xceptionalheroes.org
SUMMARY:Swimming
DESCRIPTION:Join us at the new Aquatics Center at Grand Blanc High school for swimming fun!\n\nWe are all looking for ways to enjoy summer and to keep active and swimming class can help!\n\nThis event has a strict cap on the number of participants and is a closed event meaning that you need to sign up in order to attend.\n\nThis is a sign up only event because XH needs to pay for passes before the event starts. So please only sign up if you plan on attending!\n\nClick here to sign up!
URL:https://xceptionalheroes.org/event/swimming/
LOCATION:Grand Blanc HS East Campus\, 12500 Holly Rd\, Grand Blanc\, MI\, 48439
CATEGORIES:Ticket or Entry Costs
ATTACH;FMTTYPE=image/jpeg:https://xceptionalheroes.org/wp-content/uploads/2024/08/IMG_3559.jpg
END:VEVENT
BEGIN:VEVENT
DTSTART;TZID=UTC:20250617T180000
DTEND;TZID=UTC:20250617T190000
DTSTAMP:20260424T141022
CREATED:20250529T223240Z
LAST-MODIFIED:20250529T223240Z
UID:4386-1750183200-1750186800@xceptionalheroes.org
SUMMARY:Gardening in the North
DESCRIPTION:Join us at the Lacure Community Center for our gardening class!\n\nWe are going to learn all things gardening related and we are going to have an amazing master gardener joining us to teach us the ins and outs of how to make sure our garden thrives!\n\nMake sure to sign up so that we know what to expect!\n\nClick here to sign up!
URL:https://xceptionalheroes.org/event/gardening-in-the-north-4/
LOCATION:12167 N Lewis Rd Clio\, MI\, 12167 N Lewis Rd\, Clio\, Michigan\, 48420
CATEGORIES:Free For All
ATTACH;FMTTYPE=image/webp:https://xceptionalheroes.org/wp-content/uploads/2025/05/AdobeStock_145654607.webp
END:VEVENT
BEGIN:VEVENT
DTSTART;TZID=UTC:20250617T180000
DTEND;TZID=UTC:20250617T193000
DTSTAMP:20260424T141022
CREATED:20250529T223046Z
LAST-MODIFIED:20250616T125719Z
UID:4383-1750183200-1750188600@xceptionalheroes.org
SUMMARY:Art Class
DESCRIPTION:Join us for Art Classes! All participants need to arrive approximately 15 minutes early to complete some registration forms for Mundy Township!\n\nWe are starting Art Classes this June at Mundy Senior Center! We will be learning how to create some amazing art designs and getting to let our creativity fly!\n\nWe are always looking for new ways to get our minds working and we can’t wait for this new activity!\n\nClick here to sign up!
URL:https://xceptionalheroes.org/event/art-class/
LOCATION:Mundy Township senior and enrichment center
CATEGORIES:Free For All
ATTACH;FMTTYPE=image/webp:https://xceptionalheroes.org/wp-content/uploads/2024/12/artists-brushes-paints.jpg-2.webp
END:VEVENT
BEGIN:VEVENT
DTSTART;TZID=UTC:20250618T180000
DTEND;TZID=UTC:20250618T193000
DTSTAMP:20260424T141022
CREATED:20250529T223508Z
LAST-MODIFIED:20250529T223508Z
UID:4388-1750269600-1750275000@xceptionalheroes.org
SUMMARY:XH North Bingo
DESCRIPTION:Come join us for a funfilled Bingo Night with Bubba!\n\nThis is a very popular event and always has everyone leaving with a smile on their face!\n\nMake sure to bring 2.75 in quarters with you to play with as Bubba has a fun progressive jackpot going.\n\nClick here to sign up!
URL:https://xceptionalheroes.org/event/xh-north-bingo-2/
LOCATION:12167 N Lewis Rd Clio\, MI\, 12167 N Lewis Rd\, Clio\, Michigan\, 48420
CATEGORIES:Ticket or Entry Costs
ATTACH;FMTTYPE=image/jpeg:https://xceptionalheroes.org/wp-content/uploads/2025/03/IMG_4344.jpg
END:VEVENT
BEGIN:VEVENT
DTSTART;TZID=UTC:20250619T110000
DTEND;TZID=UTC:20250619T120000
DTSTAMP:20260424T141022
CREATED:20250529T223718Z
LAST-MODIFIED:20250529T223740Z
UID:4390-1750330800-1750334400@xceptionalheroes.org
SUMMARY:Fun w/ Fitness Outside
DESCRIPTION:Join us for Fitness with Tamara\, but this time we are moving outdoors!\n\nWith the weather getting warmer and nicer we are moving Fitness to Bicentenial Park to enjoy their walking paths\, outdoor workout equipment\, and ball fields!\n\nMake sure to dress appropriately for the weather and to bring plenty of water to get you through!\n\nClick here to sign up!
URL:https://xceptionalheroes.org/event/fun-w-fitness-outside/
LOCATION:Bicentennial Park\, 1505 E. Grand Blanc Rd\, Grand Blanc\, MI\, 48439\, United States
CATEGORIES:Free For All
ATTACH;FMTTYPE=image/jpeg:https://xceptionalheroes.org/wp-content/uploads/2024/08/IMG_3553.jpg
END:VEVENT
BEGIN:VEVENT
DTSTART;TZID=UTC:20250621T100000
DTEND;TZID=UTC:20250621T130000
DTSTAMP:20260424T141022
CREATED:20250529T191738Z
LAST-MODIFIED:20250529T191738Z
UID:4358-1750500000-1750510800@xceptionalheroes.org
SUMMARY:Wilderness Trails Zoo & Alpine Mountain Day Trip
DESCRIPTION:Join Xceptional Heroes and the Wildnerness Trails staff as we tour the zoo and enjoy the sanctuary!  After we tour the zoo\, we are meeting next door at Alpine Mountain for putt putt\, go-cart racing\, and water boats!  There is no cost for our Heroes to enjoy this fun-filled day!  Xceptional Heroes will pay admission for the zoo and we will pay for 3 activities at Alpine Mountain (you can mix and match)! \nWe kindly request that everyone pack a lunch and refrain from eating at the diner across the street in the spirit of cohesiveness and continuity for both the event and our Hero family.  If you choose to eat at the diner\, we request that you schedule it AFTER our activities.  Thank you for your cooperation! \nClick on the link below to register for this event! \nhttps://www.signupgenius.com/go/10C0948A4A72FAAFBCE9-57121640-wilderness
URL:https://xceptionalheroes.org/event/wilderness-trails-zoo-alpine-mountain-day-trip/
LOCATION:Wilderness Trails Animal Zoo\, 11721 Gera Rd\, Birch Run\, MI\, 48415\, United States
CATEGORIES:Free For All
ATTACH;FMTTYPE=image/jpeg:https://xceptionalheroes.org/wp-content/uploads/2025/05/WTZ.jpg
END:VEVENT
BEGIN:VEVENT
DTSTART;TZID=UTC:20250623T150000
DTEND;TZID=UTC:20250623T170000
DTSTAMP:20260424T141022
CREATED:20250529T223940Z
LAST-MODIFIED:20250529T223940Z
UID:4393-1750690800-1750698000@xceptionalheroes.org
SUMMARY:Swimming
DESCRIPTION:Join us at the new Aquatics Center at Grand Blanc High school for swimming fun!\n\nWe are all looking for ways to enjoy summer and to keep active and swimming class can help!\n\nThis event has a strict cap on the number of participants and is a closed event meaning that you need to sign up in order to attend.\n\nThis is because XH needs to pay for passes before the event starts. So please only sign up if you plan on attending!\n\nClick here to sign up!
URL:https://xceptionalheroes.org/event/swimming-2/
LOCATION:Grand Blanc HS East Campus\, 12500 Holly Rd\, Grand Blanc\, MI\, 48439
CATEGORIES:Ticket or Entry Costs
ATTACH;FMTTYPE=image/jpeg:https://xceptionalheroes.org/wp-content/uploads/2024/08/IMG_3559.jpg
END:VEVENT
BEGIN:VEVENT
DTSTART;TZID=UTC:20250624T183000
DTEND;TZID=UTC:20250624T193000
DTSTAMP:20260424T141022
CREATED:20250529T224128Z
LAST-MODIFIED:20250529T224128Z
UID:4395-1750789800-1750793400@xceptionalheroes.org
SUMMARY:Outside Fun in the North
DESCRIPTION:Join us in the North for some Outdoor fun!\n\nWe will have lots of activities planned like pickleball\, kickball\, walking\, and a new bean bag baseball game!\n\nThese activities will differ depending on the weather but surely fun will be had by all!\n\nClick here to sign up!
URL:https://xceptionalheroes.org/event/outside-fun-in-the-north-2/
LOCATION:12167 N Lewis Rd Clio\, MI\, 12167 N Lewis Rd\, Clio\, Michigan\, 48420
CATEGORIES:Free For All
ATTACH;FMTTYPE=image/jpeg:https://xceptionalheroes.org/wp-content/uploads/2025/05/IMG_4451.jpg
END:VEVENT
BEGIN:VEVENT
DTSTART;TZID=UTC:20250625T180000
DTEND;TZID=UTC:20250625T193000
DTSTAMP:20260424T141022
CREATED:20250529T224335Z
LAST-MODIFIED:20250529T224335Z
UID:4397-1750874400-1750879800@xceptionalheroes.org
SUMMARY:Bingo Night
DESCRIPTION:Come join us for a funfilled Bingo Night with Bubba!\n\nThis is a very popular event and always has everyone leaving with a smile on their face!\n\nMake sure to bring 2.75 in quarters with you to play with as Bubba has a fun progressive jackpot going!\n\nClick here to sign up!
URL:https://xceptionalheroes.org/event/bingo-night-21/
LOCATION:Richfield Road Church\, 6259 Richfield Rd\, Flint\, 48506
CATEGORIES:Ticket or Entry Costs
ATTACH;FMTTYPE=image/jpeg:https://xceptionalheroes.org/wp-content/uploads/2024/04/IMG_3063.jpg
END:VEVENT
END:VCALENDAR