BEGIN:VCALENDAR
VERSION:2.0
PRODID:-//Xceptional Heroes - ECPv6.15.20//NONSGML v1.0//EN
CALSCALE:GREGORIAN
METHOD:PUBLISH
X-WR-CALNAME:Xceptional Heroes
X-ORIGINAL-URL:https://xceptionalheroes.org
X-WR-CALDESC:Events for Xceptional Heroes
REFRESH-INTERVAL;VALUE=DURATION:PT1H
X-Robots-Tag:noindex
X-PUBLISHED-TTL:PT1H
BEGIN:VTIMEZONE
TZID:UTC
BEGIN:STANDARD
TZOFFSETFROM:+0000
TZOFFSETTO:+0000
TZNAME:UTC
DTSTART:20250101T000000
END:STANDARD
END:VTIMEZONE
BEGIN:VEVENT
DTSTART;TZID=UTC:20260415T110000
DTEND;TZID=UTC:20260415T120000
DTSTAMP:20260423T213759
CREATED:20260328T145756Z
LAST-MODIFIED:20260328T145756Z
UID:5204-1776250800-1776254400@xceptionalheroes.org
SUMMARY:FIM Music Therapy
DESCRIPTION:Join us for some Music Therapy fun!\n\nFlint Institute of Music is welcoming us for a 45 minute class to teach us about about different instruments\, music generes\, and how to use different music instruments.\n\nThis is an amazing opportunity and shows that music can be therapeutic!\n\nSign up below:\nhttps://www.signupgenius.com/go/10C0948A4A72FAAFBCE9-63220731-fimmusic
URL:https://xceptionalheroes.org/event/fim-music-therapy-9/
LOCATION:Flint Institute of Music
CATEGORIES:Free For All
ATTACH;FMTTYPE=image/jpeg:https://xceptionalheroes.org/wp-content/uploads/2024/11/IMG_7211-scaled.jpg
END:VEVENT
BEGIN:VEVENT
DTSTART;TZID=UTC:20260415T180000
DTEND;TZID=UTC:20260415T193000
DTSTAMP:20260423T213759
CREATED:20260328T144509Z
LAST-MODIFIED:20260328T144509Z
UID:5194-1776276000-1776281400@xceptionalheroes.org
SUMMARY:Bingo Night
DESCRIPTION:Come join us for a funfilled Bingo Night! \nThis is a very popular event and always has everyone leaving with a smile on their face! \nMake sure to bring 2.50 in quarters with you to play with to win! \nSign up below: \nhttps://www.signupgenius.com/go/10C0948A4A72FAAFBCE9-63220746-bingo \n  \n 
URL:https://xceptionalheroes.org/event/bingo-night-35/
LOCATION:G3490 Miller Rd\, G3490 Miller Rd\, Flint\, MI\, 48532
CATEGORIES:Ticket or Entry Costs
ATTACH;FMTTYPE=image/jpeg:https://xceptionalheroes.org/wp-content/uploads/2025/08/FB_IMG_1755969546238.jpg
END:VEVENT
BEGIN:VEVENT
DTSTART;TZID=UTC:20260416T130000
DTEND;TZID=UTC:20260416T140000
DTSTAMP:20260423T213759
CREATED:20260328T151409Z
LAST-MODIFIED:20260328T151409Z
UID:5215-1776344400-1776348000@xceptionalheroes.org
SUMMARY:Fitness Fun with Mary Rose
DESCRIPTION:Join us for Fitness Fun with Mary Rose! Make sure to dress appropriately\, consider the weather as when it permits\, we will try to get outdoors as much as possible. Bring plenty of water to get you through! Mary Rose may plan some hiking/walking trips to various trails in the area so stay tuned for any updates to the location of these activities!\n\nWe will post on the page if weather seems questionable to let everyone know the status of the activity\n\nSign up below:\nhttps://www.signupgenius.com/go/10C0948A4A72FAAFBCE9-63220810-fitness
URL:https://xceptionalheroes.org/event/fitness-fun-with-mary-rose/
LOCATION:G3490 Miller Rd\, G3490 Miller Rd\, Flint\, MI\, 48532
CATEGORIES:Free For All
ATTACH;FMTTYPE=image/jpeg:https://xceptionalheroes.org/wp-content/uploads/2024/12/IMG_4229.jpg
END:VEVENT
BEGIN:VEVENT
DTSTART;TZID=UTC:20260417T130000
DTEND;TZID=UTC:20260417T140000
DTSTAMP:20260423T213759
CREATED:20260328T145016Z
LAST-MODIFIED:20260328T145016Z
UID:5198-1776430800-1776434400@xceptionalheroes.org
SUMMARY:Zumba Class
DESCRIPTION:We are so excited to offer this new activity to our programming!  Let’s get up and get moving with Briana every month while dancing to fun music and getting great exercise!  Dress appropriately for movement and be sure to bring water and towels! \nSign up below:\nhttps://www.signupgenius.com/go/10C0948A4A72FAAFBCE9-63220756-zumba
URL:https://xceptionalheroes.org/event/zumba-class-4/
LOCATION:G3490 Miller Rd\, G3490 Miller Rd\, Flint\, MI\, 48532
CATEGORIES:Free For All
ATTACH;FMTTYPE=image/jpeg:https://xceptionalheroes.org/wp-content/uploads/2026/01/zumba.jpg
END:VEVENT
BEGIN:VEVENT
DTSTART;TZID=UTC:20260417T180000
DTEND;TZID=UTC:20260417T200000
DTSTAMP:20260423T213759
CREATED:20260328T145221Z
LAST-MODIFIED:20260328T145221Z
UID:5200-1776448800-1776456000@xceptionalheroes.org
SUMMARY:Karaoke Night
DESCRIPTION:Join us for a super fun evening of singing\, dancing\, and friendship!\n\nSign up below:\nhttps://www.signupgenius.com/go/10C0948A4A72FAAFBCE9-63220758-karaoke
URL:https://xceptionalheroes.org/event/karaoke-night-4/
LOCATION:G3490 Miller Rd\, G3490 Miller Rd\, Flint\, MI\, 48532
CATEGORIES:Free For All
ATTACH;FMTTYPE=image/jpeg:https://xceptionalheroes.org/wp-content/uploads/2025/12/karaoke.jpg
END:VEVENT
BEGIN:VEVENT
DTSTART;TZID=UTC:20260418T130000
DTEND;TZID=UTC:20260418T140000
DTSTAMP:20260423T213759
CREATED:20260328T145429Z
LAST-MODIFIED:20260328T145429Z
UID:5202-1776517200-1776520800@xceptionalheroes.org
SUMMARY:Line Dancing
DESCRIPTION:Join us at The HUB for Line Dancing lessons!  This is going to be so much fun!  The only requirement is to dress appropriately for dancing and have a huge smile on your face! \nSign up below:\nhttps://www.signupgenius.com/go/10C0948A4A72FAAFBCE9-63220764-line
URL:https://xceptionalheroes.org/event/line-dancing-3/
LOCATION:G3490 Miller Rd\, G3490 Miller Rd\, Flint\, MI\, 48532
CATEGORIES:Free For All
ATTACH;FMTTYPE=image/png:https://xceptionalheroes.org/wp-content/uploads/2026/01/linedancing.png
END:VEVENT
BEGIN:VEVENT
DTSTART;TZID=UTC:20260419T160000
DTEND;TZID=UTC:20260419T180000
DTSTAMP:20260423T213759
CREATED:20260402T005746Z
LAST-MODIFIED:20260402T005746Z
UID:5241-1776614400-1776621600@xceptionalheroes.org
SUMMARY:Parents/Caregivers Painting Night Out
DESCRIPTION:Come join us and enjoy the fellowship and support of parents and caregivers who all walk the same paths. You are the infrastructure in our Heroes lives and you deserve time\, too! Bring a small dish to share and be prepared to share stories\, tips\, shoulders of support\, and FRIENDSHIP!\n\nThis month\, Angelina Mayer will be leading us through a fun craft to make a decorative dish! The designs will vary depending on what you select\, but they will all end up being awesome! This is not mandatory to participate in\, but is available for those who are interested!\n\nSign up below:\nhttps://www.signupgenius.com/go/10C0948A4A72FAAFBCE9-63220775-parentscaregivers
URL:https://xceptionalheroes.org/event/parents-caregivers-painting-night-out-3/
LOCATION:G3490 Miller Rd\, G3490 Miller Rd\, Flint\, MI\, 48532
CATEGORIES:Free For All
ATTACH;FMTTYPE=image/jpeg:https://xceptionalheroes.org/wp-content/uploads/2026/04/658509383_1443382183935126_238973506267354575_n.jpg
END:VEVENT
BEGIN:VEVENT
DTSTART;TZID=UTC:20260420T180000
DTEND;TZID=UTC:20260420T193000
DTSTAMP:20260423T213759
CREATED:20260330T231433Z
LAST-MODIFIED:20260330T231433Z
UID:5237-1776708000-1776713400@xceptionalheroes.org
SUMMARY:Art Class
DESCRIPTION:Join us for Art Class with Chris! \n\nCome work with our talented instructor\, Chris\, to create amazing works of art! No two projects are ever the same and Chris really works to make some very fun and unique projects!\nThis month\, you can choose between the girl or boy bunny!  If there is time\, you may be able to paint both of them!\n\nSign up below:\nhttps://www.signupgenius.com/go/10C0948A4A72FAAFBCE9-63220787-artclass\n 
URL:https://xceptionalheroes.org/event/art-class-13/
LOCATION:G3490 Miller Rd\, G3490 Miller Rd\, Flint\, MI\, 48532
CATEGORIES:Free For All
ATTACH;FMTTYPE=image/jpeg:https://xceptionalheroes.org/wp-content/uploads/2026/03/1000014967.jpg
END:VEVENT
BEGIN:VEVENT
DTSTART;TZID=UTC:20260421T173000
DTEND;TZID=UTC:20260421T183000
DTSTAMP:20260423T213759
CREATED:20260328T141851Z
LAST-MODIFIED:20260328T141851Z
UID:5184-1776792600-1776796200@xceptionalheroes.org
SUMMARY:Stretching/Fitness/Cardio Drumming
DESCRIPTION:Join us for 30 minutes of stretching and warming up before Kheila joins us at 6pm for a fun and unique way to get your body moving and enjoy some fun tunes in the process!\n\nThere is a participant limit so please only show up if you are signed up for the event\n\nClick the link below to sign up!\nhttps://www.signupgenius.com/go/10C0948A4A72FAAFBCE9-63220683-stretchingtoning\n 
URL:https://xceptionalheroes.org/event/stretching-fitness-cardio-drumming-9/
LOCATION:G3490 Miller Rd\, G3490 Miller Rd\, Flint\, MI\, 48532
CATEGORIES:Free For All
ATTACH;FMTTYPE=image/jpeg:https://xceptionalheroes.org/wp-content/uploads/2026/01/building8.jpg
END:VEVENT
BEGIN:VEVENT
DTSTART;TZID=UTC:20260422T180000
DTEND;TZID=UTC:20260422T193000
DTSTAMP:20260423T213759
CREATED:20260328T144753Z
LAST-MODIFIED:20260328T144753Z
UID:5196-1776880800-1776886200@xceptionalheroes.org
SUMMARY:Bingo Night
DESCRIPTION:Come join us for a funfilled Bingo Night! \nThis is a very popular event and always has everyone leaving with a smile on their face! \nMake sure to bring 2.50 in quarters with you to play with for a chance to win! \nSign up below:\nhttps://www.signupgenius.com/go/10C0948A4A72FAAFBCE9-63220744-bingo \n  \n 
URL:https://xceptionalheroes.org/event/bingo-night-36/
LOCATION:Richfield Road Church\, 6259 Richfield Rd\, Flint\, 48506
CATEGORIES:Ticket or Entry Costs
ATTACH;FMTTYPE=image/jpeg:https://xceptionalheroes.org/wp-content/uploads/2025/08/FB_IMG_1755969546238.jpg
END:VEVENT
BEGIN:VEVENT
DTSTART;TZID=UTC:20260422T183000
DTEND;TZID=UTC:20260422T193000
DTSTAMP:20260423T213759
CREATED:20260402T012243Z
LAST-MODIFIED:20260402T012918Z
UID:5244-1776882600-1776886200@xceptionalheroes.org
SUMMARY:Crim Training Program Registration
DESCRIPTION:Meet your Team Leaders at the Pavilion at Mundy Miracle Commons!\nThis is a long-term commitment to participate in the Crim Training Program! We will meet weekly at Mundy Miracle Commons on Wednesday evenings from 6:30-7:30; May 6th through August 19th. There are TONS of benefits to participating in this group: vouchers to local races\, Crim training shirt\, monthly training calendars\, and promotions from local businesses. Of course\, all this hard work culminates in the Crim 5K Walk!\nAnnual membership holders – there is no cost to you.All others – there is a $25 charge and XH will pay the remaining balance.Parents/Families/Caregivers are welcome to join the training team and the Crim Foundation has extended the $50 special fee to you as well! You will be responsible for your own registration\, but you will train with our group!\nOur Team Leaders will be Shelly Gardner\, Tamara Schlosser\, and Teresa White (when time permits)!\n\nSign up below to let us know you will be at registration! Payment at the time of registration is required. See guidance above!\nhttps://www.signupgenius.com/go/10C0948A4A72FAAFBCE9-63305346-crim
URL:https://xceptionalheroes.org/event/crim-training-program-registration/
LOCATION:Mundy Miracle Commons\, 1286 W. Hill Rd\, Flint\, 48507
CATEGORIES:Ticket or Entry Costs
ATTACH;FMTTYPE=image/png:https://xceptionalheroes.org/wp-content/uploads/2026/04/download.png
END:VEVENT
BEGIN:VEVENT
DTSTART;TZID=UTC:20260423T130000
DTEND;TZID=UTC:20260423T140000
DTSTAMP:20260423T213759
CREATED:20260328T152144Z
LAST-MODIFIED:20260328T152144Z
UID:5217-1776949200-1776952800@xceptionalheroes.org
SUMMARY:Fitness Fun with Mary Rose
DESCRIPTION:Join us for Fitness Fun with Mary Rose! Make sure to dress appropriately\, consider the weather as when it permits\, we will try to get outdoors as much as possible. Bring plenty of water to get you through! Mary Rose may plan some hiking/walking trips to various trails in the area so stay tuned for any updates to the location of these activities!\n\nWe will post on the page if weather seems questionable to let everyone know the status of the activity\n\nSign up below:\nhttps://www.signupgenius.com/go/10C0948A4A72FAAFBCE9-63221474-copy
URL:https://xceptionalheroes.org/event/fitness-fun-with-mary-rose-2/
LOCATION:G3490 Miller Rd\, G3490 Miller Rd\, Flint\, MI\, 48532
CATEGORIES:Free For All
ATTACH;FMTTYPE=image/jpeg:https://xceptionalheroes.org/wp-content/uploads/2024/12/IMG_4229.jpg
END:VEVENT
BEGIN:VEVENT
DTSTART;TZID=UTC:20260424T130000
DTEND;TZID=UTC:20260424T143000
DTSTAMP:20260423T213759
CREATED:20260328T150020Z
LAST-MODIFIED:20260328T150020Z
UID:5206-1777035600-1777041000@xceptionalheroes.org
SUMMARY:Puppy Love
DESCRIPTION:Join us at The HUB to welcome our new visitors\, Mid Michigan Dog Therapy\, and possibly Nugget the Beagle! They are very excited to bring their pups to spread some lovin’ to our Heroes and we are thrilled to have them! They will begin visiting on the last Friday of every month and we can’t wait!\n\nClick the link below to sign up!\nhttps://www.signupgenius.com/go/10C0948A4A72FAAFBCE9-63220793-puppy
URL:https://xceptionalheroes.org/event/puppy-love-4/
LOCATION:G3490 Miller Rd\, G3490 Miller Rd\, Flint\, MI\, 48532
CATEGORIES:Free For All
ATTACH;FMTTYPE=image/jpeg:https://xceptionalheroes.org/wp-content/uploads/2026/01/puppy.jpg
END:VEVENT
BEGIN:VEVENT
DTSTART;TZID=UTC:20260424T180000
DTEND;TZID=UTC:20260424T200000
DTSTAMP:20260423T213759
CREATED:20260328T150331Z
LAST-MODIFIED:20260328T150331Z
UID:5208-1777053600-1777060800@xceptionalheroes.org
SUMMARY:Bowling Night
DESCRIPTION:Join us for a “Rolling good time” at Grand Blanc Lanes for Bowling Night! Remember that if you want to bowl with a particular Hero\, you must arrive early before lane assignments are entered. \nThe 2 hour session will be $10 and we welcome parents and caregivers to join in if they please as well!  There are no membership costs associated with this event. \nPlease make sure to sign up if you would like to bowl so that we have enough lanes reserved. \nSign up below: \nhttps://www.signupgenius.com/go/10C0948A4A72FAAFBCE9-63220791-bowling \n 
URL:https://xceptionalheroes.org/event/bowling-night-21/
LOCATION:Grand Blanc Lanes\, 5301 S. Saginaw St\, Grand Blanc\, MI\, 48439\, United States
CATEGORIES:Ticket or Entry Costs
ATTACH;FMTTYPE=image/jpeg:https://xceptionalheroes.org/wp-content/uploads/2026/03/bowling4.jpg
END:VEVENT
BEGIN:VEVENT
DTSTART;TZID=UTC:20260425T183000
DTEND;TZID=UTC:20260425T220000
DTSTAMP:20260423T213759
CREATED:20260414T090351Z
LAST-MODIFIED:20260414T090513Z
UID:5251-1777141800-1777154400@xceptionalheroes.org
SUMMARY:Pure Pro Wrestling RetroSlam
DESCRIPTION:Pure Pro Wrestling has generously donated 50 tickets for our Heroes and families to attend RetroSlam at Dort Financial Center!\n\nEvent starts at 7pm\, but please meet Dean and Annette Humphrey in the lobby no later than 6:30pm to coordinate the tickets. We ask you limit your request to 4 tickets per family to make sure everyone who wants to attend has an opportunity. If there are remaining tickets closer to the date\, we will open it up for additional requests.\n\nPlease be aware of the bag restrictions at Dort Financial Center as you will be turned away at the door if you are non-compliant. Information can be found on their website.\n\nThere will also likely be a cost to park so you may want to consider carpooling!\n\nSign up below:\nhttps://www.signupgenius.com/go/10C0948A4A72FAAFBCE9-63520284-pure
URL:https://xceptionalheroes.org/event/pure-pro-wrestling-retroslam/
LOCATION:Dort Financial Center\, 3501 Lapeer Rd.\, Flint\, MI\, 48503
CATEGORIES:Free For All
ATTACH;FMTTYPE=image/jpeg:https://xceptionalheroes.org/wp-content/uploads/2026/04/IMG_20260413_153037.jpg
END:VEVENT
BEGIN:VEVENT
DTSTART;TZID=UTC:20260429T180000
DTEND;TZID=UTC:20260429T193000
DTSTAMP:20260423T213759
CREATED:20260328T150608Z
LAST-MODIFIED:20260328T150608Z
UID:5211-1777485600-1777491000@xceptionalheroes.org
SUMMARY:Game Night
DESCRIPTION:Join us for Game Night! \nWe have tons of board and cards games at The HUB\, but you are welcome to bring your favorites and share with us! \nWe will be playing board games and teaching each other how to play our favorite games! \nSign up below:\nhttps://www.signupgenius.com/go/10C0948A4A72FAAFBCE9-63220801-game \n 
URL:https://xceptionalheroes.org/event/game-night-11/
LOCATION:G3490 Miller Rd\, G3490 Miller Rd\, Flint\, MI\, 48532
CATEGORIES:Free For All
ATTACH;FMTTYPE=image/png:https://xceptionalheroes.org/wp-content/uploads/2024/12/Game-Night-Event-Image.png
END:VEVENT
BEGIN:VEVENT
DTSTART;TZID=UTC:20260430T130000
DTEND;TZID=UTC:20260430T140000
DTSTAMP:20260423T213759
CREATED:20260328T152249Z
LAST-MODIFIED:20260328T152249Z
UID:5219-1777554000-1777557600@xceptionalheroes.org
SUMMARY:Fitness Fun with Mary Rose
DESCRIPTION:Join us for Fitness Fun with Mary Rose! Make sure to dress appropriately\, consider the weather as when it permits\, we will try to get outdoors as much as possible. Bring plenty of water to get you through! Mary Rose may plan some hiking/walking trips to various trails in the area so stay tuned for any updates to the location of these activities!\n\nWe will post on the page if weather seems questionable to let everyone know the status of the activity\n\nSign up below:\nhttps://www.signupgenius.com/go/10C0948A4A72FAAFBCE9-63221475-fitness
URL:https://xceptionalheroes.org/event/fitness-fun-with-mary-rose-3/
LOCATION:G3490 Miller Rd\, G3490 Miller Rd\, Flint\, MI\, 48532
CATEGORIES:Free For All
ATTACH;FMTTYPE=image/jpeg:https://xceptionalheroes.org/wp-content/uploads/2024/12/IMG_4229.jpg
END:VEVENT
BEGIN:VEVENT
DTSTART;TZID=UTC:20260430T180000
DTEND;TZID=UTC:20260430T193000
DTSTAMP:20260423T213759
CREATED:20260328T150909Z
LAST-MODIFIED:20260328T150909Z
UID:5213-1777572000-1777577400@xceptionalheroes.org
SUMMARY:Painting Class with Kerry
DESCRIPTION:Join us at The HUB for an amazing painting class! \nCome by and learn the ins and outs of painting. We will be learning different techniques and styles! \nWe hope to see you all there and can’t wait to see what we create! \nClick the link below to sign up! \nhttps://www.signupgenius.com/go/10C0948A4A72FAAFBCE9-63220800-painting \n\n 
URL:https://xceptionalheroes.org/event/painting-class-with-kerry-5/
LOCATION:G3490 Miller Rd\, G3490 Miller Rd\, Flint\, MI\, 48532
CATEGORIES:Free For All
ATTACH;FMTTYPE=image/jpeg:https://xceptionalheroes.org/wp-content/uploads/2025/08/FB_IMG_1755969820795.jpg
END:VEVENT
END:VCALENDAR