BEGIN:VCALENDAR
VERSION:2.0
PRODID:-//Xceptional Heroes - ECPv6.15.20//NONSGML v1.0//EN
CALSCALE:GREGORIAN
METHOD:PUBLISH
X-WR-CALNAME:Xceptional Heroes
X-ORIGINAL-URL:https://xceptionalheroes.org
X-WR-CALDESC:Events for Xceptional Heroes
REFRESH-INTERVAL;VALUE=DURATION:PT1H
X-Robots-Tag:noindex
X-PUBLISHED-TTL:PT1H
BEGIN:VTIMEZONE
TZID:UTC
BEGIN:STANDARD
TZOFFSETFROM:+0000
TZOFFSETTO:+0000
TZNAME:UTC
DTSTART:20220101T000000
END:STANDARD
END:VTIMEZONE
BEGIN:VTIMEZONE
TZID:America/Detroit
BEGIN:DAYLIGHT
TZOFFSETFROM:-0500
TZOFFSETTO:-0400
TZNAME:EDT
DTSTART:20230312T070000
END:DAYLIGHT
BEGIN:STANDARD
TZOFFSETFROM:-0400
TZOFFSETTO:-0500
TZNAME:EST
DTSTART:20231105T060000
END:STANDARD
BEGIN:DAYLIGHT
TZOFFSETFROM:-0500
TZOFFSETTO:-0400
TZNAME:EDT
DTSTART:20240310T070000
END:DAYLIGHT
BEGIN:STANDARD
TZOFFSETFROM:-0400
TZOFFSETTO:-0500
TZNAME:EST
DTSTART:20241103T060000
END:STANDARD
BEGIN:DAYLIGHT
TZOFFSETFROM:-0500
TZOFFSETTO:-0400
TZNAME:EDT
DTSTART:20250309T070000
END:DAYLIGHT
BEGIN:STANDARD
TZOFFSETFROM:-0400
TZOFFSETTO:-0500
TZNAME:EST
DTSTART:20251102T060000
END:STANDARD
END:VTIMEZONE
BEGIN:VEVENT
DTSTART;TZID=UTC:20240306T173000
DTEND;TZID=UTC:20240306T190000
DTSTAMP:20260425T120125
CREATED:20240227T171322Z
LAST-MODIFIED:20240227T171322Z
UID:2983-1709746200-1709751600@xceptionalheroes.org
SUMMARY:Bingo Night
DESCRIPTION:Come join us for Bingo! \nWe will provide water for everyone and bring a little treat as well! \nAs always bring $2.50 in quarters for Bingo!
URL:https://xceptionalheroes.org/event/bingo-night/
LOCATION:Richfield Road Church\, 6259 Richfield Rd\, Flint\, 48506
CATEGORIES:Ticket or Entry Costs
ATTACH;FMTTYPE=image/jpeg:https://xceptionalheroes.org/wp-content/uploads/2023/11/bingo.jpg
END:VEVENT
BEGIN:VEVENT
DTSTART;TZID=UTC:20240301T180000
DTEND;TZID=UTC:20240301T210000
DTSTAMP:20260425T120125
CREATED:20240227T170055Z
LAST-MODIFIED:20240227T170252Z
UID:2979-1709316000-1709326800@xceptionalheroes.org
SUMMARY:Flint Firebirds Autism Awareness Game
DESCRIPTION:We have been invited to join the Flint Firebirds in celebrating their Autism Awareness Night March 1st! \nWe will need a final head count on who is going by February 27th! \nThere will be 50/50 that night that will go towards the Autism Resource Center and our name will appear on the Jumbotron! \nThere will be low sensory at this game just light sounds and lights. \nThe tickets will be $2 off as long as we hit our 10 ticket mark. \nWe hope you join us at this game to help support this cause! There may even be a high-five tunnel in the works!
URL:https://xceptionalheroes.org/event/flint-firebirds-autism-awareness-game/
LOCATION:MI
CATEGORIES:Ticket or Entry Costs
END:VEVENT
BEGIN:VEVENT
DTSTART;TZID=UTC:20240229T113000
DTEND;TZID=UTC:20240229T123000
DTSTAMP:20260425T120125
CREATED:20240125T185126Z
LAST-MODIFIED:20240125T185126Z
UID:2969-1709206200-1709209800@xceptionalheroes.org
SUMMARY:Fitness Class
DESCRIPTION:Come join us for Fitness Class!\n\nThis is a perfect way to move your body and stay active! Bring lots of water and the appropriate shoes for the occasion!\n\nFollow the link below to register:
URL:https://xceptionalheroes.org/event/fitness-class-30/
LOCATION:MI
CATEGORIES:Free For All
ATTACH;FMTTYPE=image/jpeg:https://xceptionalheroes.org/wp-content/uploads/2024/01/IMG_1897-scaled.jpeg
END:VEVENT
BEGIN:VEVENT
DTSTART;TZID=UTC:20240228T180000
DTEND;TZID=UTC:20240228T190000
DTSTAMP:20260425T120125
CREATED:20240125T184849Z
LAST-MODIFIED:20240130T190747Z
UID:2967-1709143200-1709146800@xceptionalheroes.org
SUMMARY:Dance/ Movement Class
DESCRIPTION:Come bust a move with us at Dance/ Movement Class!\n\n\nFollow the link below to sign up for the event:
URL:https://xceptionalheroes.org/event/dance-movement-class-3/
LOCATION:Hill Elementary school\, 404 Aloha St\, Davison\, MI\, 48423\, United States
CATEGORIES:Free For All
ATTACH;FMTTYPE=image/jpeg:https://xceptionalheroes.org/wp-content/uploads/2023/08/dance.jpg
END:VEVENT
BEGIN:VEVENT
DTSTART;TZID=UTC:20240227T173000
DTEND;TZID=UTC:20240227T193000
DTSTAMP:20260425T120125
CREATED:20240125T190657Z
LAST-MODIFIED:20240125T190657Z
UID:2971-1709055000-1709062200@xceptionalheroes.org
SUMMARY:Laser Tag
DESCRIPTION:Do you like Laser Tag?!\n\nCome join us at RollHaven for some Laser Tag fun!\n\nThere will be no admission for Laser Tag but each additional game after would be $2 admission.\nFollow the link below to register
URL:https://xceptionalheroes.org/event/laser-tag-2/
LOCATION:Rollhaven\, 5315 S. Saginaw St\, Grand Blanc\, MI\, 48507\, United States
CATEGORIES:Ticket or Entry Costs
ATTACH;FMTTYPE=image/webp:https://xceptionalheroes.org/wp-content/uploads/2024/01/Laser-Tag-Fun-1.webp
END:VEVENT
BEGIN:VEVENT
DTSTART;TZID=UTC:20240222T113000
DTEND;TZID=UTC:20240222T120000
DTSTAMP:20260425T120125
CREATED:20240125T184453Z
LAST-MODIFIED:20240125T184453Z
UID:2965-1708601400-1708603200@xceptionalheroes.org
SUMMARY:Fitness Class
DESCRIPTION:Come join us for Fitness Class!\n\nThis is a great way to move your body and stay active! Make sure to bring plenty of water and to wear the proper shoes for the occasion.\n\nFollow the link below to sign up for the event:
URL:https://xceptionalheroes.org/event/fitness-class-29/
LOCATION:Ascension Genesys Health Club\, 801 Health Park Blvd\, Grand Blanc\, MI\, 48439
CATEGORIES:Free For All
ATTACH;FMTTYPE=image/jpeg:https://xceptionalheroes.org/wp-content/uploads/2024/01/IMG_1897-scaled.jpeg
END:VEVENT
BEGIN:VEVENT
DTSTART;TZID=UTC:20240220T183000
DTEND;TZID=UTC:20240220T193000
DTSTAMP:20260425T120125
CREATED:20240125T184120Z
LAST-MODIFIED:20240125T184120Z
UID:2962-1708453800-1708457400@xceptionalheroes.org
SUMMARY:Yoga with Kelsey
DESCRIPTION:Kelsey is a certified yoga instructor and she is also an amputee. Kelsey walks the same path as our Heroes and she has so much to offer our group! Kelsey has had national coverage for her courage and ability to overcome adversity!\n\nDress comfortably\, bring your yoga mats\, and water! Ladies\, keep in mind that yoga involves a lot of inverted poses so be mindful to wear tops that won’t slide up and gentlemen\, please wear pants that will stay up!\n\nYoga is typically done in bare feet\, but if you are uncomfortable with that\, you can purchase yoga socks.\nWe have plenty of yoga mats available\, but if you have your own mat please bring it along with plenty of water!\n\nFollow the link below to register:
URL:https://xceptionalheroes.org/event/yoga-with-kelsey-23/
LOCATION:Holy Family Catholic Church\, 11804 S. Saginaw St\, Grand Blanc\, MI\, 48439\, United States
CATEGORIES:Free For All
ATTACH;FMTTYPE=image/jpeg:https://xceptionalheroes.org/wp-content/uploads/2024/01/all-about-yoga-mega-722x406-1.jpg
END:VEVENT
BEGIN:VEVENT
DTSTART;TZID=UTC:20240215T113000
DTEND;TZID=UTC:20240215T123000
DTSTAMP:20260425T120125
CREATED:20240125T183748Z
LAST-MODIFIED:20240125T183748Z
UID:2960-1707996600-1708000200@xceptionalheroes.org
SUMMARY:Fitness Class
DESCRIPTION:Come join us for Fitness Class!\n\nThis is a great way to stay active and keep your body moving! Make sure to bring plenty of water and the proper shoes for the occasion.\n\nFollow link below to register:
URL:https://xceptionalheroes.org/event/fitness-class-28/
LOCATION:Ascension Genesys Health Club\, 801 Health Park Blvd\, Grand Blanc\, MI\, 48439
CATEGORIES:Free For All
ATTACH;FMTTYPE=image/jpeg:https://xceptionalheroes.org/wp-content/uploads/2024/01/IMG_1897-scaled.jpeg
END:VEVENT
BEGIN:VEVENT
DTSTART;TZID=UTC:20240214T173000
DTEND;TZID=UTC:20240214T190000
DTSTAMP:20260425T120125
CREATED:20240125T183500Z
LAST-MODIFIED:20240125T183500Z
UID:2957-1707931800-1707937200@xceptionalheroes.org
SUMMARY:Valentines Day Bingo Night
DESCRIPTION:Come join us for Bingo!\n\nThis Bingo event will be Valentines Day themed and we ask that if you participate in this Bingo session to bring a little snack to share with everyone!\n\nWe will provide water for everyone and bring a little treat as well to celebrate Valentines Day with you all!\nAs always bring $2.50 in quarters for Bingo!\n\nFollow the link below to sign up for this event:
URL:https://xceptionalheroes.org/event/valentines-day-bingo-night/
LOCATION:Richfield Road Church\, 6259 Richfield Rd\, Flint\, 48506
CATEGORIES:Ticket or Entry Costs
ATTACH;FMTTYPE=image/webp:https://xceptionalheroes.org/wp-content/uploads/2024/01/Free-Printable-Valentines-BINGO-littleredwindow_Square.jpg.webp
END:VEVENT
BEGIN:VEVENT
DTSTART;TZID=UTC:20240209T180000
DTEND;TZID=UTC:20240209T200000
DTSTAMP:20260425T120125
CREATED:20240125T182820Z
LAST-MODIFIED:20240125T182820Z
UID:2955-1707501600-1707508800@xceptionalheroes.org
SUMMARY:Monthly Social
DESCRIPTION:Come join us for a night of fun! \nStop by to hang out with friends and meet new friends as well! \nClick the link below to sign up for this event: \n 
URL:https://xceptionalheroes.org/event/monthly-social/
LOCATION:Faith Lutheran\, 12534 Holly Road\, Grand Blanc\, MI\, 48439\, United States
CATEGORIES:Free For All
ATTACH;FMTTYPE=image/jpeg:https://xceptionalheroes.org/wp-content/uploads/2023/08/dance.jpg
END:VEVENT
BEGIN:VEVENT
DTSTART;TZID=UTC:20240208T113000
DTEND;TZID=UTC:20240208T123000
DTSTAMP:20260425T120125
CREATED:20240125T182328Z
LAST-MODIFIED:20240125T182328Z
UID:2953-1707391800-1707395400@xceptionalheroes.org
SUMMARY:Fitness Class
DESCRIPTION:Come join us for Fitness Class! \nThis is a great way to move your body and stay active! \nMake sure to bring plenty of water and to wear the proper shoes for the occasion! \nFollow the link below to sign up:
URL:https://xceptionalheroes.org/event/fitness-class-27/
LOCATION:Ascension Genesys Health Club\, 801 Health Park Blvd\, Grand Blanc\, MI\, 48439
CATEGORIES:Free For All
ATTACH;FMTTYPE=image/jpeg:https://xceptionalheroes.org/wp-content/uploads/2024/01/IMG_1897-scaled.jpeg
END:VEVENT
BEGIN:VEVENT
DTSTART;TZID=UTC:20240206T180000
DTEND;TZID=UTC:20240206T200000
DTSTAMP:20260425T120125
CREATED:20231230T162852Z
LAST-MODIFIED:20240122T142748Z
UID:2891-1707242400-1707249600@xceptionalheroes.org
SUMMARY:Craft Day
DESCRIPTION:Come join Teresa and Angelina in crafting some adorable yarn gnomes! They can be decorated for Valentine’s\, Easter\, etc. Your imagination is the limit!\n\nThere is a cost of $5/person and you can make up to 4 gnomes\, if time permits. This activity is limited to 20 participants due to the amount of instruction this craft will involve.\n\nhttps://www.signupgenius.com/go/10C0948A4A72FAAFBCE9-46999597-craft
URL:https://xceptionalheroes.org/event/craft-day-3/
LOCATION:Holly Library\, 1116 N. Saginaw St\, Holly\, 48442
CATEGORIES:Ticket or Entry Costs
ATTACH;FMTTYPE=image/jpeg:https://xceptionalheroes.org/wp-content/uploads/2023/12/gnomes.jpg
END:VEVENT
BEGIN:VEVENT
DTSTART;TZID=UTC:20240201T113000
DTEND;TZID=UTC:20240201T123000
DTSTAMP:20260425T120125
CREATED:20240125T181105Z
LAST-MODIFIED:20240125T181105Z
UID:2951-1706787000-1706790600@xceptionalheroes.org
SUMMARY:Fitness Class
DESCRIPTION:Come join us for Fitness Class! \nThis is a great way to stay active and get your body moving! \nMake sure to bring plenty of water and to wear the proper shoes for the occasion! \nFollow the link below to sign up: \n  \n  \n 
URL:https://xceptionalheroes.org/event/fitness-class-26/
LOCATION:Ascension Genesys Health Club\, 801 Health Park Blvd\, Grand Blanc\, MI\, 48439
CATEGORIES:Free For All
ATTACH;FMTTYPE=image/jpeg:https://xceptionalheroes.org/wp-content/uploads/2024/01/IMG_1897-scaled.jpeg
END:VEVENT
BEGIN:VEVENT
DTSTART;TZID=UTC:20240131T180000
DTEND;TZID=UTC:20240131T190000
DTSTAMP:20260425T120125
CREATED:20231230T163044Z
LAST-MODIFIED:20240122T153719Z
UID:2894-1706724000-1706727600@xceptionalheroes.org
SUMMARY:Dance/Movement Class
DESCRIPTION:This dance class has quickly become a Hero favorite!  November is the last class for 2023\, so make sure to get registered!  Holly Halibicki has generously offered to conduct this class and XH has taken on the cost – so all you have to do is show up.\n\nWear comfortable clothing and shoes and get ready to groove!\nPlease register below. We can only take the first 20 registrations for this event and cannot make any exceptions.\n\nhttps://www.signupgenius.com/go/10C0948A4A72FAAFBCE9-46999598-dancemovement
URL:https://xceptionalheroes.org/event/dance-movement-class-4/
LOCATION:Thomson Elementary School\, 617 E. Clark St\, Davison\, MI\, 48423\, United States
CATEGORIES:Free For All
ATTACH;FMTTYPE=image/jpeg:https://xceptionalheroes.org/wp-content/uploads/2023/08/dance.jpg
END:VEVENT
BEGIN:VEVENT
DTSTART;TZID=America/Detroit:20240125T113000
DTEND;TZID=America/Detroit:20240125T123000
DTSTAMP:20260425T120125
CREATED:20231230T161224Z
LAST-MODIFIED:20240122T205024Z
UID:2877-1706182200-1706185800@xceptionalheroes.org
SUMMARY:Fitness Class
DESCRIPTION:Join Jennifer and Crew for fitness\, wellness\, and nutrition tips!  Bring your accountability journals\, comfortable clothing\, and water!  Sign up below and let us know you are coming! \nSign up below: \nhttps://www.signupgenius.com/go/10C0948A4A72FAAFBCE9-46999577-fitness
URL:https://xceptionalheroes.org/event/fitness-class-38/
LOCATION:Ascension Genesys Health Club\, 801 Health Park Blvd\, Grand Blanc\, MI\, 48439
CATEGORIES:Free For All
ATTACH;FMTTYPE=image/jpeg:https://xceptionalheroes.org/wp-content/uploads/2022/10/fitness.jpg
END:VEVENT
BEGIN:VEVENT
DTSTART;TZID=UTC:20240124T173000
DTEND;TZID=UTC:20240124T190000
DTSTAMP:20260425T120125
CREATED:20231230T161744Z
LAST-MODIFIED:20231230T161744Z
UID:2883-1706117400-1706122800@xceptionalheroes.org
SUMMARY:Bingo Night
DESCRIPTION:We are finally brining Bingo back!! Bubba and Tina will be our leaders for this very popular activity! We have moved venues and will now be meeting at Richfield Road Church!\n\nBring $2.50 in quarters. You will pay $0.25 per card to play\, plus a jackpot game at the end! Bubba and Tina really know how to mix the games up and make it so much fun for all!\n\nPlease sign up below to let us know you are coming!\nhttps://www.signupgenius.com/go/10C0948A4A72FAAFBCE9-46999581-bingo
URL:https://xceptionalheroes.org/event/bingo-night-3/
LOCATION:Richfield Road Church\, 6259 Richfield Rd\, Flint\, 48506
CATEGORIES:Ticket or Entry Costs
ATTACH;FMTTYPE=image/jpeg:https://xceptionalheroes.org/wp-content/uploads/2023/11/bingo.jpg
END:VEVENT
BEGIN:VEVENT
DTSTART;TZID=UTC:20240121T120000
DTEND;TZID=UTC:20240121T153000
DTSTAMP:20260425T120125
CREATED:20231230T162431Z
LAST-MODIFIED:20231230T162431Z
UID:2889-1705838400-1705851000@xceptionalheroes.org
SUMMARY:Movie Matinee & Lunch at BWW
DESCRIPTION:Come join Christopher and crew for lunch at Buffalo Wild Wings at 12pm followed by a matinee at NCG Trillium next door! The actual movie and times will be updated closer to the date when the theater releases the movie times!\n\nhttps://www.signupgenius.com/go/10C0948A4A72FAAFBCE9-46999596-movie
URL:https://xceptionalheroes.org/event/movie-matinee-lunch-at-bww-14/
LOCATION:NCG Triullium\, 8220 Trillium Circle Ave\, Grand Blanc\, MI\, 48439\, United States
CATEGORIES:Ticket or Entry Costs
ATTACH;FMTTYPE=image/jpeg:https://xceptionalheroes.org/wp-content/uploads/2023/11/dinner.jpg
END:VEVENT
BEGIN:VEVENT
DTSTART;TZID=UTC:20240119T170000
DTEND;TZID=UTC:20240119T190000
DTSTAMP:20260425T120125
CREATED:20231230T162254Z
LAST-MODIFIED:20240115T160105Z
UID:2887-1705683600-1705690800@xceptionalheroes.org
SUMMARY:Gym Night
DESCRIPTION:It’s been off the calendar for a while but we are very excited to bring Open Gym Night back! Join us at Holy Family Catholic Church to participate in a variety of activities! It could range from kickball\, dodgeball\, basketball\, nerf gun wars\, obstacle courses\, etc! This is a great way to release a lot of pent up energy and have fun with your friends!\n\nThere is no good address for Holy Family on Google. The address that will take you to the main parking lot is 11804 S. Saginaw St.\, Grand Blanc\, MI 48439\n\nSign up below to let us know you’re coming!\nhttps://www.signupgenius.com/go/10C0948A4A72FAAFBCE9-46999590-gymnight
URL:https://xceptionalheroes.org/event/gym-night-9/
LOCATION:Holy Family Catholic Church\, 11804 S. Saginaw St\, Grand Blanc\, MI\, 48439\, United States
CATEGORIES:Free For All
ATTACH;FMTTYPE=image/jpeg:https://xceptionalheroes.org/wp-content/uploads/2022/10/gym-night.jpg
END:VEVENT
BEGIN:VEVENT
DTSTART;TZID=UTC:20240118T120000
DTEND;TZID=UTC:20240118T130000
DTSTAMP:20260425T120125
CREATED:20231230T161119Z
LAST-MODIFIED:20231230T161119Z
UID:2875-1705579200-1705582800@xceptionalheroes.org
SUMMARY:Fitness Class
DESCRIPTION:Join Jennifer and Crew for fitness\, wellness\, and nutrition tips!  Bring your accountability journals\, comfortable clothing\, and water!  Sign up below and let us know you are coming! \nSign up below: \nhttps://www.signupgenius.com/go/10C0948A4A72FAAFBCE9-46999576-fitness
URL:https://xceptionalheroes.org/event/fitness-class-37/
LOCATION:Ascension Genesys Health Club\, 801 Health Park Blvd\, Grand Blanc\, MI\, 48439
CATEGORIES:Free For All
ATTACH;FMTTYPE=image/jpeg:https://xceptionalheroes.org/wp-content/uploads/2022/10/fitness.jpg
END:VEVENT
BEGIN:VEVENT
DTSTART;TZID=UTC:20240116T183000
DTEND;TZID=UTC:20240116T193000
DTSTAMP:20260425T120125
CREATED:20231230T164213Z
LAST-MODIFIED:20231230T164213Z
UID:2896-1705429800-1705433400@xceptionalheroes.org
SUMMARY:Yoga with Kelsey
DESCRIPTION:Kelsey is a certified yoga instructor and she is also an amputee.  Kelsey walks the same path as our Heroes and she has so much to offer our group!  Kelsey has had national coverage for her courage and ability to overcome adversity! \nDress comfortably\, bring your yoga mats\, and water!  Ladies\, keep in mind that yoga involves a lot of inverted poses so be mindful to wear tops that won’t slide up and gentlemen\, please wear pants that will stay up!  Yoga is typically done in bare feet\, but if you are uncomfortable with that\, you can purchase yoga socks. \nWe have plenty of yoga mats available\, but if you have your own mat please bring it along with plenty of water! \nSign up below to let us know you are attending!  Yoga is being moved to a new location at Holy Family Catholic Church\, see address details. \nhttps://www.signupgenius.com/go/10C0948A4A72FAAFBCE9-46999589-yoga
URL:https://xceptionalheroes.org/event/yoga-with-kelsey-26/
LOCATION:Holy Family Catholic Church\, 11804 S. Saginaw St\, Grand Blanc\, MI\, 48439\, United States
CATEGORIES:Free For All
ATTACH;FMTTYPE=image/jpeg:https://xceptionalheroes.org/wp-content/uploads/2022/10/yoga.jpg
END:VEVENT
BEGIN:VEVENT
DTSTART;TZID=UTC:20240112T180000
DTEND;TZID=UTC:20240112T200000
DTSTAMP:20260425T120125
CREATED:20231230T162034Z
LAST-MODIFIED:20231230T162034Z
UID:2885-1705082400-1705089600@xceptionalheroes.org
SUMMARY:Social Hour
DESCRIPTION:Join us for another fun evening of dancing\, karaoke\, activities and more! Light snacks and refreshments will be provided\, but we will no longer be providing a full meal for this event. It is prohibitive to our Heroes to engage with one another and enjoy the 2 hours they have when a large portion of the time is spent eating. Please feel free to bring your dinner with you\, and/or any snacks/refreshments you would like to share with the group! Click on the link below to let us know you will be attending! \n  \nPlease register below: \nhttps://www.signupgenius.com/go/10C0948A4A72FAAFBCE9-46999584-social
URL:https://xceptionalheroes.org/event/social-hour-4/
LOCATION:Faith Lutheran\, 12534 Holly Road\, Grand Blanc\, MI\, 48439\, United States
CATEGORIES:Free For All
ATTACH;FMTTYPE=image/jpeg:https://xceptionalheroes.org/wp-content/uploads/2023/05/disco.jpg
END:VEVENT
BEGIN:VEVENT
DTSTART;TZID=UTC:20240111T120000
DTEND;TZID=UTC:20240111T130000
DTSTAMP:20260425T120125
CREATED:20231230T161013Z
LAST-MODIFIED:20231230T161013Z
UID:2873-1704974400-1704978000@xceptionalheroes.org
SUMMARY:Fitness Class
DESCRIPTION:Join Jennifer and Crew for fitness\, wellness\, and nutrition tips!  Bring your accountability journals\, comfortable clothing\, and water!  Sign up below and let us know you are coming! \nSign up below: \nhttps://www.signupgenius.com/go/10C0948A4A72FAAFBCE9-46999575-fitness
URL:https://xceptionalheroes.org/event/fitness-class-36/
LOCATION:Ascension Genesys Health Club\, 801 Health Park Blvd\, Grand Blanc\, MI\, 48439
CATEGORIES:Free For All
ATTACH;FMTTYPE=image/jpeg:https://xceptionalheroes.org/wp-content/uploads/2022/10/fitness.jpg
END:VEVENT
BEGIN:VEVENT
DTSTART;TZID=UTC:20240110T173000
DTEND;TZID=UTC:20240110T190000
DTSTAMP:20260425T120125
CREATED:20231230T161649Z
LAST-MODIFIED:20231230T161649Z
UID:2881-1704907800-1704913200@xceptionalheroes.org
SUMMARY:Bingo Night
DESCRIPTION:We are finally brining Bingo back!! Bubba and Tina will be our leaders for this very popular activity! We have moved venues and will now be meeting at Richfield Road Church!\n\nBring $2.50 in quarters. You will pay $0.25 per card to play\, plus a jackpot game at the end! Bubba and Tina really know how to mix the games up and make it so much fun for all!\n\nPlease sign up below to let us know you are coming!\nhttps://www.signupgenius.com/go/10C0948A4A72FAAFBCE9-46999580-bingo
URL:https://xceptionalheroes.org/event/bingo-night-2/
LOCATION:Richfield Road Church\, 6259 Richfield Rd\, Flint\, 48506
CATEGORIES:Ticket or Entry Costs
ATTACH;FMTTYPE=image/jpeg:https://xceptionalheroes.org/wp-content/uploads/2023/11/bingo.jpg
END:VEVENT
BEGIN:VEVENT
DTSTART;TZID=UTC:20240109T173000
DTEND;TZID=UTC:20240109T193000
DTSTAMP:20260425T120125
CREATED:20231230T222843Z
LAST-MODIFIED:20240107T204806Z
UID:2898-1704821400-1704828600@xceptionalheroes.org
SUMMARY:Laser Tag
DESCRIPTION:We didn’t play Laser Tag at all last year\, it’s time to put it back on the calendar! Join Christopher and the Heroes at RollHaven for Laser Tag!\n\nThe cost is $5 admission for participants and family members\, the laser tag is $2 per game. Games typically last about 15 minutes.
URL:https://xceptionalheroes.org/event/laser-tag/
LOCATION:Rollhaven\, 5315 S. Saginaw St\, Grand Blanc\, MI\, 48507\, United States
CATEGORIES:Ticket or Entry Costs
ATTACH;FMTTYPE=image/png:https://xceptionalheroes.org/wp-content/uploads/2023/01/Laser-Tag-Guns.png
END:VEVENT
BEGIN:VEVENT
DTSTART;TZID=UTC:20231025T180000
DTEND;TZID=UTC:20231025T190000
DTSTAMP:20260425T120125
CREATED:20230930T145046Z
LAST-MODIFIED:20230930T145046Z
UID:2713-1698256800-1698260400@xceptionalheroes.org
SUMMARY:Dance/Movement Class
DESCRIPTION:Our first class at Thomson Elementary School in Davison\, MI was wildly successful! Holly Halibicki has generously offered to conduct this class and XH has taken on the cost – so all you have to do is show up!\n\nWear comfortable clothing and shoes and get ready to groove!\nPlease register below. We can only take the first 20 registrations for this event and cannot make any exceptions.\n\nhttps://www.signupgenius.com/go/10C0948A4A72FAAFBCE9-44772533-dancemovement
URL:https://xceptionalheroes.org/event/dance-movement-class-2/
LOCATION:Thomson Elementary School\, 617 E. Clark St\, Davison\, MI\, 48423\, United States
CATEGORIES:Free For All
ATTACH;FMTTYPE=image/jpeg:https://xceptionalheroes.org/wp-content/uploads/2023/08/dance.jpg
END:VEVENT
BEGIN:VEVENT
DTSTART;TZID=UTC:20231024T183000
DTEND;TZID=UTC:20231024T193000
DTSTAMP:20260425T120125
CREATED:20230930T142237Z
LAST-MODIFIED:20230930T142342Z
UID:2693-1698172200-1698175800@xceptionalheroes.org
SUMMARY:Yoga with Kelsey
DESCRIPTION:Kelsey is a certified yoga instructor and she is also an amputee.  Kelsey walks the same path as our Heroes and she has so much to offer our group!  Kelsey has had national coverage for her courage and ability to overcome adversity! \nDress comfortably\, bring your yoga mats\, and water!  Ladies\, keep in mind that yoga involves a lot of inverted poses so be mindful to wear tops that won’t slide up and gentlemen\, please wear pants that will stay up!  Yoga is typically done in bare feet\, but if you are uncomfortable with that\, you can purchase yoga socks. \nWe have plenty of yoga mats available\, but if you have your own mat please bring it along with plenty of water!  Please also watch for location updates as class could be held outdoors at Bicentennial Park\, McFarlen Library\, or at Faith Lutheran church – weather dependent. \nSign up below to let us know you are attending! \nhttps://www.signupgenius.com/go/10C0948A4A72FAAFBCE9-44709995-yoga
URL:https://xceptionalheroes.org/event/yoga-with-kelsey-21/
LOCATION:MI
CATEGORIES:Free For All
ATTACH;FMTTYPE=image/jpeg:https://xceptionalheroes.org/wp-content/uploads/2022/10/yoga.jpg
END:VEVENT
BEGIN:VEVENT
DTSTART;TZID=UTC:20231022T170000
DTEND;TZID=UTC:20231022T190000
DTSTAMP:20260425T120125
CREATED:20230930T144604Z
LAST-MODIFIED:20230930T144604Z
UID:2709-1697994000-1698001200@xceptionalheroes.org
SUMMARY:Spicer's Orchard
DESCRIPTION:Meet us at Spicer’s Orchard for apple cider\, donuts\, hayrides\, and more! Please come prepared to purchase your own cider and donuts! As with any day in Michigan during the Fall\, the event is contingent on the weather cooperating!!\n\nPlease sign up below to let us know you will be attending!\nhttps://www.signupgenius.com/go/10C0948A4A72FAAFBCE9-44772227-spicers
URL:https://xceptionalheroes.org/event/spicers-orchard/
LOCATION:Spicer’s Orchard\, 10411 Clyde Rd\, Fenton\, MI\, 48430\, United States
END:VEVENT
BEGIN:VEVENT
DTSTART;TZID=UTC:20231020T180000
DTEND;TZID=UTC:20231020T200000
DTSTAMP:20260425T120126
CREATED:20230930T144119Z
LAST-MODIFIED:20231020T160130Z
UID:2707-1697824800-1697832000@xceptionalheroes.org
SUMMARY:Social Hour
DESCRIPTION:UNFORTUNATELY FAITH LUTHERAN CHURCH HAS CANCELED OUR MONTHLY SOCIAL DUE TO A CONFLICT WITH A HALLOWEEN EVENT HELD AT THE CHURCH.  WE WILL NOT HAVE ACCESS TO THE GYMNASIUM TONIGHT. \n  \nWE ARE SINCERELY SORRY FOR THE SHORT NOTICE AND INCONVENIENCE.  WE WERE NOT ADVISED OF THIS UNTIL 11:45AM.
URL:https://xceptionalheroes.org/event/social-hour-2/
LOCATION:Faith Lutheran\, 12534 Holly Road\, Grand Blanc\, MI\, 48439\, United States
CATEGORIES:Free For All
ATTACH;FMTTYPE=image/jpeg:https://xceptionalheroes.org/wp-content/uploads/2023/05/disco.jpg
END:VEVENT
BEGIN:VEVENT
DTSTART;TZID=UTC:20231019T120000
DTEND;TZID=UTC:20231019T130000
DTSTAMP:20260425T120126
CREATED:20230930T141229Z
LAST-MODIFIED:20230930T141229Z
UID:2687-1697716800-1697720400@xceptionalheroes.org
SUMMARY:Fitness Class
DESCRIPTION:Join Jennifer and Crew for fitness\, wellness\, and nutrition tips!  Bring your accountability journals\, comfortable clothing\, and water!  Sign up below and let us know you are coming! \nSign up below: \nhttps://www.signupgenius.com/go/10C0948A4A72FAAFBCE9-44709435-fitness
URL:https://xceptionalheroes.org/event/fitness-class-25/
LOCATION:Ascension Genesys Health Club\, 801 Health Park Blvd\, Grand Blanc\, MI\, 48439
CATEGORIES:Free For All
ATTACH;FMTTYPE=image/jpeg:https://xceptionalheroes.org/wp-content/uploads/2022/10/fitness.jpg
END:VEVENT
BEGIN:VEVENT
DTSTART;TZID=UTC:20231018T180000
DTEND;TZID=UTC:20231018T200000
DTSTAMP:20260425T120126
CREATED:20230930T143944Z
LAST-MODIFIED:20230930T143944Z
UID:2704-1697652000-1697659200@xceptionalheroes.org
SUMMARY:Cooking Class
DESCRIPTION:Join Teresa and Chris Huff at Grand Blanc High School-West Campus\, Room 707\, for our cooking class!\nWe will be preparing homemade pizza! Chris and Teresa will select 2 participants from the class to go to the grocery store and learn how to shop for ingredients (this will rotate from class to class!)\n\nIn order to attend\, you must register through the link below. The cost is $10/class which covers the room rental and cost of the groceries.\n\nhttps://anc.apm.activecommunities.com/gbparks/activity/search/detail/347?onlineSiteId=0&from_original_cui=true&locale=en-US
URL:https://xceptionalheroes.org/event/cooking-class-6/
LOCATION:Grand Blanc HS West Campus\, 1 Jewett Trail\, Grand Blanc\, MI\, 48439
CATEGORIES:Ticket or Entry Costs
ATTACH;FMTTYPE=image/jpeg:https://xceptionalheroes.org/wp-content/uploads/2023/09/pizza.jpg
END:VEVENT
END:VCALENDAR