BEGIN:VCALENDAR
VERSION:2.0
PRODID:-//Xceptional Heroes - ECPv6.15.20//NONSGML v1.0//EN
CALSCALE:GREGORIAN
METHOD:PUBLISH
X-WR-CALNAME:Xceptional Heroes
X-ORIGINAL-URL:https://xceptionalheroes.org
X-WR-CALDESC:Events for Xceptional Heroes
REFRESH-INTERVAL;VALUE=DURATION:PT1H
X-Robots-Tag:noindex
X-PUBLISHED-TTL:PT1H
BEGIN:VTIMEZONE
TZID:UTC
BEGIN:STANDARD
TZOFFSETFROM:+0000
TZOFFSETTO:+0000
TZNAME:UTC
DTSTART:20220101T000000
END:STANDARD
END:VTIMEZONE
BEGIN:VEVENT
DTSTART;TZID=UTC:20230611T120000
DTEND;TZID=UTC:20230611T153000
DTSTAMP:20260425T163155
CREATED:20230601T204128Z
LAST-MODIFIED:20230601T204128Z
UID:2499-1686484800-1686497400@xceptionalheroes.org
SUMMARY:Movie Matinee & Lunch at BWW
DESCRIPTION:Come join Christopher and crew for lunch at Buffalo Wild Wings followed by Spiderman – Across the Spider-Verse at NCG Trillium next door! The actual times will be updated closer to the date when the theater releases the movie times!\n\nhttps://www.signupgenius.com/go/10C0948A4A72FAAFBCE9-movie4
URL:https://xceptionalheroes.org/event/movie-matinee-lunch-at-bww-7/
LOCATION:NCG Triullium\, 8220 Trillium Circle Ave\, Grand Blanc\, MI\, 48439\, United States
CATEGORIES:Ticket or Entry Costs
ATTACH;FMTTYPE=image/jpeg:https://xceptionalheroes.org/wp-content/uploads/2023/06/spiderman.jpg
END:VEVENT
BEGIN:VEVENT
DTSTART;TZID=UTC:20230608T120000
DTEND;TZID=UTC:20230608T130000
DTSTAMP:20260425T163155
CREATED:20230601T202818Z
LAST-MODIFIED:20230601T202818Z
UID:2489-1686225600-1686229200@xceptionalheroes.org
SUMMARY:Fitness Class
DESCRIPTION:Join Jennifer and Crew at Ascension Genesys Health Club for fitness\, wellness\, and nutrition tips!  Bring your accountability journals\, comfortable clothing\, and water!  Sign up below and let us know you are coming! \nhttps://www.signupgenius.com/go/10C0948A4A72FAAFBCE9-fitness3
URL:https://xceptionalheroes.org/event/fitness-class-6/
LOCATION:Ascension Genesys Health Club\, 801 Health Park Blvd\, Grand Blanc\, MI\, 48439
CATEGORIES:Free For All
ATTACH;FMTTYPE=image/jpeg:https://xceptionalheroes.org/wp-content/uploads/2022/10/fitness.jpg
END:VEVENT
BEGIN:VEVENT
DTSTART;TZID=UTC:20230607T180000
DTEND;TZID=UTC:20230607T200000
DTSTAMP:20260425T163155
CREATED:20230601T203420Z
LAST-MODIFIED:20230601T203420Z
UID:2497-1686160800-1686168000@xceptionalheroes.org
SUMMARY:Montrose Gym Night
DESCRIPTION:Join us for Gym Night at Carter Elementary in Montrose to participate in a variety of activities!  It could range from kickball\, dodgeball\, basketball\, nerf gun wars\, obstacle courses\, etc!  This is a great way to release a lot of pent up energy and have fun with your friends! \nSign up below to let us know you are coming! \nhttps://www.signupgenius.com/go/10C0948A4A72FAAFBCE9-montrose2 \n 
URL:https://xceptionalheroes.org/event/montrose-gym-night-6/
LOCATION:Carter Elementary\, 200 Park St\, Montrose\, MI\, 48457\, United States
CATEGORIES:Free For All
ATTACH;FMTTYPE=image/jpeg:https://xceptionalheroes.org/wp-content/uploads/2022/10/gym-night.jpg
END:VEVENT
BEGIN:VEVENT
DTSTART;TZID=UTC:20230601T120000
DTEND;TZID=UTC:20230601T130000
DTSTAMP:20260425T163155
CREATED:20230601T202735Z
LAST-MODIFIED:20230601T202735Z
UID:2487-1685620800-1685624400@xceptionalheroes.org
SUMMARY:Fitness Class
DESCRIPTION:Join Jennifer and Crew at Ascension Genesys Health Club for fitness\, wellness\, and nutrition tips!  Bring your accountability journals\, comfortable clothing\, and water!  Sign up below and let us know you are coming! \nhttps://www.signupgenius.com/go/10C0948A4A72FAAFBCE9-fitness3
URL:https://xceptionalheroes.org/event/fitness-class-5/
LOCATION:Ascension Genesys Health Club\, 801 Health Park Blvd\, Grand Blanc\, MI\, 48439
CATEGORIES:Free For All
ATTACH;FMTTYPE=image/jpeg:https://xceptionalheroes.org/wp-content/uploads/2022/10/fitness.jpg
END:VEVENT
BEGIN:VEVENT
DTSTART;TZID=UTC:20230531T180000
DTEND;TZID=UTC:20230531T200000
DTSTAMP:20260425T163155
CREATED:20230504T002345Z
LAST-MODIFIED:20230504T002345Z
UID:2445-1685556000-1685563200@xceptionalheroes.org
SUMMARY:Montrose Gym Night
DESCRIPTION:Join us for Gym Night at Carter Elementary in Montrose to participate in a variety of activities!  It could range from kickball\, dodgeball\, basketball\, nerf gun wars\, obstacle courses\, etc!  This is a great way to release a lot of pent up energy and have fun with your friends! \nSign up below to let us know you are coming! \nhttps://www.signupgenius.com/go/10C0948A4A72FAAFBCE9-montrose1 \n 
URL:https://xceptionalheroes.org/event/montrose-gym-night-5/
LOCATION:Carter Elementary\, 200 Park St\, Montrose\, MI\, 48457\, United States
CATEGORIES:Free For All
ATTACH;FMTTYPE=image/jpeg:https://xceptionalheroes.org/wp-content/uploads/2022/10/gym-night.jpg
END:VEVENT
BEGIN:VEVENT
DTSTART;TZID=UTC:20230528T120000
DTEND;TZID=UTC:20230528T153000
DTSTAMP:20260425T163155
CREATED:20230504T011425Z
LAST-MODIFIED:20230504T011425Z
UID:2467-1685275200-1685287800@xceptionalheroes.org
SUMMARY:Movie Matinee & Lunch at BWW
DESCRIPTION:Come join Christopher and crew for lunch at Buffalo Wild Wings followed by The Little Mermaid at NCG Trillium next door! The actual times will be updated closer to the date when the theater releases the movie times!\n\nhttps://www.signupgenius.com/go/10C0948A4A72FAAFBCE9-movie3
URL:https://xceptionalheroes.org/event/movie-matinee-lunch-at-bww-6/
LOCATION:NCG Triullium\, 8220 Trillium Circle Ave\, Grand Blanc\, MI\, 48439\, United States
CATEGORIES:Ticket or Entry Costs
ATTACH;FMTTYPE=image/jpeg:https://xceptionalheroes.org/wp-content/uploads/2023/05/mermaid.jpg
END:VEVENT
BEGIN:VEVENT
DTSTART;TZID=UTC:20230526T183000
DTEND;TZID=UTC:20230526T200000
DTSTAMP:20260425T163155
CREATED:20230504T011105Z
LAST-MODIFIED:20230504T011157Z
UID:2463-1685125800-1685131200@xceptionalheroes.org
SUMMARY:Volleyball/Basketball at Bicentennial Park
DESCRIPTION:Join us for some outdoor fun playing volleyball or basketball at Bicentennial Park!  Wear comfortable clothing and shoes\, and be sure to bring water!  Sign up on the link below to let us know you are coming! \nhttps://www.signupgenius.com/go/10C0948A4A72FAAFBCE9-volleyballbasketb
URL:https://xceptionalheroes.org/event/kickball-at-rust-park-2/
LOCATION:Bicentennial Park\, 1505 E. Grand Blanc Rd\, Grand Blanc\, MI\, 48439\, United States
CATEGORIES:Free For All
ATTACH;FMTTYPE=image/jpeg:https://xceptionalheroes.org/wp-content/uploads/2023/05/volleyball.jpg
END:VEVENT
BEGIN:VEVENT
DTSTART;TZID=UTC:20230525T183000
DTEND;TZID=UTC:20230525T200000
DTSTAMP:20260425T163155
CREATED:20230504T010130Z
LAST-MODIFIED:20230504T010130Z
UID:2459-1685039400-1685044800@xceptionalheroes.org
SUMMARY:Walk in the Park - McFarlen Library
DESCRIPTION:We will begin a monthly hike through local parks beginning this month!  Please join us at McFarlen Library to hike the trails behind the library!  There is a tree over 100 years old back there!  Please sign up and let us know you are attending!  Wear comfortable clothing and shoes and be sure to bring water! \nhttps://www.signupgenius.com/go/10C0948A4A72FAAFBCE9-walk
URL:https://xceptionalheroes.org/event/walk-in-the-park-mcfarlen-library/
LOCATION:McFarlen Library\, 515 Perry Rd\, Grand Blanc\, MI\, 48439\, United States
CATEGORIES:Free For All
ATTACH;FMTTYPE=image/jpeg:https://xceptionalheroes.org/wp-content/uploads/2023/05/walk.jpg
END:VEVENT
BEGIN:VEVENT
DTSTART;TZID=UTC:20230525T120000
DTEND;TZID=UTC:20230525T130000
DTSTAMP:20260425T163155
CREATED:20230504T001615Z
LAST-MODIFIED:20230504T001615Z
UID:2434-1685016000-1685019600@xceptionalheroes.org
SUMMARY:Fitness Class
DESCRIPTION:Join Jennifer and Crew at Ascension Genesys Health Club for fitness\, wellness\, and nutrition tips!  Bring your accountability journals\, comfortable clothing\, and water!  Sign up below and let us know you are coming! \nhttps://www.signupgenius.com/go/10C0948A4A72FAAFBCE9-fitness2
URL:https://xceptionalheroes.org/event/fitness-class-4/
LOCATION:Ascension Genesys Health Club\, 801 Health Park Blvd\, Grand Blanc\, MI\, 48439
CATEGORIES:Free For All
ATTACH;FMTTYPE=image/jpeg:https://xceptionalheroes.org/wp-content/uploads/2022/10/fitness.jpg
END:VEVENT
BEGIN:VEVENT
DTSTART;TZID=UTC:20230524T180000
DTEND;TZID=UTC:20230524T200000
DTSTAMP:20260425T163155
CREATED:20230504T002316Z
LAST-MODIFIED:20230504T002316Z
UID:2443-1684951200-1684958400@xceptionalheroes.org
SUMMARY:Montrose Gym Night
DESCRIPTION:Join us for Gym Night at Carter Elementary in Montrose to participate in a variety of activities!  It could range from kickball\, dodgeball\, basketball\, nerf gun wars\, obstacle courses\, etc!  This is a great way to release a lot of pent up energy and have fun with your friends! \nSign up below to let us know you are coming! \nhttps://www.signupgenius.com/go/10C0948A4A72FAAFBCE9-montrose1 \n 
URL:https://xceptionalheroes.org/event/montrose-gym-night-4/
LOCATION:Carter Elementary\, 200 Park St\, Montrose\, MI\, 48457\, United States
CATEGORIES:Free For All
ATTACH;FMTTYPE=image/jpeg:https://xceptionalheroes.org/wp-content/uploads/2022/10/gym-night.jpg
END:VEVENT
BEGIN:VEVENT
DTSTART;TZID=UTC:20230523T183000
DTEND;TZID=UTC:20230523T193000
DTSTAMP:20260425T163155
CREATED:20230504T005323Z
LAST-MODIFIED:20230504T005323Z
UID:2455-1684866600-1684870200@xceptionalheroes.org
SUMMARY:Kickball at Rust Park
DESCRIPTION:Join us for some outdoor fun playing kickball at Rust Park!  Wear comfortable clothing and shoes\, and be sure to bring water!  Sign up on the link below to let us know you are coming! \n  \nhttps://www.signupgenius.com/go/10C0948A4A72FAAFBCE9-kick
URL:https://xceptionalheroes.org/event/kickball-at-rust-park/
LOCATION:Rust Park\, 588 Rust Park Drive\, Grand Blanc\, MI\, 48439\, United States
CATEGORIES:Free For All
ATTACH;FMTTYPE=image/jpeg:https://xceptionalheroes.org/wp-content/uploads/2023/05/kickball.jpg
END:VEVENT
BEGIN:VEVENT
DTSTART;TZID=UTC:20230519T180000
DTEND;TZID=UTC:20230519T200000
DTSTAMP:20260425T163155
CREATED:20230504T004231Z
LAST-MODIFIED:20230504T004231Z
UID:2452-1684519200-1684526400@xceptionalheroes.org
SUMMARY:Spring Dinner/Dance
DESCRIPTION:We will be serving our Heroes a light dinner followed by dancing\, karaoke\, and general togetherness and fun!  Please join us and “Trip the lights Travolta”!!  Please sign up on the link below to let us know you are attending! \n  \nhttps://www.signupgenius.com/go/10C0948A4A72FAAFBCE9-dinner
URL:https://xceptionalheroes.org/event/spring-dinner-dance/
LOCATION:Faith Lutheran\, 12534 Holly Road\, Grand Blanc\, MI\, 48439\, United States
CATEGORIES:Free For All
ATTACH;FMTTYPE=image/jpeg:https://xceptionalheroes.org/wp-content/uploads/2023/05/disco.jpg
END:VEVENT
BEGIN:VEVENT
DTSTART;TZID=UTC:20230518T120000
DTEND;TZID=UTC:20230518T130000
DTSTAMP:20260425T163155
CREATED:20230504T001552Z
LAST-MODIFIED:20230504T001552Z
UID:2432-1684411200-1684414800@xceptionalheroes.org
SUMMARY:Fitness Class
DESCRIPTION:Join Jennifer and Crew at Ascension Genesys Health Club for fitness\, wellness\, and nutrition tips!  Bring your accountability journals\, comfortable clothing\, and water!  Sign up below and let us know you are coming! \nhttps://www.signupgenius.com/go/10C0948A4A72FAAFBCE9-fitness2
URL:https://xceptionalheroes.org/event/fitness-class-3/
LOCATION:Ascension Genesys Health Club\, 801 Health Park Blvd\, Grand Blanc\, MI\, 48439
CATEGORIES:Free For All
ATTACH;FMTTYPE=image/jpeg:https://xceptionalheroes.org/wp-content/uploads/2022/10/fitness.jpg
END:VEVENT
BEGIN:VEVENT
DTSTART;TZID=UTC:20230517T180000
DTEND;TZID=UTC:20230517T200000
DTSTAMP:20260425T163155
CREATED:20230504T002249Z
LAST-MODIFIED:20230504T002249Z
UID:2441-1684346400-1684353600@xceptionalheroes.org
SUMMARY:Montrose Gym Night
DESCRIPTION:Join us for Gym Night at Carter Elementary in Montrose to participate in a variety of activities!  It could range from kickball\, dodgeball\, basketball\, nerf gun wars\, obstacle courses\, etc!  This is a great way to release a lot of pent up energy and have fun with your friends! \nSign up below to let us know you are coming! \nhttps://www.signupgenius.com/go/10C0948A4A72FAAFBCE9-montrose1 \n 
URL:https://xceptionalheroes.org/event/montrose-gym-night-3/
LOCATION:Carter Elementary\, 200 Park St\, Montrose\, MI\, 48457\, United States
CATEGORIES:Free For All
ATTACH;FMTTYPE=image/jpeg:https://xceptionalheroes.org/wp-content/uploads/2022/10/gym-night.jpg
END:VEVENT
BEGIN:VEVENT
DTSTART;TZID=UTC:20230516T183000
DTEND;TZID=UTC:20230516T193000
DTSTAMP:20260425T163155
CREATED:20230504T001141Z
LAST-MODIFIED:20230504T001141Z
UID:2426-1684261800-1684265400@xceptionalheroes.org
SUMMARY:Yoga with Kelsey
DESCRIPTION:Kelsey is a certified yoga instructor and she is also an amputee.  Kelsey walks the same path as our Heroes and she has so much to offer our group!  Kelsey has had national coverage for her courage and ability to overcome adversity! \nDress comfortably\, bring your yoga mats\, and water!  Ladies\, keep in mind that yoga involves a lot of inverted poses so be mindful to wear tops that won’t slide up and gentlemen\, please wear pants that will stay up!  Yoga is typically done in bare feet\, but if you are uncomfortable with that\, you can purchase yoga socks. \nWe have plenty of yoga mats available\, but if you have your own mat please bring it along with plenty of water! \nSign up below to let us know you are attending! \nhttps://www.signupgenius.com/go/10C0948A4A72FAAFBCE9-yoga2
URL:https://xceptionalheroes.org/event/yoga-with-kelsey-12/
LOCATION:Faith Lutheran\, 12534 Holly Road\, Grand Blanc\, MI\, 48439\, United States
CATEGORIES:Free For All
ATTACH;FMTTYPE=image/jpeg:https://xceptionalheroes.org/wp-content/uploads/2022/10/yoga.jpg
END:VEVENT
BEGIN:VEVENT
DTSTART;TZID=UTC:20230513T130000
DTEND;TZID=UTC:20230513T170000
DTSTAMP:20260425T163155
CREATED:20230504T012925Z
LAST-MODIFIED:20230504T012925Z
UID:2474-1683982800-1683997200@xceptionalheroes.org
SUMMARY:Spring Cookout/Bonfire
DESCRIPTION:Please join us as we kick off the grilling season in style!  XH will be hosting the seasons’ first cookout and bonfire in honor of celebrating our very own Camryn Silverton as we send her off to Physician Assistant school this month!  Come out and help us wish her well and send her off to Chicago in style!  There is also a potluck signup on our Facebook page if you can bring a dish to pass.  XH will be providing the meat and condiments\, as well as water\, iced tea\, and lemonade.
URL:https://xceptionalheroes.org/event/spring-cookout-bonfire/
LOCATION:Teresa’s House\, 4403 Deer Park Pass\, Grand Blanc\, MI\, 48439\, United States
CATEGORIES:Free For All
ATTACH;FMTTYPE=image/jpeg:https://xceptionalheroes.org/wp-content/uploads/2023/05/cookout.jpg
END:VEVENT
BEGIN:VEVENT
DTSTART;TZID=UTC:20230512T173000
DTEND;TZID=UTC:20230512T193000
DTSTAMP:20260425T163155
CREATED:20230504T012146Z
LAST-MODIFIED:20230504T012146Z
UID:2470-1683912600-1683919800@xceptionalheroes.org
SUMMARY:Cornhole at Tyler's
DESCRIPTION:Join us at Tyler Shue’s house for some cornhole competition!!  In the event of inclement weather\, we will plan on bowling at Grand Blanc Lanes and we will make the announcement in plenty of time to give advance notice of any changes!  Please sign up on the link below to let us know you are attending! \nhttps://www.signupgenius.com/go/10C0948A4A72FAAFBCE9-cornhole
URL:https://xceptionalheroes.org/event/cornhole-at-tylers/
LOCATION:Tyler’s House\, 2312 Nichols Ave\, Flint\, MI\, 48507\, United States
CATEGORIES:Free For All
ATTACH;FMTTYPE=image/jpeg:https://xceptionalheroes.org/wp-content/uploads/2023/05/cornhole.jpg
END:VEVENT
BEGIN:VEVENT
DTSTART;TZID=UTC:20230511T120000
DTEND;TZID=UTC:20230511T130000
DTSTAMP:20260425T163155
CREATED:20230504T001527Z
LAST-MODIFIED:20230504T001527Z
UID:2430-1683806400-1683810000@xceptionalheroes.org
SUMMARY:Fitness Class
DESCRIPTION:Join Jennifer and Crew at Ascension Genesys Health Club for fitness\, wellness\, and nutrition tips!  Bring your accountability journals\, comfortable clothing\, and water!  Sign up below and let us know you are coming! \nhttps://www.signupgenius.com/go/10C0948A4A72FAAFBCE9-fitness2
URL:https://xceptionalheroes.org/event/fitness-class-2/
LOCATION:Ascension Genesys Health Club\, 801 Health Park Blvd\, Grand Blanc\, MI\, 48439
CATEGORIES:Free For All
ATTACH;FMTTYPE=image/jpeg:https://xceptionalheroes.org/wp-content/uploads/2022/10/fitness.jpg
END:VEVENT
BEGIN:VEVENT
DTSTART;TZID=UTC:20230510T180000
DTEND;TZID=UTC:20230510T200000
DTSTAMP:20260425T163155
CREATED:20230504T003825Z
LAST-MODIFIED:20230504T003825Z
UID:2449-1683741600-1683748800@xceptionalheroes.org
SUMMARY:Cooking Class
DESCRIPTION:Join Teresa and Chris Huff at Grand Blanc High School-West Campus\, Room 707\, for our cooking class!\nWe will be preparing mexican dishes in honor of Cinco de Mayo for this class!  Burritos\, tacos\, and nachos are on the menu!\n\nIn order to attend\, you must register through the link below. The cost is $10/class which covers the room rental and cost of the groceries.\n\nhttps://anc.apm.activecommunities.com/gbparks/activity/search/detail/279?onlineSiteId=0&locale=en-US&from_original_cui=true&fbclid=IwAR0crMbfmZFMkdDps0_uJKq4CHh7Ef-A6CZE9tVn6VtDY5fDVZP3akaDio4
URL:https://xceptionalheroes.org/event/cooking-class-4/
LOCATION:Grand Blanc HS West Campus\, 1 Jewett Trail\, Grand Blanc\, MI\, 48439
CATEGORIES:Ticket or Entry Costs
ATTACH;FMTTYPE=image/jpeg:https://xceptionalheroes.org/wp-content/uploads/2023/05/mexican.jpg
END:VEVENT
BEGIN:VEVENT
DTSTART;TZID=UTC:20230510T180000
DTEND;TZID=UTC:20230510T200000
DTSTAMP:20260425T163156
CREATED:20230504T002135Z
LAST-MODIFIED:20230504T002159Z
UID:2439-1683741600-1683748800@xceptionalheroes.org
SUMMARY:Montrose Gym Night
DESCRIPTION:Join us for Gym Night at Carter Elementary in Montrose to participate in a variety of activities!  It could range from kickball\, dodgeball\, basketball\, nerf gun wars\, obstacle courses\, etc!  This is a great way to release a lot of pent up energy and have fun with your friends! \nSign up below to let us know you are coming! \nhttps://www.signupgenius.com/go/10C0948A4A72FAAFBCE9-montrose1 \n 
URL:https://xceptionalheroes.org/event/montrose-gym-night-2/
LOCATION:Carter Elementary\, 200 Park St\, Montrose\, MI\, 48457\, United States
CATEGORIES:Free For All
ATTACH;FMTTYPE=image/jpeg:https://xceptionalheroes.org/wp-content/uploads/2022/10/gym-night.jpg
END:VEVENT
BEGIN:VEVENT
DTSTART;TZID=UTC:20230509T173000
DTEND;TZID=UTC:20230509T183000
DTSTAMP:20260425T163156
CREATED:20230504T003059Z
LAST-MODIFIED:20230504T005547Z
UID:2447-1683653400-1683657000@xceptionalheroes.org
SUMMARY:Spring Cleanup at Faith Lutheran - Heroes on the Job!
DESCRIPTION:Faith Lutheran Church has so generously allowed Xceptional Heroes use their beautiful facility for our events and activities.  They are very supportive of our mission.  We are asking our Heroes and Families to repay their kindness by volunteering a couple hours of your day to help perform some Spring cleanup around the church grounds.  This is an important opportunity for our Heroes to give back to their community!  Sign up below to let us know we can count on your help! \nhttps://www.signupgenius.com/go/10C0948A4A72FAAFBCE9-spring
URL:https://xceptionalheroes.org/event/spring-cleanup-at-faith-lutheran-heroes-on-the-job/
LOCATION:Faith Lutheran\, 12534 Holly Road\, Grand Blanc\, MI\, 48439\, United States
CATEGORIES:Free For All
ATTACH;FMTTYPE=image/jpeg:https://xceptionalheroes.org/wp-content/uploads/2023/05/faith.jpg
END:VEVENT
BEGIN:VEVENT
DTSTART;TZID=UTC:20230504T120000
DTEND;TZID=UTC:20230504T130000
DTSTAMP:20260425T163156
CREATED:20230504T001500Z
LAST-MODIFIED:20230504T001500Z
UID:2428-1683201600-1683205200@xceptionalheroes.org
SUMMARY:Fitness Class
DESCRIPTION:Join Jennifer and Crew at Ascension Genesys Health Club for fitness\, wellness\, and nutrition tips!  Bring your accountability journals\, comfortable clothing\, and water!  Sign up below and let us know you are coming! \nhttps://www.signupgenius.com/go/10C0948A4A72FAAFBCE9-fitness2
URL:https://xceptionalheroes.org/event/fitness-class/
LOCATION:Ascension Genesys Health Club\, 801 Health Park Blvd\, Grand Blanc\, MI\, 48439
CATEGORIES:Free For All
ATTACH;FMTTYPE=image/jpeg:https://xceptionalheroes.org/wp-content/uploads/2022/10/fitness.jpg
END:VEVENT
BEGIN:VEVENT
DTSTART;TZID=UTC:20230503T180000
DTEND;TZID=UTC:20230503T200000
DTSTAMP:20260425T163156
CREATED:20230504T001947Z
LAST-MODIFIED:20230504T002220Z
UID:2436-1683136800-1683144000@xceptionalheroes.org
SUMMARY:Montrose Gym Night
DESCRIPTION:Join us for Gym Night at Carter Elementary in Montrose to participate in a variety of activities!  It could range from kickball\, dodgeball\, basketball\, nerf gun wars\, obstacle courses\, etc!  This is a great way to release a lot of pent up energy and have fun with your friends! \nSign up below to let us know you are coming! \nhttps://www.signupgenius.com/go/10C0948A4A72FAAFBCE9-montrose1 \n 
URL:https://xceptionalheroes.org/event/montrose-gym-night/
LOCATION:Carter Elementary\, 200 Park St\, Montrose\, MI\, 48457\, United States
CATEGORIES:Free For All
ATTACH;FMTTYPE=image/jpeg:https://xceptionalheroes.org/wp-content/uploads/2022/10/gym-night.jpg
END:VEVENT
BEGIN:VEVENT
DTSTART;TZID=UTC:20230430T120000
DTEND;TZID=UTC:20230430T153000
DTSTAMP:20260425T163156
CREATED:20230331T144238Z
LAST-MODIFIED:20230331T144238Z
UID:2420-1682856000-1682868600@xceptionalheroes.org
SUMMARY:Movie Matinee & Lunch at BWW
DESCRIPTION:Come join Christopher and crew for lunch at Buffalo Wild Wings followed by Super Mario at NCG Trillium next door! The actual times will be updated closer to the date when the theater releases the movie times!
URL:https://xceptionalheroes.org/event/movie-matinee-lunch-at-bww-5/
LOCATION:NCG Triullium\, 8220 Trillium Circle Ave\, Grand Blanc\, MI\, 48439\, United States
CATEGORIES:Ticket or Entry Costs
ATTACH;FMTTYPE=image/jpeg:https://xceptionalheroes.org/wp-content/uploads/2023/03/mario.jpg
END:VEVENT
BEGIN:VEVENT
DTSTART;TZID=UTC:20230427T120000
DTEND;TZID=UTC:20230427T130000
DTSTAMP:20260425T163156
CREATED:20230331T135819Z
LAST-MODIFIED:20230331T135819Z
UID:2392-1682596800-1682600400@xceptionalheroes.org
SUMMARY:Fitness with Cam
DESCRIPTION:Join Cam and Crew at Ascension Genesys Health Club for fitness\, wellness\, and nutrition tips!  Bring your accountability journals\, comfortable clothing\, and water!
URL:https://xceptionalheroes.org/event/fitness-with-cam-28/
LOCATION:Ascension Genesys Health Club\, 801 Health Park Blvd\, Grand Blanc\, MI\, 48439
CATEGORIES:Free For All
ATTACH;FMTTYPE=image/jpeg:https://xceptionalheroes.org/wp-content/uploads/2022/10/fitness.jpg
END:VEVENT
BEGIN:VEVENT
DTSTART;TZID=UTC:20230425T170000
DTEND;TZID=UTC:20230425T193000
DTSTAMP:20260425T163156
CREATED:20230331T143831Z
LAST-MODIFIED:20230331T143831Z
UID:2418-1682442000-1682451000@xceptionalheroes.org
SUMMARY:Parent University - Bingo with Heroes
DESCRIPTION:We will have a special presentation that is appropriate for all parents and caregivers\, but our Heroes are strongly encouraged to attend as well.  Bingo will still be available in the Youth Lounge for those who don’t want to attend. \nWe will have snacks and water available during arrivals between 5:00-5:30pm\, the presentation will begin at 5:30. \nWe will update once our speaker has been confirmed! \nPlease sign up to indicate that you are attending! \nhttps://www.signupgenius.com/go/10C0948A4A72FAAFBCE9-parent
URL:https://xceptionalheroes.org/event/parent-university-bingo-with-heroes-5/
LOCATION:Faith Lutheran\, 12534 Holly Road\, Grand Blanc\, MI\, 48439\, United States
CATEGORIES:Free For All
ATTACH;FMTTYPE=image/png:https://xceptionalheroes.org/wp-content/uploads/2023/02/parent-university.png
END:VEVENT
BEGIN:VEVENT
DTSTART;VALUE=DATE:20230423
DTEND;VALUE=DATE:20230424
DTSTAMP:20260425T163156
CREATED:20230331T143647Z
LAST-MODIFIED:20230331T143651Z
UID:2414-1682208000-1682294399@xceptionalheroes.org
SUMMARY:Meijer Gardens Butterfly Exhibit
DESCRIPTION:This will be an all-day field trip to Grand Rapids to enjoy the butterflies! We will coordinate a carpool convoy to assist with those who will need transportation. Pack a picnic lunch and we will have a wonderful day together! Wear comfortable clothing and walking shoes!\n\nFred & Dorothy Fichter Butterflies Are Blooming\n\nThe annual Fred & Dorothy Fichter Butterflies Are Blooming exhibition at Meijer Gardens is the largest temporary tropical butterfly exhibition in the nation. Tropical butterflies from around the world fly freely in the Lena Meijer Tropical Conservatory every March and April.\n\nThroughout the exhibition\, there is special educational programming and the Lena Meijer Children’s Garden offers butterfly-themed activities.\n\nCosts are: Adults – $20\, Seniors (65 and older) – $15\, Students w/ ID – $15\, Children (3-13) – $10\, Children (2 and younger) – Free\n\nPlease sign up below and select the appropriate ticket category in Sign up genius:\nhttps://www.signupgenius.com/go/10C0948A4A72FAAFBCE9-meijer
URL:https://xceptionalheroes.org/event/meijer-gardens-butterfly-exhibit/
LOCATION:Frederik Meijer Gardens\, 1000 E Beltline Ave NE\, Grand Rapids\, MI\, United States
CATEGORIES:Ticket or Entry Costs
ATTACH;FMTTYPE=image/jpeg:https://xceptionalheroes.org/wp-content/uploads/2023/03/butterfly.jpg
END:VEVENT
BEGIN:VEVENT
DTSTART;TZID=UTC:20230422T110000
DTEND;TZID=UTC:20230422T140000
DTSTAMP:20260425T163156
CREATED:20230331T142809Z
LAST-MODIFIED:20230331T143148Z
UID:2410-1682161200-1682172000@xceptionalheroes.org
SUMMARY:For-Mar Earth Day Program
DESCRIPTION:Are you looking for a way to celebrate Earth Day 2023? We have the perfect event for you. Join us for our Earth Day pop-up program at For-Mar. During this pop-up program we will have variety of different earth day inspired activities\, including recycled crafts\, live animals\, and garden fun!\nFor all ages and abilities.\nCost: Free\n\nPre-registration is not required for Far-Mar\, but we are requesting you sign up so we can coordinate volunteers and any transportation needs:\nhttps://www.signupgenius.com/go/10C0948A4A72FAAFBCE9-formar
URL:https://xceptionalheroes.org/event/for-mar-earth-day-program/
LOCATION:ForMar Nature Preserve\, 2142 N. Genesee Rd\, Burton\, MI\, 48509\, United States
CATEGORIES:Free For All
ATTACH;FMTTYPE=image/jpeg:https://xceptionalheroes.org/wp-content/uploads/2023/03/earth.jpg
END:VEVENT
BEGIN:VEVENT
DTSTART;TZID=UTC:20230421T170000
DTEND;TZID=UTC:20230421T190000
DTSTAMP:20260425T163156
CREATED:20230331T142544Z
LAST-MODIFIED:20230331T142544Z
UID:2408-1682096400-1682103600@xceptionalheroes.org
SUMMARY:Gym Night
DESCRIPTION:Join us for Gym Night at Faith Lutheran Church to participate in a variety of activities!  It could range from kickball\, dodgeball\, basketball\, nerf gun wars\, obstacle courses\, etc!  This is a great way to release a lot of pent up energy and have fun with your friends! \nSign up below to let us know you are coming! \nhttps://www.signupgenius.com/go/10C0948A4A72FAAFBCE9-gymnight \n 
URL:https://xceptionalheroes.org/event/gym-night-8/
LOCATION:Faith Lutheran\, 12534 Holly Road\, Grand Blanc\, MI\, 48439\, United States
CATEGORIES:Free For All
ATTACH;FMTTYPE=image/jpeg:https://xceptionalheroes.org/wp-content/uploads/2022/10/gym-night.jpg
END:VEVENT
BEGIN:VEVENT
DTSTART;TZID=UTC:20230420T120000
DTEND;TZID=UTC:20230420T130000
DTSTAMP:20260425T163156
CREATED:20230331T135744Z
LAST-MODIFIED:20230331T135744Z
UID:2390-1681992000-1681995600@xceptionalheroes.org
SUMMARY:Fitness with Cam
DESCRIPTION:Join Cam and Crew at Ascension Genesys Health Club for fitness\, wellness\, and nutrition tips!  Bring your accountability journals\, comfortable clothing\, and water!
URL:https://xceptionalheroes.org/event/fitness-with-cam-27/
LOCATION:Ascension Genesys Health Club\, 801 Health Park Blvd\, Grand Blanc\, MI\, 48439
CATEGORIES:Free For All
ATTACH;FMTTYPE=image/jpeg:https://xceptionalheroes.org/wp-content/uploads/2022/10/fitness.jpg
END:VEVENT
END:VCALENDAR