BEGIN:VCALENDAR
VERSION:2.0
PRODID:-//Xceptional Heroes - ECPv6.15.20//NONSGML v1.0//EN
CALSCALE:GREGORIAN
METHOD:PUBLISH
X-WR-CALNAME:Xceptional Heroes
X-ORIGINAL-URL:https://xceptionalheroes.org
X-WR-CALDESC:Events for Xceptional Heroes
REFRESH-INTERVAL;VALUE=DURATION:PT1H
X-Robots-Tag:noindex
X-PUBLISHED-TTL:PT1H
BEGIN:VTIMEZONE
TZID:UTC
BEGIN:STANDARD
TZOFFSETFROM:+0000
TZOFFSETTO:+0000
TZNAME:UTC
DTSTART:20220101T000000
END:STANDARD
END:VTIMEZONE
BEGIN:VEVENT
DTSTART;TZID=UTC:20230413T120000
DTEND;TZID=UTC:20230413T130000
DTSTAMP:20260425T155053
CREATED:20230331T135721Z
LAST-MODIFIED:20230331T135721Z
UID:2388-1681387200-1681390800@xceptionalheroes.org
SUMMARY:Fitness with Cam
DESCRIPTION:Join Cam and Crew at Ascension Genesys Health Club for fitness\, wellness\, and nutrition tips!  Bring your accountability journals\, comfortable clothing\, and water!
URL:https://xceptionalheroes.org/event/fitness-with-cam-26/
LOCATION:Ascension Genesys Health Club\, 801 Health Park Blvd\, Grand Blanc\, MI\, 48439
CATEGORIES:Free For All
ATTACH;FMTTYPE=image/jpeg:https://xceptionalheroes.org/wp-content/uploads/2022/10/fitness.jpg
END:VEVENT
BEGIN:VEVENT
DTSTART;TZID=UTC:20230412T180000
DTEND;TZID=UTC:20230412T200000
DTSTAMP:20260425T155053
CREATED:20230301T002239Z
LAST-MODIFIED:20230331T141155Z
UID:2347-1681322400-1681329600@xceptionalheroes.org
SUMMARY:Cooking Class
DESCRIPTION:Join Teresa and Chris Huff at Grand Blanc High School-West Campus\, Room 707\, for our cooking class!\nWe will be preparing breakfast for dinner in this class!  Scrambled eggs\, bacon\, french toast and pancakes\, etc!  Chris and Teresa will select 2 participants from the class to go to the grocery store and learn how to shop for ingredients (this will rotate from class to class!)\n\n\nIn order to attend\, you must register through the link below. The cost is $10/class which covers the room rental and cost of the groceries.\n\nhttps://anc.apm.activecommunities.com/gbparks/activity/search/detail/238?onlineSiteId=0&from_original_cui=true&locale=en-US
URL:https://xceptionalheroes.org/event/cooking-class-3/
LOCATION:Grand Blanc HS West Campus\, 1 Jewett Trail\, Grand Blanc\, MI\, 48439
CATEGORIES:Ticket or Entry Costs
ATTACH;FMTTYPE=image/jpeg:https://xceptionalheroes.org/wp-content/uploads/2023/03/breakfast.jpg
END:VEVENT
BEGIN:VEVENT
DTSTART;TZID=UTC:20230407T170000
DTEND;TZID=UTC:20230407T190000
DTSTAMP:20260425T155053
CREATED:20230331T141000Z
LAST-MODIFIED:20230331T141000Z
UID:2398-1680886800-1680894000@xceptionalheroes.org
SUMMARY:Bowling
DESCRIPTION:Join us in the Annex of Grand Blanc Lanes for 2 hours of bowling\, cornhole\, fowling\, and arcade games!  The cost is $10 and includes shoe rental.  GB Lanes has concessions available! \n  \nWe will cut off registration for this activity 3 days prior in order to coordinate all the pre-paid bowlers.  You are still welcome to come to this activity without registering but you will be required to pay individually at the counter on arrival. \nhttps://www.signupgenius.com/go/10C0948A4A72FAAFBCE9-bowling3 \n 
URL:https://xceptionalheroes.org/event/bowling-7/
LOCATION:Grand Blanc Lanes\, 5301 S. Saginaw St\, Grand Blanc\, MI\, 48439\, United States
CATEGORIES:Ticket or Entry Costs
ATTACH;FMTTYPE=image/jpeg:https://xceptionalheroes.org/wp-content/uploads/2022/10/bowling.jpg
END:VEVENT
BEGIN:VEVENT
DTSTART;TZID=UTC:20230406T120000
DTEND;TZID=UTC:20230406T130000
DTSTAMP:20260425T155053
CREATED:20230331T135635Z
LAST-MODIFIED:20230331T135636Z
UID:2386-1680782400-1680786000@xceptionalheroes.org
SUMMARY:Fitness with Cam
DESCRIPTION:Join Cam and Crew at Ascension Genesys Health Club for fitness\, wellness\, and nutrition tips!  Bring your accountability journals\, comfortable clothing\, and water!
URL:https://xceptionalheroes.org/event/fitness-with-cam-25/
LOCATION:Ascension Genesys Health Club\, 801 Health Park Blvd\, Grand Blanc\, MI\, 48439
CATEGORIES:Free For All
ATTACH;FMTTYPE=image/jpeg:https://xceptionalheroes.org/wp-content/uploads/2022/10/fitness.jpg
END:VEVENT
BEGIN:VEVENT
DTSTART;TZID=UTC:20230404T183000
DTEND;TZID=UTC:20230404T193000
DTSTAMP:20260425T155053
CREATED:20230331T140101Z
LAST-MODIFIED:20230331T140101Z
UID:2394-1680633000-1680636600@xceptionalheroes.org
SUMMARY:Yoga with Kelsey
DESCRIPTION:Kelsey is a certified yoga instructor and she is also an amputee.  Kelsey walks the same path as our Heroes and she has so much to offer our group!  Kelsey has had national coverage for her courage and ability to overcome adversity! \nDress comfortably\, bring your yoga mats\, and water!  Ladies\, keep in mind that yoga involves a lot of inverted poses so be mindful to wear tops that won’t slide up and gentlemen\, please wear pants that will stay up!  Yoga is typically done in bare feet\, but if you are uncomfortable with that\, you can purchase yoga socks. \nWe have plenty of yoga mats available\, but if you have your own mat please bring it along with plenty of water! \nSign up below to let us know you are attending! \nhttps://www.signupgenius.com/go/10C0948A4A72FAAFBCE9-yoga1
URL:https://xceptionalheroes.org/event/yoga-with-kelsey-10/
LOCATION:Faith Lutheran\, 12534 Holly Road\, Grand Blanc\, MI\, 48439\, United States
CATEGORIES:Free For All
ATTACH;FMTTYPE=image/jpeg:https://xceptionalheroes.org/wp-content/uploads/2022/10/yoga.jpg
END:VEVENT
BEGIN:VEVENT
DTSTART;TZID=UTC:20230330T120000
DTEND;TZID=UTC:20230330T130000
DTSTAMP:20260425T155053
CREATED:20230301T001959Z
LAST-MODIFIED:20230301T001959Z
UID:2345-1680177600-1680181200@xceptionalheroes.org
SUMMARY:Fitness with Cam
DESCRIPTION:Join Cam and Crew at Ascension Genesys Health Club for fitness\, wellness\, and nutrition tips!  Bring your accountability journals\, comfortable clothing\, and water!
URL:https://xceptionalheroes.org/event/fitness-with-cam-24/
LOCATION:Ascension Genesys Health Club\, 801 Health Park Blvd\, Grand Blanc\, MI\, 48439
CATEGORIES:Free For All
ATTACH;FMTTYPE=image/jpeg:https://xceptionalheroes.org/wp-content/uploads/2022/10/fitness.jpg
END:VEVENT
BEGIN:VEVENT
DTSTART;TZID=UTC:20230328T170000
DTEND;TZID=UTC:20230328T193000
DTSTAMP:20260425T155053
CREATED:20230301T011347Z
LAST-MODIFIED:20230301T011347Z
UID:2362-1680022800-1680031800@xceptionalheroes.org
SUMMARY:Parent University - Bingo with Heroes
DESCRIPTION:We will have a special presentation that is appropriate for all parents and caregivers\, but our Heroes are strongly encouraged to attend as well.  Bingo will still be available in the Youth Lounge for those who don’t want to attend. \nWe will have snacks and water available during arrivals between 5:00-5:30pm\, the presentation will begin at 5:30. \nWe will update once our speaker has been confirmed!
URL:https://xceptionalheroes.org/event/parent-university-bingo-with-heroes-4/
LOCATION:Faith Lutheran\, 12534 Holly Road\, Grand Blanc\, MI\, 48439\, United States
CATEGORIES:Free For All
ATTACH;FMTTYPE=image/png:https://xceptionalheroes.org/wp-content/uploads/2023/02/parent-university.png
END:VEVENT
BEGIN:VEVENT
DTSTART;TZID=UTC:20230324T170000
DTEND;TZID=UTC:20230324T190000
DTSTAMP:20260425T155053
CREATED:20230301T011024Z
LAST-MODIFIED:20230301T011024Z
UID:2360-1679677200-1679684400@xceptionalheroes.org
SUMMARY:Bowling & Birthday Bash
DESCRIPTION:Join us for one of our most popular activities on the calendar! GB Lanes has so generously discounted the bowling and included shoe rental for XH! The cost is $10 for 2 hours of bowling. GB Lanes has food and drinks available for purchase. We will also be celebrating our March birthday’s this night!\n\nPlease sign up using the link below so we can coordinate ahead of time and get the lanes set up. This will help save time and we can spend more time BOWLING!!\nYou can also pre-pay for bowling through the link below:\nhttps://www.signupgenius.com/go/10C0948A4A72FAAFBCE9-bowling2
URL:https://xceptionalheroes.org/event/bowling-birthday-bash-2/
LOCATION:Grand Blanc Lanes\, 5301 S. Saginaw St\, Grand Blanc\, MI\, 48439\, United States
CATEGORIES:Ticket or Entry Costs
ATTACH;FMTTYPE=image/jpeg:https://xceptionalheroes.org/wp-content/uploads/2022/10/bowling.jpg
END:VEVENT
BEGIN:VEVENT
DTSTART;TZID=UTC:20230323T120000
DTEND;TZID=UTC:20230323T130000
DTSTAMP:20260425T155053
CREATED:20230301T001940Z
LAST-MODIFIED:20230301T001940Z
UID:2343-1679572800-1679576400@xceptionalheroes.org
SUMMARY:Fitness with Cam
DESCRIPTION:Join Cam and Crew at Ascension Genesys Health Club for fitness\, wellness\, and nutrition tips!  Bring your accountability journals\, comfortable clothing\, and water!
URL:https://xceptionalheroes.org/event/fitness-with-cam-23/
LOCATION:Ascension Genesys Health Club\, 801 Health Park Blvd\, Grand Blanc\, MI\, 48439
CATEGORIES:Free For All
ATTACH;FMTTYPE=image/jpeg:https://xceptionalheroes.org/wp-content/uploads/2022/10/fitness.jpg
END:VEVENT
BEGIN:VEVENT
DTSTART;TZID=UTC:20230321T183000
DTEND;TZID=UTC:20230321T193000
DTSTAMP:20260425T155053
CREATED:20230301T003057Z
LAST-MODIFIED:20230301T003057Z
UID:2354-1679423400-1679427000@xceptionalheroes.org
SUMMARY:Yoga with Kelsey
DESCRIPTION:Kelsey is a certified yoga instructor and she is also an amputee.  Kelsey walks the same path as our Heroes and she has so much to offer our group!  Kelsey has had national coverage for her courage and ability to overcome adversity! \nDress comfortably\, bring your yoga mats\, and water!  Ladies\, keep in mind that yoga involves a lot of inverted poses so be mindful to wear tops that won’t slide up and gentlemen\, please wear pants that will stay up!  Yoga is typically done in bare feet\, but if you are uncomfortable with that\, you can purchase yoga socks. \nWe have plenty of yoga mats available\, but if you have your own mat please bring it along with plenty of water!
URL:https://xceptionalheroes.org/event/yoga-with-kelsey-9/
LOCATION:Faith Lutheran\, 12534 Holly Road\, Grand Blanc\, MI\, 48439\, United States
CATEGORIES:Free For All
ATTACH;FMTTYPE=image/jpeg:https://xceptionalheroes.org/wp-content/uploads/2022/10/yoga.jpg
END:VEVENT
BEGIN:VEVENT
DTSTART;VALUE=DATE:20230319
DTEND;VALUE=DATE:20230320
DTSTAMP:20260425T155053
CREATED:20230301T010526Z
LAST-MODIFIED:20230311T133541Z
UID:2358-1679184000-1679270399@xceptionalheroes.org
SUMMARY:Movie Matinee & Lunch at BWW
DESCRIPTION:Come join Christopher and crew for lunch at Buffalo Wild Wings followed by Champions at NCG Trillium next door! The actual times will be updated closer to the date when the theater releases the movie times!
URL:https://xceptionalheroes.org/event/movie-matinee-lunch-at-bww-4/
LOCATION:NCG Triullium\, 8220 Trillium Circle Ave\, Grand Blanc\, MI\, 48439\, United States
CATEGORIES:Ticket or Entry Costs
ATTACH;FMTTYPE=image/jpeg:https://xceptionalheroes.org/wp-content/uploads/2023/03/champions.jpg
END:VEVENT
BEGIN:VEVENT
DTSTART;TZID=UTC:20230317T170000
DTEND;TZID=UTC:20230317T190000
DTSTAMP:20260425T155053
CREATED:20230301T003147Z
LAST-MODIFIED:20230301T003147Z
UID:2356-1679072400-1679079600@xceptionalheroes.org
SUMMARY:Gym Night
DESCRIPTION:Join us for Gym Night at Faith Lutheran Church to participate in a variety of activities!  It could range from kickball\, dodgeball\, basketball\, nerf gun wars\, obstacle courses\, etc!  This is a great way to release a lot of pent up energy and have fun with your friends!
URL:https://xceptionalheroes.org/event/gym-night-7/
LOCATION:Faith Lutheran\, 12534 Holly Road\, Grand Blanc\, MI\, 48439\, United States
CATEGORIES:Free For All
ATTACH;FMTTYPE=image/jpeg:https://xceptionalheroes.org/wp-content/uploads/2022/10/gym-night.jpg
END:VEVENT
BEGIN:VEVENT
DTSTART;TZID=UTC:20230316T120000
DTEND;TZID=UTC:20230316T130000
DTSTAMP:20260425T155053
CREATED:20230301T001911Z
LAST-MODIFIED:20230301T001911Z
UID:2341-1678968000-1678971600@xceptionalheroes.org
SUMMARY:Fitness with Cam
DESCRIPTION:Join Cam and Crew at Ascension Genesys Health Club for fitness\, wellness\, and nutrition tips!  Bring your accountability journals\, comfortable clothing\, and water!
URL:https://xceptionalheroes.org/event/fitness-with-cam-22/
LOCATION:Ascension Genesys Health Club\, 801 Health Park Blvd\, Grand Blanc\, MI\, 48439
CATEGORIES:Free For All
ATTACH;FMTTYPE=image/jpeg:https://xceptionalheroes.org/wp-content/uploads/2022/10/fitness.jpg
END:VEVENT
BEGIN:VEVENT
DTSTART;TZID=UTC:20230314T183000
DTEND;TZID=UTC:20230314T193000
DTSTAMP:20260425T155053
CREATED:20230301T003025Z
LAST-MODIFIED:20230301T003025Z
UID:2352-1678818600-1678822200@xceptionalheroes.org
SUMMARY:Yoga with Kelsey
DESCRIPTION:Kelsey is a certified yoga instructor and she is also an amputee.  Kelsey walks the same path as our Heroes and she has so much to offer our group!  Kelsey has had national coverage for her courage and ability to overcome adversity! \nDress comfortably\, bring your yoga mats\, and water!  Ladies\, keep in mind that yoga involves a lot of inverted poses so be mindful to wear tops that won’t slide up and gentlemen\, please wear pants that will stay up!  Yoga is typically done in bare feet\, but if you are uncomfortable with that\, you can purchase yoga socks. \nWe have plenty of yoga mats available\, but if you have your own mat please bring it along with plenty of water!
URL:https://xceptionalheroes.org/event/yoga-with-kelsey-8/
LOCATION:Faith Lutheran\, 12534 Holly Road\, Grand Blanc\, MI\, 48439\, United States
CATEGORIES:Free For All
ATTACH;FMTTYPE=image/jpeg:https://xceptionalheroes.org/wp-content/uploads/2022/10/yoga.jpg
END:VEVENT
BEGIN:VEVENT
DTSTART;TZID=UTC:20230310T170000
DTEND;TZID=UTC:20230310T190000
DTSTAMP:20260425T155053
CREATED:20230301T002920Z
LAST-MODIFIED:20230301T002920Z
UID:2350-1678467600-1678474800@xceptionalheroes.org
SUMMARY:Bowling
DESCRIPTION:Join us in the Annex of Grand Blanc Lanes for 2 hours of bowling\, cornhole\, fowling\, and arcade games!  The cost is $10 and includes shoe rental.  GB Lanes has concessions available! \n  \nWe will cut off registration for this activity on 3/7/23 in order to coordinate all the pre-paid bowlers.  You are still welcome to come to this activity without registering but you will be required to pay individually at the counter on arrival. \nhttps://www.signupgenius.com/go/10c0948a4a72faafbce9-bowling1#/ \n 
URL:https://xceptionalheroes.org/event/bowling-6/
LOCATION:Grand Blanc Lanes\, 5301 S. Saginaw St\, Grand Blanc\, MI\, 48439\, United States
CATEGORIES:Ticket or Entry Costs
ATTACH;FMTTYPE=image/jpeg:https://xceptionalheroes.org/wp-content/uploads/2022/10/bowling.jpg
END:VEVENT
BEGIN:VEVENT
DTSTART;TZID=UTC:20230309T120000
DTEND;TZID=UTC:20230309T130000
DTSTAMP:20260425T155053
CREATED:20230301T001847Z
LAST-MODIFIED:20230301T001847Z
UID:2339-1678363200-1678366800@xceptionalheroes.org
SUMMARY:Fitness with Cam
DESCRIPTION:Join Cam and Crew at Ascension Genesys Health Club for fitness\, wellness\, and nutrition tips!  Bring your accountability journals\, comfortable clothing\, and water!
URL:https://xceptionalheroes.org/event/fitness-with-cam-21/
LOCATION:Ascension Genesys Health Club\, 801 Health Park Blvd\, Grand Blanc\, MI\, 48439
CATEGORIES:Free For All
ATTACH;FMTTYPE=image/jpeg:https://xceptionalheroes.org/wp-content/uploads/2022/10/fitness.jpg
END:VEVENT
BEGIN:VEVENT
DTSTART;TZID=UTC:20230308T180000
DTEND;TZID=UTC:20230308T200000
DTSTAMP:20260425T155053
CREATED:20230217T202811Z
LAST-MODIFIED:20230217T202926Z
UID:2333-1678298400-1678305600@xceptionalheroes.org
SUMMARY:Cooking Class
DESCRIPTION:Join Teresa and Chris Huff at Grand Blanc High School-West Campus\, Room 707\, for our cooking class!\nWe will be preparing Spaghetti and Meatballs with garlic bread for the meal. Chris and Teresa will select 2 participants from the class to go to the grocery store and learn how to shop for ingredients (this will rotate from class to class!)\n\nIn order to attend\, you must register through the link below. The cost is $10/class which covers the room rental and cost of the groceries.\n\nhttps://apm.activecommunities.com/…/xceptional…/211
URL:https://xceptionalheroes.org/event/cooking-class-2/
LOCATION:Grand Blanc HS West Campus\, 1 Jewett Trail\, Grand Blanc\, MI\, 48439
CATEGORIES:Ticket or Entry Costs
ATTACH;FMTTYPE=image/jpeg:https://xceptionalheroes.org/wp-content/uploads/2023/02/spaghetti.jpg
END:VEVENT
BEGIN:VEVENT
DTSTART;TZID=UTC:20230302T120000
DTEND;TZID=UTC:20230302T130000
DTSTAMP:20260425T155053
CREATED:20230301T001811Z
LAST-MODIFIED:20230301T001811Z
UID:2337-1677758400-1677762000@xceptionalheroes.org
SUMMARY:Fitness with Cam
DESCRIPTION:Join Cam and Crew at Ascension Genesys Health Club for fitness\, wellness\, and nutrition tips!  Bring your accountability journals\, comfortable clothing\, and water!
URL:https://xceptionalheroes.org/event/fitness-with-cam-20/
LOCATION:Ascension Genesys Health Club\, 801 Health Park Blvd\, Grand Blanc\, MI\, 48439
CATEGORIES:Free For All
ATTACH;FMTTYPE=image/jpeg:https://xceptionalheroes.org/wp-content/uploads/2022/10/fitness.jpg
END:VEVENT
BEGIN:VEVENT
DTSTART;TZID=UTC:20230228T170000
DTEND;TZID=UTC:20230228T193000
DTSTAMP:20260425T155053
CREATED:20230203T200449Z
LAST-MODIFIED:20230203T200916Z
UID:2327-1677603600-1677612600@xceptionalheroes.org
SUMMARY:Parent University - Bingo with Heroes
DESCRIPTION:We will have a special presentation that is appropriate for all parents and caregivers\, but our Heroes are strongly encouraged to attend as well.  Bingo will still be available in the Youth Lounge for those who don’t want to attend. \nWe will have snacks and water available during arrivals between 5:00-5:30pm\, the presentation will begin at 5:30. \nWe will update once our speaker has been confirmed!
URL:https://xceptionalheroes.org/event/parent-university-bingo-with-heroes-3/
LOCATION:Faith Lutheran\, 12534 Holly Road\, Grand Blanc\, MI\, 48439\, United States
CATEGORIES:Free For All
ATTACH;FMTTYPE=image/png:https://xceptionalheroes.org/wp-content/uploads/2023/02/parent-university.png
END:VEVENT
BEGIN:VEVENT
DTSTART;TZID=UTC:20230226T153000
DTEND;TZID=UTC:20230226T183000
DTSTAMP:20260425T155053
CREATED:20230203T200154Z
LAST-MODIFIED:20230203T200154Z
UID:2324-1677425400-1677436200@xceptionalheroes.org
SUMMARY:Flint Firebirds - Princess & Superhero Night
DESCRIPTION:Surprise! Donnie Adams has generously offered to sponsor this event and there will be NO CHARGE for the first 25 sign-up’s! Please use the link below to sign up for this fun event!\n\nA Superhero Night at Flint Firebirds?! Sign us up!! Who’s coming?! Wear your best superhero swag or show up rocking your XH gear! Either way you will be the best looking Hero in the place!\nWe are asking that all responses be in NO LATER THAN February 19th in order to secure enough tickets to be seated together!\nhttps://www.signupgenius.com/go/10C0948A4A72FAAFBCE9-flint
URL:https://xceptionalheroes.org/event/flint-firebirds-princess-superhero-night/
LOCATION:Dort Financial Center\, 3501 Lapeer Rd.\, Flint\, MI\, 48503
ATTACH;FMTTYPE=image/png:https://xceptionalheroes.org/wp-content/uploads/2023/02/firebirds.png
END:VEVENT
BEGIN:VEVENT
DTSTART;TZID=UTC:20230224T170000
DTEND;TZID=UTC:20230224T190000
DTSTAMP:20260425T155053
CREATED:20230203T195820Z
LAST-MODIFIED:20230203T195820Z
UID:2322-1677258000-1677265200@xceptionalheroes.org
SUMMARY:Bowling & Birthday Bash
DESCRIPTION:Join us for one of our most popular activities on the calendar! GB Lanes has so generously discounted the bowling and included shoe rental for XH! The cost is $10 for 2 hours of bowling. GB Lanes has food and drinks available for purchase. We will also be celebrating our February birthday’s this night!\n\nPlease sign up using the link below so we can coordinate ahead of time and get the lanes set up. This will help save time and we can spend more time BOWLING!!\nYou can also pre-pay for bowling through the link below:\nhttps://www.signupgenius.com/go/10C0948A4A72FAAFBCE9-bowling
URL:https://xceptionalheroes.org/event/bowling-birthday-bash/
LOCATION:Grand Blanc Lanes\, 5301 S. Saginaw St\, Grand Blanc\, MI\, 48439\, United States
CATEGORIES:Ticket or Entry Costs
ATTACH;FMTTYPE=image/jpeg:https://xceptionalheroes.org/wp-content/uploads/2022/10/bowling.jpg
END:VEVENT
BEGIN:VEVENT
DTSTART;TZID=UTC:20230223T120000
DTEND;TZID=UTC:20230223T130000
DTSTAMP:20260425T155053
CREATED:20230203T141413Z
LAST-MODIFIED:20230203T141413Z
UID:2302-1677153600-1677157200@xceptionalheroes.org
SUMMARY:Fitness with Cam
DESCRIPTION:Join Cam and Crew at Ascension Genesys Health Club for fitness\, wellness\, and nutrition tips!  Bring your accountability journals\, comfortable clothing\, and water!
URL:https://xceptionalheroes.org/event/fitness-with-cam-19/
LOCATION:Ascension Genesys Health Club\, 801 Health Park Blvd\, Grand Blanc\, MI\, 48439
CATEGORIES:Free For All
ATTACH;FMTTYPE=image/jpeg:https://xceptionalheroes.org/wp-content/uploads/2022/10/fitness.jpg
END:VEVENT
BEGIN:VEVENT
DTSTART;TZID=UTC:20230221T183000
DTEND;TZID=UTC:20230221T193000
DTSTAMP:20260425T155053
CREATED:20230203T141922Z
LAST-MODIFIED:20230203T141922Z
UID:2310-1677004200-1677007800@xceptionalheroes.org
SUMMARY:Yoga with Kelsey
DESCRIPTION:Kelsey is a certified yoga instructor and she is also an amputee.  Kelsey walks the same path as our Heroes and she has so much to offer our group!  Kelsey has had national coverage for her courage and ability to overcome adversity! \nDress comfortably\, bring your yoga mats\, and water!  Ladies\, keep in mind that yoga involves a lot of inverted poses so be mindful to wear tops that won’t slide up and gentlemen\, please wear pants that will stay up!  Yoga is typically done in bare feet\, but if you are uncomfortable with that\, you can purchase yoga socks. \nWe have plenty of yoga mats available\, but if you have your own mat please bring it along with plenty of water!
URL:https://xceptionalheroes.org/event/yoga-with-kelsey-7/
LOCATION:Faith Lutheran\, 12534 Holly Road\, Grand Blanc\, MI\, 48439\, United States
CATEGORIES:Free For All
ATTACH;FMTTYPE=image/jpeg:https://xceptionalheroes.org/wp-content/uploads/2022/10/yoga.jpg
END:VEVENT
BEGIN:VEVENT
DTSTART;VALUE=DATE:20230219
DTEND;VALUE=DATE:20230220
DTSTAMP:20260425T155053
CREATED:20230203T195400Z
LAST-MODIFIED:20230203T204015Z
UID:2320-1676764800-1676851199@xceptionalheroes.org
SUMMARY:Movie Matinee & Lunch at BWW
DESCRIPTION:Meet Christopher at Buffalo Wild Wings for lunch at Noon\, then head over to Trillium Theater for a movie matinee!\n\nWe will be seeing Ant-man & The Wasp-Quantumania at 2:30pm. You can sign up to pre-pay for the tickets on the link below and we will purchase the tickets ahead of time so everyone can sit together!\nhttps://www.signupgenius.com/go/10C0948A4A72FAAFBCE9-movie1
URL:https://xceptionalheroes.org/event/movie-matinee-lunch-at-bww-3/
LOCATION:NCG Triullium\, 8220 Trillium Circle Ave\, Grand Blanc\, MI\, 48439\, United States
CATEGORIES:Ticket or Entry Costs
ATTACH;FMTTYPE=image/jpeg:https://xceptionalheroes.org/wp-content/uploads/2023/02/antman.jpg
END:VEVENT
BEGIN:VEVENT
DTSTART;TZID=UTC:20230217T170000
DTEND;TZID=UTC:20230217T190000
DTSTAMP:20260425T155053
CREATED:20230203T195148Z
LAST-MODIFIED:20230203T195507Z
UID:2318-1676653200-1676660400@xceptionalheroes.org
SUMMARY:Gym Night
DESCRIPTION:Join us for Gym Night at Faith Lutheran Church to participate in a variety of activities!  It could range from kickball\, dodgeball\, basketball\, nerf gun wars\, obstacle courses\, etc!  This is a great way to release a lot of pent up energy and have fun with your friends!
URL:https://xceptionalheroes.org/event/gym-night-6/
LOCATION:Faith Lutheran\, 12534 Holly Road\, Grand Blanc\, MI\, 48439\, United States
CATEGORIES:Free For All
ATTACH;FMTTYPE=image/jpeg:https://xceptionalheroes.org/wp-content/uploads/2022/10/gym-night.jpg
END:VEVENT
BEGIN:VEVENT
DTSTART;TZID=UTC:20230216T120000
DTEND;TZID=UTC:20230216T130000
DTSTAMP:20260425T155053
CREATED:20230203T141345Z
LAST-MODIFIED:20230203T141345Z
UID:2300-1676548800-1676552400@xceptionalheroes.org
SUMMARY:Fitness with Cam
DESCRIPTION:Join Cam and Crew at Ascension Genesys Health Club for fitness\, wellness\, and nutrition tips!  Bring your accountability journals\, comfortable clothing\, and water!
URL:https://xceptionalheroes.org/event/fitness-with-cam-18/
LOCATION:Ascension Genesys Health Club\, 801 Health Park Blvd\, Grand Blanc\, MI\, 48439
CATEGORIES:Free For All
ATTACH;FMTTYPE=image/jpeg:https://xceptionalheroes.org/wp-content/uploads/2022/10/fitness.jpg
END:VEVENT
BEGIN:VEVENT
DTSTART;TZID=UTC:20230215T180000
DTEND;TZID=UTC:20230215T200000
DTSTAMP:20260425T155053
CREATED:20230203T194725Z
LAST-MODIFIED:20230203T195448Z
UID:2315-1676484000-1676491200@xceptionalheroes.org
SUMMARY:Cooking Class
DESCRIPTION:Join Teresa and Chris Huff at Grand Blanc High School-West Campus for our first cooking class!\nWe will be preparing Egg Roll In A Bowl for the meal. Chris and Teresa will select 2 participants from the class to go to the grocery store and learn how to shop for ingredients (this will rotate from class to class!)\n\nIn order to attend\, you must register through the link below. The cost is $10/class which covers the room rental and cost of the groceries.\nhttps://anc.apm.activecommunities.com/…/detail/207…
URL:https://xceptionalheroes.org/event/cooking-class/
LOCATION:Grand Blanc HS West Campus\, 1 Jewett Trail\, Grand Blanc\, MI\, 48439
CATEGORIES:Ticket or Entry Costs
ATTACH;FMTTYPE=image/jpeg:https://xceptionalheroes.org/wp-content/uploads/2023/02/eggroll.jpg
END:VEVENT
BEGIN:VEVENT
DTSTART;TZID=UTC:20230211T100000
DTEND;TZID=UTC:20230211T120000
DTSTAMP:20260425T155053
CREATED:20230203T142457Z
LAST-MODIFIED:20230203T195529Z
UID:2312-1676109600-1676116800@xceptionalheroes.org
SUMMARY:Open Swim
DESCRIPTION:Join us for Open Swim at Grand Blanc High School – West Campus! Pre-registration is required and there is a $5 fee that is paid at the time of registration. Below is the direct link to register for the event! You will want to bring a beach towel and flip flops/shower shoes!\nThere are 2 SESSIONS available:\n\nOpen Swim Feb 11th 10am-11am\nhttps://anc.apm.activecommunities.com/…/detail/213…\nOpen Swim Feb 11th 11am-12pm\nhttps://anc.apm.activecommunities.com/…/detail/214…
URL:https://xceptionalheroes.org/event/open-swim/
LOCATION:Grand Blanc HS East Campus\, 12500 Holly Rd\, Grand Blanc\, MI\, 48439
CATEGORIES:Ticket or Entry Costs
END:VEVENT
BEGIN:VEVENT
DTSTART;TZID=UTC:20230210T170000
DTEND;TZID=UTC:20230210T190000
DTSTAMP:20260425T155053
CREATED:20230122T222808Z
LAST-MODIFIED:20230122T222808Z
UID:2293-1676048400-1676055600@xceptionalheroes.org
SUMMARY:Bowling
DESCRIPTION:Join us in the Annex of Grand Blanc Lanes for 2 hours of bowling\, cornhole\, fowling\, and arcade games!  The cost is $10 and includes shoe rental.  GB Lanes has concessions available! \nhttps://www.signupgenius.com/go/10C0948A4A72FAAFBCE9-bowling
URL:https://xceptionalheroes.org/event/bowling-5/
LOCATION:Grand Blanc Lanes\, 5301 S. Saginaw St\, Grand Blanc\, MI\, 48439\, United States
CATEGORIES:Ticket or Entry Costs
ATTACH;FMTTYPE=image/jpeg:https://xceptionalheroes.org/wp-content/uploads/2022/10/bowling.jpg
END:VEVENT
BEGIN:VEVENT
DTSTART;TZID=UTC:20230209T120000
DTEND;TZID=UTC:20230209T130000
DTSTAMP:20260425T155054
CREATED:20230203T141317Z
LAST-MODIFIED:20230203T141317Z
UID:2298-1675944000-1675947600@xceptionalheroes.org
SUMMARY:Fitness with Cam
DESCRIPTION:Join Cam and Crew at Ascension Genesys Health Club for fitness\, wellness\, and nutrition tips!  Bring your accountability journals\, comfortable clothing\, and water!
URL:https://xceptionalheroes.org/event/fitness-with-cam-17/
LOCATION:Ascension Genesys Health Club\, 801 Health Park Blvd\, Grand Blanc\, MI\, 48439
CATEGORIES:Free For All
ATTACH;FMTTYPE=image/jpeg:https://xceptionalheroes.org/wp-content/uploads/2022/10/fitness.jpg
END:VEVENT
END:VCALENDAR