BEGIN:VCALENDAR
VERSION:2.0
PRODID:-//Xceptional Heroes - ECPv6.15.20//NONSGML v1.0//EN
CALSCALE:GREGORIAN
METHOD:PUBLISH
X-WR-CALNAME:Xceptional Heroes
X-ORIGINAL-URL:https://xceptionalheroes.org
X-WR-CALDESC:Events for Xceptional Heroes
REFRESH-INTERVAL;VALUE=DURATION:PT1H
X-Robots-Tag:noindex
X-PUBLISHED-TTL:PT1H
BEGIN:VTIMEZONE
TZID:UTC
BEGIN:STANDARD
TZOFFSETFROM:+0000
TZOFFSETTO:+0000
TZNAME:UTC
DTSTART:20220101T000000
END:STANDARD
END:VTIMEZONE
BEGIN:VEVENT
DTSTART;TZID=UTC:20230724T103000
DTEND;TZID=UTC:20230724T113000
DTSTAMP:20260425T130359
CREATED:20230706T165229Z
LAST-MODIFIED:20230706T165229Z
UID:2531-1690194600-1690198200@xceptionalheroes.org
SUMMARY:Walk in the Park - Weekly Walking Club
DESCRIPTION:We will begin a weekly hike through local parks beginning this month!  The location and times may or may not change from week to week so check back frequently!  We will update each week as our lead volunteer for this activity selects the park and time! \n  \nPlease sign up and let us know you are attending!  Wear comfortable clothing and shoes and be sure to bring water! \nhttps://www.signupgenius.com/go/10C0948A4A72FAAFBCE9-walk1
URL:https://xceptionalheroes.org/event/walk-in-the-park-weekly-walking-club-3/
CATEGORIES:Free For All
ATTACH;FMTTYPE=image/jpeg:https://xceptionalheroes.org/wp-content/uploads/2023/05/walk.jpg
END:VEVENT
BEGIN:VEVENT
DTSTART;TZID=UTC:20230723T110000
DTEND;TZID=UTC:20230723T170000
DTSTAMP:20260425T130359
CREATED:20230706T205025Z
LAST-MODIFIED:20230706T205025Z
UID:2555-1690110000-1690131600@xceptionalheroes.org
SUMMARY:Day at Wilderness Trails Zoo & Alpine Mountain Golf
DESCRIPTION:XH is thrilled to be sponsoring a fun-filled day in Birch Run for our Heroes! We have reserved admission for 30 participants for both Wilderness Trails Animal Zoo (11:00am) followed by Alpine Mountain Golf which is next door (12:30pm). A sign-up will be posted the evening of July 6th for registrations. When the sign up is full\, we will be at capacity and no longer accepting registrations.\n\nWe are limiting these tickets for our Heroes and mandatory caregivers only. When registering on the sign-up link\, please only sign your Hero up. Tickets for necessary caregivers will be at the discretion of the XH Board of Directors. If you are a caregiver that is required to be present for your Hero\, please reach out directly to Teresa White or Jennifer Silverton for consideration. Families are welcome and encouraged to attend and purchase admission tickets at their own cost. Transportation is required for your Hero to attend this event. If you need assistance\, please contact Jennifer or Teresa.\n\nWe are planning to spend approximately 1 hour or so at the zoo\, and the activities offered at Alpine Mountain Golf are miniature golf\, bumper boats\, go karts\, and more! The zoo also has additional features available at additional cost if you are interested (this will not be covered by XH) – parakeet feeding ($1/person) and animal feeding stations (25 cents/person for a handful of feed). All this fun is compliments of Xceptional Heroes and we hope you are able to join us!\n\nWe are requesting everyone to bring a picnic lunch (clearly labeled with your name) as well as extra money for ice cream or snacks\, if needed/wanted!\n\nThis will be a wonderful day for all of us!\nThe first 30 sign-up’s will have their admission paid for by XH!\nhttps://www.signupgenius.com/go/10C0948A4A72FAAFBCE9-trip
URL:https://xceptionalheroes.org/event/day-at-wilderness-trails-zoo-alpine-mountain-golf/
LOCATION:Wilderness Trails Animal Zoo\, 11721 Gera Rd\, Birch Run\, MI\, 48415\, United States
CATEGORIES:Free For All
ATTACH;FMTTYPE=image/jpeg:https://xceptionalheroes.org/wp-content/uploads/2023/07/zoo.jpg
END:VEVENT
BEGIN:VEVENT
DTSTART;TZID=UTC:20230721T180000
DTEND;TZID=UTC:20230721T200000
DTSTAMP:20260425T130359
CREATED:20230706T171248Z
LAST-MODIFIED:20230706T171248Z
UID:2549-1689962400-1689969600@xceptionalheroes.org
SUMMARY:Dance & Karaoke
DESCRIPTION:Come join us for some dancing and karaoke! XH will provide light snacks and refreshments so please be sure to eat dinner prior to this activity.  Please join us and “Trip the lights Travolta”!!  Please sign up on the link below to let us know you are attending! \n  \nhttps://www.signupgenius.com/go/10C0948A4A72FAAFBCE9-dance1
URL:https://xceptionalheroes.org/event/dance-karaoke-2/
LOCATION:Faith Lutheran\, 12534 Holly Road\, Grand Blanc\, MI\, 48439\, United States
CATEGORIES:Free For All
ATTACH;FMTTYPE=image/jpeg:https://xceptionalheroes.org/wp-content/uploads/2023/05/disco.jpg
END:VEVENT
BEGIN:VEVENT
DTSTART;TZID=UTC:20230720T120000
DTEND;TZID=UTC:20230720T130000
DTSTAMP:20260425T130359
CREATED:20230706T164522Z
LAST-MODIFIED:20230706T164522Z
UID:2522-1689854400-1689858000@xceptionalheroes.org
SUMMARY:Fitness Class
DESCRIPTION:Join Jennifer and Crew for fitness\, wellness\, and nutrition tips!  Bring your accountability journals\, comfortable clothing\, and water!  Sign up below and let us know you are coming! \n  \nWe have lost access to Ascension Genesys Health Club until September due to scheduling conflict and all fitness class locations will be TBD each week and will be announced prior to each event.  Please check back often! \nhttps://www.signupgenius.com/go/10C0948A4A72FAAFBCE9-fitness4
URL:https://xceptionalheroes.org/event/fitness-class-12/
CATEGORIES:Free For All
ATTACH;FMTTYPE=image/jpeg:https://xceptionalheroes.org/wp-content/uploads/2022/10/fitness.jpg
END:VEVENT
BEGIN:VEVENT
DTSTART;TZID=UTC:20230718T183000
DTEND;TZID=UTC:20230718T193000
DTSTAMP:20260425T130359
CREATED:20230706T170948Z
LAST-MODIFIED:20230706T170948Z
UID:2545-1689705000-1689708600@xceptionalheroes.org
SUMMARY:Yoga with Kelsey
DESCRIPTION:Kelsey is a certified yoga instructor and she is also an amputee.  Kelsey walks the same path as our Heroes and she has so much to offer our group!  Kelsey has had national coverage for her courage and ability to overcome adversity! \nDress comfortably\, bring your yoga mats\, and water!  Ladies\, keep in mind that yoga involves a lot of inverted poses so be mindful to wear tops that won’t slide up and gentlemen\, please wear pants that will stay up!  Yoga is typically done in bare feet\, but if you are uncomfortable with that\, you can purchase yoga socks. \nWe have plenty of yoga mats available\, but if you have your own mat please bring it along with plenty of water! \nSign up below to let us know you are attending!  The location for this date is TBD and will be updated closer to the date when a location has been secured!  Check back often! \nhttps://www.signupgenius.com/go/10C0948A4A72FAAFBCE9-yoga4
URL:https://xceptionalheroes.org/event/yoga-with-kelsey-15/
CATEGORIES:Free For All
ATTACH;FMTTYPE=image/jpeg:https://xceptionalheroes.org/wp-content/uploads/2022/10/yoga.jpg
END:VEVENT
BEGIN:VEVENT
DTSTART;TZID=UTC:20230717T103000
DTEND;TZID=UTC:20230717T113000
DTSTAMP:20260425T130359
CREATED:20230706T165158Z
LAST-MODIFIED:20230706T165158Z
UID:2529-1689589800-1689593400@xceptionalheroes.org
SUMMARY:Walk in the Park - Weekly Walking Club
DESCRIPTION:We will begin a weekly hike through local parks beginning this month!  The location and times may or may not change from week to week so check back frequently!  We will update each week as our lead volunteer for this activity selects the park and time! \n  \nPlease sign up and let us know you are attending!  Wear comfortable clothing and shoes and be sure to bring water! \nhttps://www.signupgenius.com/go/10C0948A4A72FAAFBCE9-walk1
URL:https://xceptionalheroes.org/event/walk-in-the-park-weekly-walking-club-2/
CATEGORIES:Free For All
ATTACH;FMTTYPE=image/jpeg:https://xceptionalheroes.org/wp-content/uploads/2023/05/walk.jpg
END:VEVENT
BEGIN:VEVENT
DTSTART;TZID=UTC:20230716T120000
DTEND;TZID=UTC:20230716T153000
DTSTAMP:20260425T130359
CREATED:20230706T170401Z
LAST-MODIFIED:20230706T170401Z
UID:2542-1689508800-1689521400@xceptionalheroes.org
SUMMARY:Movie Matinee & Lunch at BWW
DESCRIPTION:Come join Christopher and crew for lunch at Buffalo Wild Wings followed by Elemental (Pixar) at NCG Trillium next door! The actual times will be updated closer to the date when the theater releases the movie times!\n\nhttps://www.signupgenius.com/go/10C0948A4A72FAAFBCE9-movie5
URL:https://xceptionalheroes.org/event/movie-matinee-lunch-at-bww-8/
LOCATION:NCG Triullium\, 8220 Trillium Circle Ave\, Grand Blanc\, MI\, 48439\, United States
CATEGORIES:Ticket or Entry Costs
ATTACH;FMTTYPE=image/jpeg:https://xceptionalheroes.org/wp-content/uploads/2023/07/elemental.jpg
END:VEVENT
BEGIN:VEVENT
DTSTART;TZID=UTC:20230714T180000
DTEND;TZID=UTC:20230714T200000
DTSTAMP:20260425T130359
CREATED:20230706T165924Z
LAST-MODIFIED:20230706T165924Z
UID:2540-1689357600-1689364800@xceptionalheroes.org
SUMMARY:Cornhole at Tyler's
DESCRIPTION:Join us at Tyler Shue’s house for some cornhole competition!!  In the event of inclement weather\, we will plan on bowling at Grand Blanc Lanes and we will make the announcement in plenty of time to give advance notice of any changes!  Please sign up on the link below to let us know you are attending! \nhttps://www.signupgenius.com/go/10C0948A4A72FAAFBCE9-cornhole2
URL:https://xceptionalheroes.org/event/cornhole-at-tylers-2/
LOCATION:Tyler’s House\, 2312 Nichols Ave\, Flint\, MI\, 48507\, United States
CATEGORIES:Free For All
ATTACH;FMTTYPE=image/jpeg:https://xceptionalheroes.org/wp-content/uploads/2023/05/cornhole.jpg
END:VEVENT
BEGIN:VEVENT
DTSTART;TZID=UTC:20230713T120000
DTEND;TZID=UTC:20230713T130000
DTSTAMP:20260425T130359
CREATED:20230706T164435Z
LAST-MODIFIED:20230706T164435Z
UID:2520-1689249600-1689253200@xceptionalheroes.org
SUMMARY:Fitness Class
DESCRIPTION:Join Jennifer and Crew for fitness\, wellness\, and nutrition tips!  Bring your accountability journals\, comfortable clothing\, and water!  Sign up below and let us know you are coming! \n  \nWe have lost access to Ascension Genesys Health Club until September due to scheduling conflict and all fitness class locations will be TBD each week and will be announced prior to each event.  Please check back often! \nhttps://www.signupgenius.com/go/10C0948A4A72FAAFBCE9-fitness4
URL:https://xceptionalheroes.org/event/fitness-class-11/
CATEGORIES:Free For All
ATTACH;FMTTYPE=image/jpeg:https://xceptionalheroes.org/wp-content/uploads/2022/10/fitness.jpg
END:VEVENT
BEGIN:VEVENT
DTSTART;TZID=UTC:20230712T180000
DTEND;TZID=UTC:20230712T200000
DTSTAMP:20260425T130359
CREATED:20230706T165652Z
LAST-MODIFIED:20230706T165652Z
UID:2535-1689184800-1689192000@xceptionalheroes.org
SUMMARY:Walk in the Park - XH North
DESCRIPTION:Join Kelley Smith and Heroes at Barber Park in Montrose for a healthy walk!  Wear comfortable clothing\, supportive shoes\, and bring plenty of water! \nPlease sign up and let us know you are attending! \nhttps://www.signupgenius.com/go/10C0948A4A72FAAFBCE9-walk2
URL:https://xceptionalheroes.org/event/walk-in-the-park-xh-north/
LOCATION:Barber Park – Montrose\, 11410 Seymour Rd\, Montrose\, MI\, 48457\, United States
CATEGORIES:Free For All
ATTACH;FMTTYPE=image/jpeg:https://xceptionalheroes.org/wp-content/uploads/2023/05/walk.jpg
END:VEVENT
BEGIN:VEVENT
DTSTART;TZID=UTC:20230710T103000
DTEND;TZID=UTC:20230710T113000
DTSTAMP:20260425T130359
CREATED:20230706T165108Z
LAST-MODIFIED:20230706T165108Z
UID:2526-1688985000-1688988600@xceptionalheroes.org
SUMMARY:Walk in the Park - Weekly Walking Club
DESCRIPTION:We will begin a weekly hike through local parks beginning this month!  Please join us at Mundy Miracle Commons on 7/10/23 to hike the trails!   The location and times may or may not change from week to week so check back frequently!  We will update each week as our lead volunteer for this activity selects the park and time! \n  \nPlease sign up and let us know you are attending!  Wear comfortable clothing and shoes and be sure to bring water! \nhttps://www.signupgenius.com/go/10C0948A4A72FAAFBCE9-walk1
URL:https://xceptionalheroes.org/event/walk-in-the-park-weekly-walking-club/
LOCATION:Mundy Miracle Commons\, 1286 W. Hill Rd\, Flint\, 48507
CATEGORIES:Free For All
ATTACH;FMTTYPE=image/jpeg:https://xceptionalheroes.org/wp-content/uploads/2023/05/walk.jpg
END:VEVENT
BEGIN:VEVENT
DTSTART;TZID=UTC:20230706T120000
DTEND;TZID=UTC:20230706T130000
DTSTAMP:20260425T130359
CREATED:20230706T164209Z
LAST-MODIFIED:20230706T164209Z
UID:2518-1688644800-1688648400@xceptionalheroes.org
SUMMARY:Fitness Class
DESCRIPTION:Join Jennifer and Crew at Ascension Genesys Health Club for fitness\, wellness\, and nutrition tips!  Bring your accountability journals\, comfortable clothing\, and water!  Sign up below and let us know you are coming! \nhttps://www.signupgenius.com/go/10C0948A4A72FAAFBCE9-fitness4
URL:https://xceptionalheroes.org/event/fitness-class-10/
LOCATION:Ascension Genesys Health Club\, 801 Health Park Blvd\, Grand Blanc\, MI\, 48439
CATEGORIES:Free For All
ATTACH;FMTTYPE=image/jpeg:https://xceptionalheroes.org/wp-content/uploads/2022/10/fitness.jpg
END:VEVENT
BEGIN:VEVENT
DTSTART;TZID=UTC:20230630T180000
DTEND;TZID=UTC:20230630T200000
DTSTAMP:20260425T130359
CREATED:20230601T210211Z
LAST-MODIFIED:20230601T210211Z
UID:2510-1688148000-1688155200@xceptionalheroes.org
SUMMARY:Cornhole at Tyler's & Birthday Bash
DESCRIPTION:Join us at Tyler Shue’s house for some cornhole competition!!  We will also be celebrating the June birthday’s this day!  In the event of inclement weather\, we will plan on bowling at Grand Blanc Lanes and we will make the announcement in plenty of time to give advance notice of any changes!  Please sign up on the link below to let us know you are attending! \nhttps://www.signupgenius.com/go/10C0948A4A72FAAFBCE9-cornhole1
URL:https://xceptionalheroes.org/event/cornhole-at-tylers-birthday-bash/
LOCATION:Tyler’s House\, 2312 Nichols Ave\, Flint\, MI\, 48507\, United States
CATEGORIES:Free For All
ATTACH;FMTTYPE=image/jpeg:https://xceptionalheroes.org/wp-content/uploads/2023/05/cornhole.jpg
END:VEVENT
BEGIN:VEVENT
DTSTART;TZID=UTC:20230629T120000
DTEND;TZID=UTC:20230629T130000
DTSTAMP:20260425T130359
CREATED:20230601T203117Z
LAST-MODIFIED:20230601T203117Z
UID:2495-1688040000-1688043600@xceptionalheroes.org
SUMMARY:Fitness Class
DESCRIPTION:Join Jennifer and Crew at Ascension Genesys Health Club for fitness\, wellness\, and nutrition tips!  Bring your accountability journals\, comfortable clothing\, and water!  Sign up below and let us know you are coming! \nhttps://www.signupgenius.com/go/10C0948A4A72FAAFBCE9-fitness3
URL:https://xceptionalheroes.org/event/fitness-class-9/
LOCATION:Ascension Genesys Health Club\, 801 Health Park Blvd\, Grand Blanc\, MI\, 48439
CATEGORIES:Free For All
ATTACH;FMTTYPE=image/jpeg:https://xceptionalheroes.org/wp-content/uploads/2022/10/fitness.jpg
END:VEVENT
BEGIN:VEVENT
DTSTART;TZID=UTC:20230627T183000
DTEND;TZID=UTC:20230627T193000
DTSTAMP:20260425T130359
CREATED:20230601T205117Z
LAST-MODIFIED:20230601T205117Z
UID:2504-1687890600-1687894200@xceptionalheroes.org
SUMMARY:Yoga with Kelsey
DESCRIPTION:Kelsey is a certified yoga instructor and she is also an amputee.  Kelsey walks the same path as our Heroes and she has so much to offer our group!  Kelsey has had national coverage for her courage and ability to overcome adversity! \nDress comfortably\, bring your yoga mats\, and water!  Ladies\, keep in mind that yoga involves a lot of inverted poses so be mindful to wear tops that won’t slide up and gentlemen\, please wear pants that will stay up!  Yoga is typically done in bare feet\, but if you are uncomfortable with that\, you can purchase yoga socks. \nWe have plenty of yoga mats available\, but if you have your own mat please bring it along with plenty of water! \nSign up below to let us know you are attending! \nhttps://www.signupgenius.com/go/10C0948A4A72FAAFBCE9-yoga3
URL:https://xceptionalheroes.org/event/yoga-with-kelsey-14/
LOCATION:Faith Lutheran\, 12534 Holly Road\, Grand Blanc\, MI\, 48439\, United States
CATEGORIES:Free For All
ATTACH;FMTTYPE=image/jpeg:https://xceptionalheroes.org/wp-content/uploads/2022/10/yoga.jpg
END:VEVENT
BEGIN:VEVENT
DTSTART;TZID=UTC:20230623T180000
DTEND;TZID=UTC:20230623T200000
DTSTAMP:20260425T130359
CREATED:20230601T205918Z
LAST-MODIFIED:20230601T205918Z
UID:2508-1687543200-1687550400@xceptionalheroes.org
SUMMARY:Volleyball/Basketball at Bicentennial Park
DESCRIPTION:Join us for some outdoor fun playing volleyball or basketball at Bicentennial Park!  Wear comfortable clothing and shoes\, and be sure to bring water!  Sign up on the link below to let us know you are coming! \nhttps://www.signupgenius.com/go/10C0948A4A72FAAFBCE9-volleyballbasketb1
URL:https://xceptionalheroes.org/event/volleyball-basketball-at-bicentennial-park/
LOCATION:Bicentennial Park\, 1505 E. Grand Blanc Rd\, Grand Blanc\, MI\, 48439\, United States
CATEGORIES:Free For All
ATTACH;FMTTYPE=image/jpeg:https://xceptionalheroes.org/wp-content/uploads/2023/05/volleyball.jpg
END:VEVENT
BEGIN:VEVENT
DTSTART;TZID=UTC:20230622T120000
DTEND;TZID=UTC:20230622T130000
DTSTAMP:20260425T130359
CREATED:20230601T202940Z
LAST-MODIFIED:20230601T202940Z
UID:2493-1687435200-1687438800@xceptionalheroes.org
SUMMARY:Fitness Class
DESCRIPTION:Join Jennifer and Crew at Ascension Genesys Health Club for fitness\, wellness\, and nutrition tips!  Bring your accountability journals\, comfortable clothing\, and water!  Sign up below and let us know you are coming! \nhttps://www.signupgenius.com/go/10C0948A4A72FAAFBCE9-fitness3
URL:https://xceptionalheroes.org/event/fitness-class-8/
LOCATION:Ascension Genesys Health Club\, 801 Health Park Blvd\, Grand Blanc\, MI\, 48439
CATEGORIES:Free For All
ATTACH;FMTTYPE=image/jpeg:https://xceptionalheroes.org/wp-content/uploads/2022/10/fitness.jpg
END:VEVENT
BEGIN:VEVENT
DTSTART;TZID=UTC:20230616T180000
DTEND;TZID=UTC:20230616T200000
DTSTAMP:20260425T130359
CREATED:20230601T205405Z
LAST-MODIFIED:20230601T205405Z
UID:2506-1686938400-1686945600@xceptionalheroes.org
SUMMARY:Dance & Karaoke
DESCRIPTION:Come join us for some dancing and karaoke! XH will provide light snacks and refreshments so please be sure to eat dinner prior to this activity.  Please join us and “Trip the lights Travolta”!!  Please sign up on the link below to let us know you are attending! \n  \nhttps://www.signupgenius.com/go/10C0948A4A72FAAFBCE9-dance
URL:https://xceptionalheroes.org/event/dance-karaoke/
LOCATION:Faith Lutheran\, 12534 Holly Road\, Grand Blanc\, MI\, 48439\, United States
CATEGORIES:Free For All
ATTACH;FMTTYPE=image/jpeg:https://xceptionalheroes.org/wp-content/uploads/2023/05/disco.jpg
END:VEVENT
BEGIN:VEVENT
DTSTART;TZID=UTC:20230615T120000
DTEND;TZID=UTC:20230615T130000
DTSTAMP:20260425T130359
CREATED:20230601T202846Z
LAST-MODIFIED:20230601T202846Z
UID:2491-1686830400-1686834000@xceptionalheroes.org
SUMMARY:Fitness Class
DESCRIPTION:Join Jennifer and Crew at Ascension Genesys Health Club for fitness\, wellness\, and nutrition tips!  Bring your accountability journals\, comfortable clothing\, and water!  Sign up below and let us know you are coming! \nhttps://www.signupgenius.com/go/10C0948A4A72FAAFBCE9-fitness3
URL:https://xceptionalheroes.org/event/fitness-class-7/
LOCATION:Ascension Genesys Health Club\, 801 Health Park Blvd\, Grand Blanc\, MI\, 48439
CATEGORIES:Free For All
ATTACH;FMTTYPE=image/jpeg:https://xceptionalheroes.org/wp-content/uploads/2022/10/fitness.jpg
END:VEVENT
BEGIN:VEVENT
DTSTART;TZID=UTC:20230613T183000
DTEND;TZID=UTC:20230613T193000
DTSTAMP:20260425T130359
CREATED:20230601T205045Z
LAST-MODIFIED:20230601T205045Z
UID:2502-1686681000-1686684600@xceptionalheroes.org
SUMMARY:Yoga with Kelsey
DESCRIPTION:Kelsey is a certified yoga instructor and she is also an amputee.  Kelsey walks the same path as our Heroes and she has so much to offer our group!  Kelsey has had national coverage for her courage and ability to overcome adversity! \nDress comfortably\, bring your yoga mats\, and water!  Ladies\, keep in mind that yoga involves a lot of inverted poses so be mindful to wear tops that won’t slide up and gentlemen\, please wear pants that will stay up!  Yoga is typically done in bare feet\, but if you are uncomfortable with that\, you can purchase yoga socks. \nWe have plenty of yoga mats available\, but if you have your own mat please bring it along with plenty of water! \nSign up below to let us know you are attending! \nhttps://www.signupgenius.com/go/10C0948A4A72FAAFBCE9-yoga3
URL:https://xceptionalheroes.org/event/yoga-with-kelsey-13/
LOCATION:Faith Lutheran\, 12534 Holly Road\, Grand Blanc\, MI\, 48439\, United States
CATEGORIES:Free For All
ATTACH;FMTTYPE=image/jpeg:https://xceptionalheroes.org/wp-content/uploads/2022/10/yoga.jpg
END:VEVENT
BEGIN:VEVENT
DTSTART;TZID=UTC:20230611T120000
DTEND;TZID=UTC:20230611T153000
DTSTAMP:20260425T130359
CREATED:20230601T204128Z
LAST-MODIFIED:20230601T204128Z
UID:2499-1686484800-1686497400@xceptionalheroes.org
SUMMARY:Movie Matinee & Lunch at BWW
DESCRIPTION:Come join Christopher and crew for lunch at Buffalo Wild Wings followed by Spiderman – Across the Spider-Verse at NCG Trillium next door! The actual times will be updated closer to the date when the theater releases the movie times!\n\nhttps://www.signupgenius.com/go/10C0948A4A72FAAFBCE9-movie4
URL:https://xceptionalheroes.org/event/movie-matinee-lunch-at-bww-7/
LOCATION:NCG Triullium\, 8220 Trillium Circle Ave\, Grand Blanc\, MI\, 48439\, United States
CATEGORIES:Ticket or Entry Costs
ATTACH;FMTTYPE=image/jpeg:https://xceptionalheroes.org/wp-content/uploads/2023/06/spiderman.jpg
END:VEVENT
BEGIN:VEVENT
DTSTART;TZID=UTC:20230608T120000
DTEND;TZID=UTC:20230608T130000
DTSTAMP:20260425T130359
CREATED:20230601T202818Z
LAST-MODIFIED:20230601T202818Z
UID:2489-1686225600-1686229200@xceptionalheroes.org
SUMMARY:Fitness Class
DESCRIPTION:Join Jennifer and Crew at Ascension Genesys Health Club for fitness\, wellness\, and nutrition tips!  Bring your accountability journals\, comfortable clothing\, and water!  Sign up below and let us know you are coming! \nhttps://www.signupgenius.com/go/10C0948A4A72FAAFBCE9-fitness3
URL:https://xceptionalheroes.org/event/fitness-class-6/
LOCATION:Ascension Genesys Health Club\, 801 Health Park Blvd\, Grand Blanc\, MI\, 48439
CATEGORIES:Free For All
ATTACH;FMTTYPE=image/jpeg:https://xceptionalheroes.org/wp-content/uploads/2022/10/fitness.jpg
END:VEVENT
BEGIN:VEVENT
DTSTART;TZID=UTC:20230607T180000
DTEND;TZID=UTC:20230607T200000
DTSTAMP:20260425T130359
CREATED:20230601T203420Z
LAST-MODIFIED:20230601T203420Z
UID:2497-1686160800-1686168000@xceptionalheroes.org
SUMMARY:Montrose Gym Night
DESCRIPTION:Join us for Gym Night at Carter Elementary in Montrose to participate in a variety of activities!  It could range from kickball\, dodgeball\, basketball\, nerf gun wars\, obstacle courses\, etc!  This is a great way to release a lot of pent up energy and have fun with your friends! \nSign up below to let us know you are coming! \nhttps://www.signupgenius.com/go/10C0948A4A72FAAFBCE9-montrose2 \n 
URL:https://xceptionalheroes.org/event/montrose-gym-night-6/
LOCATION:Carter Elementary\, 200 Park St\, Montrose\, MI\, 48457\, United States
CATEGORIES:Free For All
ATTACH;FMTTYPE=image/jpeg:https://xceptionalheroes.org/wp-content/uploads/2022/10/gym-night.jpg
END:VEVENT
BEGIN:VEVENT
DTSTART;TZID=UTC:20230601T120000
DTEND;TZID=UTC:20230601T130000
DTSTAMP:20260425T130359
CREATED:20230601T202735Z
LAST-MODIFIED:20230601T202735Z
UID:2487-1685620800-1685624400@xceptionalheroes.org
SUMMARY:Fitness Class
DESCRIPTION:Join Jennifer and Crew at Ascension Genesys Health Club for fitness\, wellness\, and nutrition tips!  Bring your accountability journals\, comfortable clothing\, and water!  Sign up below and let us know you are coming! \nhttps://www.signupgenius.com/go/10C0948A4A72FAAFBCE9-fitness3
URL:https://xceptionalheroes.org/event/fitness-class-5/
LOCATION:Ascension Genesys Health Club\, 801 Health Park Blvd\, Grand Blanc\, MI\, 48439
CATEGORIES:Free For All
ATTACH;FMTTYPE=image/jpeg:https://xceptionalheroes.org/wp-content/uploads/2022/10/fitness.jpg
END:VEVENT
BEGIN:VEVENT
DTSTART;TZID=UTC:20230531T180000
DTEND;TZID=UTC:20230531T200000
DTSTAMP:20260425T130359
CREATED:20230504T002345Z
LAST-MODIFIED:20230504T002345Z
UID:2445-1685556000-1685563200@xceptionalheroes.org
SUMMARY:Montrose Gym Night
DESCRIPTION:Join us for Gym Night at Carter Elementary in Montrose to participate in a variety of activities!  It could range from kickball\, dodgeball\, basketball\, nerf gun wars\, obstacle courses\, etc!  This is a great way to release a lot of pent up energy and have fun with your friends! \nSign up below to let us know you are coming! \nhttps://www.signupgenius.com/go/10C0948A4A72FAAFBCE9-montrose1 \n 
URL:https://xceptionalheroes.org/event/montrose-gym-night-5/
LOCATION:Carter Elementary\, 200 Park St\, Montrose\, MI\, 48457\, United States
CATEGORIES:Free For All
ATTACH;FMTTYPE=image/jpeg:https://xceptionalheroes.org/wp-content/uploads/2022/10/gym-night.jpg
END:VEVENT
BEGIN:VEVENT
DTSTART;TZID=UTC:20230528T120000
DTEND;TZID=UTC:20230528T153000
DTSTAMP:20260425T130359
CREATED:20230504T011425Z
LAST-MODIFIED:20230504T011425Z
UID:2467-1685275200-1685287800@xceptionalheroes.org
SUMMARY:Movie Matinee & Lunch at BWW
DESCRIPTION:Come join Christopher and crew for lunch at Buffalo Wild Wings followed by The Little Mermaid at NCG Trillium next door! The actual times will be updated closer to the date when the theater releases the movie times!\n\nhttps://www.signupgenius.com/go/10C0948A4A72FAAFBCE9-movie3
URL:https://xceptionalheroes.org/event/movie-matinee-lunch-at-bww-6/
LOCATION:NCG Triullium\, 8220 Trillium Circle Ave\, Grand Blanc\, MI\, 48439\, United States
CATEGORIES:Ticket or Entry Costs
ATTACH;FMTTYPE=image/jpeg:https://xceptionalheroes.org/wp-content/uploads/2023/05/mermaid.jpg
END:VEVENT
BEGIN:VEVENT
DTSTART;TZID=UTC:20230526T183000
DTEND;TZID=UTC:20230526T200000
DTSTAMP:20260425T130359
CREATED:20230504T011105Z
LAST-MODIFIED:20230504T011157Z
UID:2463-1685125800-1685131200@xceptionalheroes.org
SUMMARY:Volleyball/Basketball at Bicentennial Park
DESCRIPTION:Join us for some outdoor fun playing volleyball or basketball at Bicentennial Park!  Wear comfortable clothing and shoes\, and be sure to bring water!  Sign up on the link below to let us know you are coming! \nhttps://www.signupgenius.com/go/10C0948A4A72FAAFBCE9-volleyballbasketb
URL:https://xceptionalheroes.org/event/kickball-at-rust-park-2/
LOCATION:Bicentennial Park\, 1505 E. Grand Blanc Rd\, Grand Blanc\, MI\, 48439\, United States
CATEGORIES:Free For All
ATTACH;FMTTYPE=image/jpeg:https://xceptionalheroes.org/wp-content/uploads/2023/05/volleyball.jpg
END:VEVENT
BEGIN:VEVENT
DTSTART;TZID=UTC:20230525T183000
DTEND;TZID=UTC:20230525T200000
DTSTAMP:20260425T130359
CREATED:20230504T010130Z
LAST-MODIFIED:20230504T010130Z
UID:2459-1685039400-1685044800@xceptionalheroes.org
SUMMARY:Walk in the Park - McFarlen Library
DESCRIPTION:We will begin a monthly hike through local parks beginning this month!  Please join us at McFarlen Library to hike the trails behind the library!  There is a tree over 100 years old back there!  Please sign up and let us know you are attending!  Wear comfortable clothing and shoes and be sure to bring water! \nhttps://www.signupgenius.com/go/10C0948A4A72FAAFBCE9-walk
URL:https://xceptionalheroes.org/event/walk-in-the-park-mcfarlen-library/
LOCATION:McFarlen Library\, 515 Perry Rd\, Grand Blanc\, MI\, 48439\, United States
CATEGORIES:Free For All
ATTACH;FMTTYPE=image/jpeg:https://xceptionalheroes.org/wp-content/uploads/2023/05/walk.jpg
END:VEVENT
BEGIN:VEVENT
DTSTART;TZID=UTC:20230525T120000
DTEND;TZID=UTC:20230525T130000
DTSTAMP:20260425T130359
CREATED:20230504T001615Z
LAST-MODIFIED:20230504T001615Z
UID:2434-1685016000-1685019600@xceptionalheroes.org
SUMMARY:Fitness Class
DESCRIPTION:Join Jennifer and Crew at Ascension Genesys Health Club for fitness\, wellness\, and nutrition tips!  Bring your accountability journals\, comfortable clothing\, and water!  Sign up below and let us know you are coming! \nhttps://www.signupgenius.com/go/10C0948A4A72FAAFBCE9-fitness2
URL:https://xceptionalheroes.org/event/fitness-class-4/
LOCATION:Ascension Genesys Health Club\, 801 Health Park Blvd\, Grand Blanc\, MI\, 48439
CATEGORIES:Free For All
ATTACH;FMTTYPE=image/jpeg:https://xceptionalheroes.org/wp-content/uploads/2022/10/fitness.jpg
END:VEVENT
BEGIN:VEVENT
DTSTART;TZID=UTC:20230524T180000
DTEND;TZID=UTC:20230524T200000
DTSTAMP:20260425T130359
CREATED:20230504T002316Z
LAST-MODIFIED:20230504T002316Z
UID:2443-1684951200-1684958400@xceptionalheroes.org
SUMMARY:Montrose Gym Night
DESCRIPTION:Join us for Gym Night at Carter Elementary in Montrose to participate in a variety of activities!  It could range from kickball\, dodgeball\, basketball\, nerf gun wars\, obstacle courses\, etc!  This is a great way to release a lot of pent up energy and have fun with your friends! \nSign up below to let us know you are coming! \nhttps://www.signupgenius.com/go/10C0948A4A72FAAFBCE9-montrose1 \n 
URL:https://xceptionalheroes.org/event/montrose-gym-night-4/
LOCATION:Carter Elementary\, 200 Park St\, Montrose\, MI\, 48457\, United States
CATEGORIES:Free For All
ATTACH;FMTTYPE=image/jpeg:https://xceptionalheroes.org/wp-content/uploads/2022/10/gym-night.jpg
END:VEVENT
END:VCALENDAR