BEGIN:VCALENDAR
VERSION:2.0
PRODID:-//Xceptional Heroes - ECPv6.15.20//NONSGML v1.0//EN
CALSCALE:GREGORIAN
METHOD:PUBLISH
X-WR-CALNAME:Xceptional Heroes
X-ORIGINAL-URL:https://xceptionalheroes.org
X-WR-CALDESC:Events for Xceptional Heroes
REFRESH-INTERVAL;VALUE=DURATION:PT1H
X-Robots-Tag:noindex
X-PUBLISHED-TTL:PT1H
BEGIN:VTIMEZONE
TZID:UTC
BEGIN:STANDARD
TZOFFSETFROM:+0000
TZOFFSETTO:+0000
TZNAME:UTC
DTSTART:20240101T000000
END:STANDARD
END:VTIMEZONE
BEGIN:VEVENT
DTSTART;TZID=UTC:20251106T110000
DTEND;TZID=UTC:20251106T120000
DTSTAMP:20260423T235016
CREATED:20251022T151532Z
LAST-MODIFIED:20251022T151532Z
UID:4834-1762426800-1762430400@xceptionalheroes.org
SUMMARY:Fun w/ Fitness
DESCRIPTION:Join us for Fitness with Tamara! Make sure to dress appropriately\, consider the weather as when it permits\, we will still try to get outdoors as much as possible. Bring plenty of water to get you through!\n\nREMEMBER: You MUST have a profile completed prior to attending any activities at Henry Ford Genesys Health Club. If your profile is incomplete\, you will not be permitted to participate.\n\nWe will post on the page if weather seems questionable to let everyone know the status of the activity\n\nSign up below:\nhttps://www.signupgenius.com/go/10C0948A4A72FAAFBCE9-59840120-funwfitness
URL:https://xceptionalheroes.org/event/fun-w-fitness-25/
LOCATION:Ascension Genesys Health Club\, 801 Health Park Blvd\, Grand Blanc\, MI\, 48439
CATEGORIES:Free For All
ATTACH;FMTTYPE=image/jpeg:https://xceptionalheroes.org/wp-content/uploads/2024/12/IMG_4229.jpg
END:VEVENT
BEGIN:VEVENT
DTSTART;TZID=UTC:20251105T180000
DTEND;TZID=UTC:20251105T183000
DTSTAMP:20260423T235016
CREATED:20251022T150145Z
LAST-MODIFIED:20251022T150145Z
UID:4830-1762365600-1762367400@xceptionalheroes.org
SUMMARY:Cardio Drumming
DESCRIPTION:Join Kheila for a fun and unique way to get your body moving and enjoy some fun tunes in the process! \nThere is a participant limit so please only show up if you are signed up for the event. \nSign up below:\nhttps://www.signupgenius.com/go/10C0948A4A72FAAFBCE9-59840230-cardio \n 
URL:https://xceptionalheroes.org/event/cardio-drumming-4/
LOCATION:Richfield Road Church\, 6259 Richfield Rd\, Flint\, 48506
CATEGORIES:Free For All
ATTACH;FMTTYPE=image/jpeg:https://xceptionalheroes.org/wp-content/uploads/2025/07/517125853_10163006662914928_6359084589592012239_n.jpg
END:VEVENT
BEGIN:VEVENT
DTSTART;TZID=UTC:20251104T180000
DTEND;TZID=UTC:20251104T183000
DTSTAMP:20260423T235016
CREATED:20251022T152157Z
LAST-MODIFIED:20251022T152157Z
UID:4840-1762279200-1762281000@xceptionalheroes.org
SUMMARY:XH North Drumming
DESCRIPTION:Join us for an amazing opportunity to get a good workout in! \nWe are offering a class for our Heroes to have some fun drumming and working up a sweat! \nThis event has been a huge hit and you won’t want to miss out! \nPlease make sure to sign up for this event as there is a strict participation limit. \nSign up below! \nhttps://www.signupgenius.com/go/10C0948A4A72FAAFBCE9-59842212-drumming \n 
URL:https://xceptionalheroes.org/event/xh-north-drumming-14/
LOCATION:12167 N Lewis Rd Clio\, MI\, 12167 N Lewis Rd\, Clio\, Michigan\, 48420
CATEGORIES:Free For All
ATTACH;FMTTYPE=image/jpeg:https://xceptionalheroes.org/wp-content/uploads/2025/03/IMG_4345.jpg
END:VEVENT
BEGIN:VEVENT
DTSTART;TZID=UTC:20251104T140000
DTEND;TZID=UTC:20251104T163000
DTSTAMP:20260423T235016
CREATED:20251020T195037Z
LAST-MODIFIED:20251020T195037Z
UID:4824-1762264800-1762273800@xceptionalheroes.org
SUMMARY:Collaboration with TDN and FIA
DESCRIPTION:Do you know the movie\, Coco? Have you heard of “Day of the Dead” or an “Ofrenda”?! THIS is your opportunity to collaborate with The Disability Network and Flint Institute of Arts to socialize\, learn\, and create!\n\nWe will learn about and create a piece of art to honor someone dear to us that is no longer with us. It is called an Ofrenda\, which has roots in Latin and Mexican cultures. These beautiful works of art are adorned with photos (BE SURE TO BRING YOUR PHOTO!!)\, flowers\, candles\, and any objects that are reflective of your special person.\n\nSign up below for this very unique opportunity!\nhttps://www.signupgenius.com/go/10C0948A4A72FAAFBCE9-59766221-collaboration
URL:https://xceptionalheroes.org/event/collaboration-with-tdn-and-fia/
LOCATION:1120 East Kearsley St\, 1120 East Kearsley St\, Flint\, MI\, 48503\, United States
CATEGORIES:Free For All
ATTACH;FMTTYPE=image/png:https://xceptionalheroes.org/wp-content/uploads/2025/10/OFRENDA.png
END:VEVENT
BEGIN:VEVENT
DTSTART;TZID=UTC:20251031T180000
DTEND;TZID=UTC:20251031T200000
DTSTAMP:20260423T235016
CREATED:20250925T194605Z
LAST-MODIFIED:20250925T194605Z
UID:4804-1761933600-1761940800@xceptionalheroes.org
SUMMARY:Bowling Night
DESCRIPTION:Join us for a “Rolling good time” at Grand Blanc Lanes for Bowling Night with Bubba!  Since this event will be held on Halloween Night\, be sure to wear your costume and bring some candy! \nThe 2 hour session will be $10 and we welcome parents and caregivers to join in if they please as well! \nPlease make sure to sign up if you would like to bowl so that we have enough lanes reserved. \nSign up below: \nhttps://www.signupgenius.com/go/10C0948A4A72FAAFBCE9-58996060-bowling \n 
URL:https://xceptionalheroes.org/event/bowling-night-15/
LOCATION:Grand Blanc Lanes\, 5301 S. Saginaw St\, Grand Blanc\, MI\, 48439\, United States
CATEGORIES:Ticket or Entry Costs
ATTACH;FMTTYPE=image/jpeg:https://xceptionalheroes.org/wp-content/uploads/2025/07/523974567_10162167414843509_4927107405251019643_n.jpg
END:VEVENT
BEGIN:VEVENT
DTSTART;TZID=UTC:20251030T110000
DTEND;TZID=UTC:20251030T120000
DTSTAMP:20260423T235016
CREATED:20250925T182358Z
LAST-MODIFIED:20250925T182358Z
UID:4776-1761822000-1761825600@xceptionalheroes.org
SUMMARY:Fun w/ Fitness
DESCRIPTION:Join us for Fitness with Tamara! Make sure to dress appropriately\, consider the weather as when it permits\, we will still try to get outdoors as much as possible. Bring plenty of water to get you through!\n\nREMEMBER: You MUST have a profile completed prior to attending any activities at Henry Ford Genesys Health Club. If your profile is incomplete\, you will not be permitted to participate.\n\nWe will post on the page if weather seems questionable to let everyone know the status of the activity\n\nSign up below:\nhttps://www.signupgenius.com/go/10C0948A4A72FAAFBCE9-58995319-funwfitness
URL:https://xceptionalheroes.org/event/fun-w-fitness-24/
LOCATION:Ascension Genesys Health Club\, 801 Health Park Blvd\, Grand Blanc\, MI\, 48439
CATEGORIES:Free For All
ATTACH;FMTTYPE=image/jpeg:https://xceptionalheroes.org/wp-content/uploads/2024/12/IMG_4229.jpg
END:VEVENT
BEGIN:VEVENT
DTSTART;TZID=UTC:20251029T180000
DTEND;TZID=UTC:20251029T183000
DTSTAMP:20260423T235016
CREATED:20250925T191601Z
LAST-MODIFIED:20250925T191601Z
UID:4796-1761760800-1761762600@xceptionalheroes.org
SUMMARY:Cardio Drumming
DESCRIPTION:Join Kheila for a fun and unique way to get your body moving and enjoy some fun tunes in the process! \nThere is a participant limit so please only show up if you are signed up for the event. \nSign up below:\nhttps://www.signupgenius.com/go/10C0948A4A72FAAFBCE9-58996510-cardio \n 
URL:https://xceptionalheroes.org/event/cardio-drumming-3/
LOCATION:Richfield Road Church\, 6259 Richfield Rd\, Flint\, 48506
CATEGORIES:Free For All
ATTACH;FMTTYPE=image/jpeg:https://xceptionalheroes.org/wp-content/uploads/2025/07/517125853_10163006662914928_6359084589592012239_n.jpg
END:VEVENT
BEGIN:VEVENT
DTSTART;TZID=UTC:20251028T180000
DTEND;TZID=UTC:20251028T183000
DTSTAMP:20260423T235016
CREATED:20250925T191018Z
LAST-MODIFIED:20250925T191018Z
UID:4792-1761674400-1761676200@xceptionalheroes.org
SUMMARY:XH North Drumming
DESCRIPTION:Join us for an amazing opportunity to get a good workout in! \nWe are offering a class for our Heroes to have some fun drumming and working up a sweat! \nThis event has been a huge hit and you won’t want to miss out! \nPlease make sure to sign up for this event as there is a strict participation limit. \nhttps://www.signupgenius.com/go/10C0948A4A72FAAFBCE9-58996453-drumming \n 
URL:https://xceptionalheroes.org/event/xh-north-drumming-12/
LOCATION:12167 N Lewis Rd Clio\, MI\, 12167 N Lewis Rd\, Clio\, Michigan\, 48420
CATEGORIES:Free For All
ATTACH;FMTTYPE=image/jpeg:https://xceptionalheroes.org/wp-content/uploads/2025/03/IMG_4345.jpg
END:VEVENT
BEGIN:VEVENT
DTSTART;TZID=UTC:20251023T180000
DTEND;TZID=UTC:20251023T193000
DTSTAMP:20260423T235016
CREATED:20250925T193917Z
LAST-MODIFIED:20250925T193917Z
UID:4802-1761242400-1761247800@xceptionalheroes.org
SUMMARY:Painting Class in the North
DESCRIPTION:Join us in the North for an amazing painting class!\n\nCome by and learn the ins and outs of painting. We will be learning different techniques and styles!\n\nWe hope to see you all there and can’t wait to see what we create!\n\nSign up below:\nhttps://www.signupgenius.com/go/10C0948A4A72FAAFBCE9-58996175-xhnorth\n 
URL:https://xceptionalheroes.org/event/painting-class-in-the-north-3/
LOCATION:12167 N Lewis Rd Clio\, MI\, 12167 N Lewis Rd\, Clio\, Michigan\, 48420
CATEGORIES:Free For All
ATTACH;FMTTYPE=image/jpeg:https://xceptionalheroes.org/wp-content/uploads/2025/08/Art-Class.jpg
END:VEVENT
BEGIN:VEVENT
DTSTART;TZID=UTC:20251023T110000
DTEND;TZID=UTC:20251023T120000
DTSTAMP:20260423T235016
CREATED:20250925T182038Z
LAST-MODIFIED:20250925T182038Z
UID:4774-1761217200-1761220800@xceptionalheroes.org
SUMMARY:Fun w/ Fitness
DESCRIPTION:Join us for Fitness with Tamara! Make sure to dress appropriately\, consider the weather as when it permits\, we will still try to get outdoors as much as possible. Bring plenty of water to get you through!\n\nREMEMBER: You MUST have a profile completed prior to attending any activities at Henry Ford Genesys Health Club. If your profile is incomplete\, you will not be permitted to participate.\n\nWe will post on the page if weather seems questionable to let everyone know the status of the activity\n\nSign up below:\nhttps://www.signupgenius.com/go/10C0948A4A72FAAFBCE9-58995324-copy
URL:https://xceptionalheroes.org/event/fun-w-fitness-23/
LOCATION:Ascension Genesys Health Club\, 801 Health Park Blvd\, Grand Blanc\, MI\, 48439
CATEGORIES:Free For All
ATTACH;FMTTYPE=image/jpeg:https://xceptionalheroes.org/wp-content/uploads/2024/12/IMG_4229.jpg
END:VEVENT
BEGIN:VEVENT
DTSTART;TZID=UTC:20251022T180000
DTEND;TZID=UTC:20251022T193000
DTSTAMP:20260423T235016
CREATED:20250925T192050Z
LAST-MODIFIED:20250925T192050Z
UID:4798-1761156000-1761161400@xceptionalheroes.org
SUMMARY:Bingo Night
DESCRIPTION:Come join us for a funfilled Bingo Night with Bubba! \nThis is a very popular event and always has everyone leaving with a smile on their face! \nMake sure to bring 2.75 in quarters with you to play with as Bubba has a fun progressive jackpot going! \nSign up below: \nhttps://www.signupgenius.com/go/10C0948A4A72FAAFBCE9-58996054-bingo \n  \n 
URL:https://xceptionalheroes.org/event/bingo-night-25/
LOCATION:Richfield Road Church\, 6259 Richfield Rd\, Flint\, 48506
CATEGORIES:Ticket or Entry Costs
ATTACH;FMTTYPE=image/jpeg:https://xceptionalheroes.org/wp-content/uploads/2025/08/FB_IMG_1755969546238.jpg
END:VEVENT
BEGIN:VEVENT
DTSTART;TZID=UTC:20251021T183000
DTEND;TZID=UTC:20251021T193000
DTSTAMP:20260423T235016
CREATED:20250925T184742Z
LAST-MODIFIED:20250925T184742Z
UID:4782-1761071400-1761075000@xceptionalheroes.org
SUMMARY:Fun w/ Fitness in the North
DESCRIPTION:Join us in the North getting fit and healthy – either indoors or outdoors\, as weather permits! \nWe will have lots of activities planned like pickleball\, kickball\, walking\, and a new bean bag baseball game! \nThese activities will differ depending on the weather but surely fun will be had by all! \nSign up below:\nhttps://www.signupgenius.com/go/10C0948A4A72FAAFBCE9-58996092-funwfitness \n 
URL:https://xceptionalheroes.org/event/fun-w-fitness-in-the-north-9/
LOCATION:12167 N Lewis Rd Clio\, MI\, 12167 N Lewis Rd\, Clio\, Michigan\, 48420
CATEGORIES:Free For All
ATTACH;FMTTYPE=image/jpeg:https://xceptionalheroes.org/wp-content/uploads/2024/03/IMG_3043-scaled.jpeg
END:VEVENT
BEGIN:VEVENT
DTSTART;TZID=UTC:20251021T180000
DTEND;TZID=UTC:20251021T193000
DTSTAMP:20260423T235016
CREATED:20250925T175839Z
LAST-MODIFIED:20250925T175839Z
UID:4763-1761069600-1761075000@xceptionalheroes.org
SUMMARY:Art Class
DESCRIPTION:Join us for Art Class! REMEMBER\, we are in a new location beginning this month! The new building is in Mundy Miracle Commons on Hill Rd.! \n\nCome work with our talented instructor\, Chris\, to create amazing works of art! No two projects are ever the same and Chris really works to make some very fun and unique projects! If you haven’t already registered\, please arrive 15 minutes early to complete the paperwork with Mundy Township!\n\nSign up below:\nhttps://www.signupgenius.com/go/10C0948A4A72FAAFBCE9-58996550-artclass \n 
URL:https://xceptionalheroes.org/event/art-class-5/
LOCATION:1286 W Hill Rd\, 1286 W. Hill Rd.\, Flint\, MI\, 48507\, United States
CATEGORIES:Free For All
ATTACH;FMTTYPE=image/jpeg:https://xceptionalheroes.org/wp-content/uploads/2025/08/Art-Class.jpg
END:VEVENT
BEGIN:VEVENT
DTSTART;TZID=UTC:20251018T140000
DTEND;TZID=UTC:20251018T160000
DTSTAMP:20260423T235016
CREATED:20250925T195759Z
LAST-MODIFIED:20250925T195759Z
UID:4807-1760796000-1760803200@xceptionalheroes.org
SUMMARY:Trunk or Treat
DESCRIPTION:Come on out to enjoy our 1st Annual Truck or Treat!  Greg Greer is hosting this fun event and there will be prizes for best costume and best decorated vehicle!  Break out the costumes and decorations and come have a great time!
URL:https://xceptionalheroes.org/event/trunk-or-treat/
LOCATION:2077 E Bristol Rd\, 2077 E Bristol Rd\, Burton\, MI\, 48529\, United States
ATTACH;FMTTYPE=image/png:https://xceptionalheroes.org/wp-content/uploads/2025/09/Trunk-1.png
END:VEVENT
BEGIN:VEVENT
DTSTART;TZID=UTC:20251016T110000
DTEND;TZID=UTC:20251016T120000
DTSTAMP:20260423T235016
CREATED:20250925T181713Z
LAST-MODIFIED:20250925T181713Z
UID:4772-1760612400-1760616000@xceptionalheroes.org
SUMMARY:Fun w/ Fitness
DESCRIPTION:Join us for Fitness with Tamara! Make sure to dress appropriately\, consider the weather as when it permits\, we will still try to get outdoors as much as possible. Bring plenty of water to get you through!\n\nREMEMBER: You MUST have a profile completed prior to attending any activities at Henry Ford Genesys Health Club. If your profile is incomplete\, you will not be permitted to participate.\n\nWe will post on the page if weather seems questionable to let everyone know the status of the activity\n\nSign up below:\nhttps://www.signupgenius.com/go/10C0948A4A72FAAFBCE9-58995280-funwfitness
URL:https://xceptionalheroes.org/event/fun-w-fitness-22/
LOCATION:Ascension Genesys Health Club\, 801 Health Park Blvd\, Grand Blanc\, MI\, 48439
CATEGORIES:Free For All
ATTACH;FMTTYPE=image/jpeg:https://xceptionalheroes.org/wp-content/uploads/2024/12/IMG_4229.jpg
END:VEVENT
BEGIN:VEVENT
DTSTART;TZID=UTC:20251015T180000
DTEND;TZID=UTC:20251015T193000
DTSTAMP:20260423T235016
CREATED:20250925T193503Z
LAST-MODIFIED:20250925T193503Z
UID:4800-1760551200-1760556600@xceptionalheroes.org
SUMMARY:XH North Bingo Night
DESCRIPTION:Come join us for a funfilled Bingo Night with Bubba! \nThis is a very popular event and always has everyone leaving with a smile on their face! \nMake sure to bring 2.75 in quarters with you to play with as Bubba has a fun progressive jackpot going \nSign up below: \nhttps://www.signupgenius.com/go/10C0948A4A72FAAFBCE9-59002424-xhnorth \n 
URL:https://xceptionalheroes.org/event/xh-north-bingo-night-7/
LOCATION:12167 N Lewis Rd Clio\, MI\, 12167 N Lewis Rd\, Clio\, Michigan\, 48420
CATEGORIES:Ticket or Entry Costs
ATTACH;FMTTYPE=image/jpeg:https://xceptionalheroes.org/wp-content/uploads/2025/03/IMG_4344.jpg
END:VEVENT
BEGIN:VEVENT
DTSTART;TZID=UTC:20251015T180000
DTEND;TZID=UTC:20251015T183000
DTSTAMP:20260423T235017
CREATED:20250925T191334Z
LAST-MODIFIED:20250925T191334Z
UID:4794-1760551200-1760553000@xceptionalheroes.org
SUMMARY:Cardio Drumming
DESCRIPTION:Join Kheila for a fun and unique way to get your body moving and enjoy some fun tunes in the process! \nThere is a participant limit so please only show up if you are signed up for the event. \nSign up below:\nhttps://www.signupgenius.com/go/10C0948A4A72FAAFBCE9-58996451-cardio \n 
URL:https://xceptionalheroes.org/event/cardio-drumming-2/
LOCATION:Richfield Road Church\, 6259 Richfield Rd\, Flint\, 48506
CATEGORIES:Free For All
ATTACH;FMTTYPE=image/jpeg:https://xceptionalheroes.org/wp-content/uploads/2025/07/517125853_10163006662914928_6359084589592012239_n.jpg
END:VEVENT
BEGIN:VEVENT
DTSTART;TZID=UTC:20251014T180000
DTEND;TZID=UTC:20251014T183000
DTSTAMP:20260423T235017
CREATED:20250925T190710Z
LAST-MODIFIED:20250925T190710Z
UID:4790-1760464800-1760466600@xceptionalheroes.org
SUMMARY:XH North Drumming
DESCRIPTION:Join us for an amazing opportunity to get a good workout in! \nWe are offering a class for our Heroes to have some fun drumming and working up a sweat! \nThis event has been a huge hit and you won’t want to miss out! \nPlease make sure to sign up for this event as there is a strict participation limit. \nhttps://www.signupgenius.com/go/10C0948A4A72FAAFBCE9-58996404-drumming \n 
URL:https://xceptionalheroes.org/event/xh-north-drumming-11/
LOCATION:12167 N Lewis Rd Clio\, MI\, 12167 N Lewis Rd\, Clio\, Michigan\, 48420
CATEGORIES:Free For All
ATTACH;FMTTYPE=image/jpeg:https://xceptionalheroes.org/wp-content/uploads/2025/03/IMG_4345.jpg
END:VEVENT
BEGIN:VEVENT
DTSTART;TZID=UTC:20251012T110000
DTEND;TZID=UTC:20251012T170000
DTSTAMP:20260423T235017
CREATED:20250925T190047Z
LAST-MODIFIED:20250925T190047Z
UID:4788-1760266800-1760288400@xceptionalheroes.org
SUMMARY:Lunch and Movie
DESCRIPTION:Join us on Sunday for Lunch and a Movie! \nThe movie we will be seeing will be determined closer to the date and we will let everyone know ahead of time! We typically meet at Buffalo Wild Wings for lunch first around 11 and then will head over to the theatre. \nEveryone is responsible for their own meal and movie ticket. \nSign up below:\nhttps://www.signupgenius.com/go/10C0948A4A72FAAFBCE9-58996342-lunch
URL:https://xceptionalheroes.org/event/lunch-and-movie-7/
LOCATION:NCG Triullium\, 8220 Trillium Circle Ave\, Grand Blanc\, MI\, 48439\, United States
CATEGORIES:Ticket or Entry Costs
ATTACH;FMTTYPE=image/jpeg:https://xceptionalheroes.org/wp-content/uploads/2023/11/dinner.jpg
END:VEVENT
BEGIN:VEVENT
DTSTART;TZID=UTC:20251010T180000
DTEND;TZID=UTC:20251010T200000
DTSTAMP:20260423T235017
CREATED:20250925T185728Z
LAST-MODIFIED:20250925T185728Z
UID:4786-1760119200-1760126400@xceptionalheroes.org
SUMMARY:Monthly Social
DESCRIPTION:Join us for our Monthly Social! \nThis is a great way to get out there and meet new friends along with hanging out with old friends! \nWe encourage everyone to join us at the social! There’s dancing\, snacks\, and nothing but a good time!  We also encourage everyone to bring a healthy snack to share with everyone! \nSign up below:\nhttps://www.signupgenius.com/go/10C0948A4A72FAAFBCE9-58996346-monthly \n 
URL:https://xceptionalheroes.org/event/monthly-social-15/
LOCATION:Faith Lutheran\, 12534 Holly Road\, Grand Blanc\, MI\, 48439\, United States
CATEGORIES:Free For All
ATTACH;FMTTYPE=image/jpeg:https://xceptionalheroes.org/wp-content/uploads/2024/07/IMG_5440-scaled.jpg
END:VEVENT
BEGIN:VEVENT
DTSTART;TZID=UTC:20251009T110000
DTEND;TZID=UTC:20251009T120000
DTSTAMP:20260423T235017
CREATED:20250925T181334Z
LAST-MODIFIED:20250925T181334Z
UID:4770-1760007600-1760011200@xceptionalheroes.org
SUMMARY:Fun w/ Fitness
DESCRIPTION:Join us for Fitness with Tamara! Make sure to dress appropriately\, consider the weather as when it permits\, we will still try to get outdoors as much as possible. Bring plenty of water to get you through!\n\nREMEMBER: You MUST have a profile completed prior to attending any activities at Henry Ford Genesys Health Club. If your profile is incomplete\, you will not be permitted to participate.\n\nWe will post on the page if weather seems questionable to let everyone know the status of the activity\n\nSign up below:\nhttps://www.signupgenius.com/go/10C0948A4A72FAAFBCE9-58995281-funwfitness
URL:https://xceptionalheroes.org/event/fun-w-fitness-21/
LOCATION:Ascension Genesys Health Club\, 801 Health Park Blvd\, Grand Blanc\, MI\, 48439
CATEGORIES:Free For All
ATTACH;FMTTYPE=image/jpeg:https://xceptionalheroes.org/wp-content/uploads/2024/12/IMG_4229.jpg
END:VEVENT
BEGIN:VEVENT
DTSTART;TZID=UTC:20251008T180000
DTEND;TZID=UTC:20251008T193000
DTSTAMP:20260423T235017
CREATED:20250925T185240Z
LAST-MODIFIED:20250925T185240Z
UID:4784-1759946400-1759951800@xceptionalheroes.org
SUMMARY:Craft Night
DESCRIPTION:Come join Robin for a fun and creative Craft Night!\nThis event is free thanks to our amazing donations that go towards every craft every Month!\n\nRobin keeps it interesting by choosing a different craft to do with the Heroes each month!\n\nClick the link below to sign up!\nhttps://www.signupgenius.com/go/10C0948A4A72FAAFBCE9-58996299-craft
URL:https://xceptionalheroes.org/event/craft-night-17/
LOCATION:Richfield Road Church\, 6259 Richfield Rd\, Flint\, 48506
CATEGORIES:Free For All
ATTACH;FMTTYPE=image/jpeg:https://xceptionalheroes.org/wp-content/uploads/2025/08/FB_IMG_1755969979513.jpg
END:VEVENT
BEGIN:VEVENT
DTSTART;TZID=UTC:20251007T183000
DTEND;TZID=UTC:20251007T193000
DTSTAMP:20260423T235017
CREATED:20250925T184447Z
LAST-MODIFIED:20250925T184447Z
UID:4780-1759861800-1759865400@xceptionalheroes.org
SUMMARY:Fun w/ Fitness in the North
DESCRIPTION:Join us in the North getting fit and healthy – either indoors or outdoors\, as weather permits! \nWe will have lots of activities planned like pickleball\, kickball\, walking\, and a new bean bag baseball game! \nThese activities will differ depending on the weather but surely fun will be had by all! \nSign up below:\nhttps://www.signupgenius.com/go/10C0948A4A72FAAFBCE9-58996101-funwfitness \n 
URL:https://xceptionalheroes.org/event/fun-w-fitness-in-the-north-8/
LOCATION:12167 N Lewis Rd Clio\, MI\, 12167 N Lewis Rd\, Clio\, Michigan\, 48420
CATEGORIES:Free For All
ATTACH;FMTTYPE=image/jpeg:https://xceptionalheroes.org/wp-content/uploads/2024/03/IMG_3043-scaled.jpeg
END:VEVENT
BEGIN:VEVENT
DTSTART;TZID=UTC:20251006T180000
DTEND;TZID=UTC:20251006T200000
DTSTAMP:20260423T235017
CREATED:20250925T183925Z
LAST-MODIFIED:20250925T183925Z
UID:4778-1759773600-1759780800@xceptionalheroes.org
SUMMARY:Craft Night in the North
DESCRIPTION:Come join Robin for a fun and creative Craft Night!\n\nThis event is free thanks to our amazing donations that go towards craft supplies every month!\n\nRobin keeps it interesting by choosing a different craft to do with the Heroes each month!\n\nPlease make sure if you are attending this event that you sign up. Signing up not only helps us be prepared for the amount of Heroes coming\, but also allows us to have ways to contact everyone if the event needs to be canceled\n\nClick the link below to sign up!\nhttps://www.signupgenius.com/go/10C0948A4A72FAAFBCE9-58996239-craft
URL:https://xceptionalheroes.org/event/craft-night-in-the-north-7/
LOCATION:12167 N Lewis Rd Clio\, MI\, 12167 N Lewis Rd\, Clio\, Michigan\, 48420
CATEGORIES:Free For All
ATTACH;FMTTYPE=image/jpeg:https://xceptionalheroes.org/wp-content/uploads/2025/08/FB_IMG_1755969807485.jpg
END:VEVENT
BEGIN:VEVENT
DTSTART;TZID=UTC:20251002T110000
DTEND;TZID=UTC:20251002T120000
DTSTAMP:20260423T235017
CREATED:20250925T180713Z
LAST-MODIFIED:20250925T181214Z
UID:4766-1759402800-1759406400@xceptionalheroes.org
SUMMARY:Fun w/ Fitness
DESCRIPTION:Join us for Fitness with Tamara! Make sure to dress appropriately\, consider the weather as when it permits\, we will still try to get outdoors as much as possible. Bring plenty of water to get you through!\n\nREMEMBER: You MUST have a profile completed prior to attending any activities at Henry Ford Genesys Health Club. If your profile is incomplete\, you will not be permitted to participate.\n\nWe will post on the page if weather seems questionable to let everyone know the status of the activity\n\nSign up below:\nhttps://www.signupgenius.com/go/10C0948A4A72FAAFBCE9-58995278-funwfitness
URL:https://xceptionalheroes.org/event/fun-w-fitness-20/
LOCATION:Ascension Genesys Health Club\, 801 Health Park Blvd\, Grand Blanc\, MI\, 48439
CATEGORIES:Free For All
ATTACH;FMTTYPE=image/jpeg:https://xceptionalheroes.org/wp-content/uploads/2024/12/IMG_4229.jpg
END:VEVENT
BEGIN:VEVENT
DTSTART;TZID=UTC:20250930T183000
DTEND;TZID=UTC:20250930T193000
DTSTAMP:20260423T235017
CREATED:20250824T165909Z
LAST-MODIFIED:20250824T165909Z
UID:4673-1759257000-1759260600@xceptionalheroes.org
SUMMARY:Fun w/ Fitness in the North
DESCRIPTION:Join us in the North getting fit and healthy – either indoors or outdoors\, as weather permits! \nWe will have lots of activities planned like pickleball\, kickball\, walking\, and a new bean bag baseball game! \nThese activities will differ depending on the weather but surely fun will be had by all! \nSign up below:\nhttps://www.signupgenius.com/go/10C0948A4A72FAAFBCE9-58142243-funwfitness \n 
URL:https://xceptionalheroes.org/event/fun-w-fitness-in-the-north-7/
LOCATION:12167 N Lewis Rd Clio\, MI\, 12167 N Lewis Rd\, Clio\, Michigan\, 48420
CATEGORIES:Free For All
ATTACH;FMTTYPE=image/jpeg:https://xceptionalheroes.org/wp-content/uploads/2024/03/IMG_3043-scaled.jpeg
END:VEVENT
BEGIN:VEVENT
DTSTART;TZID=UTC:20250926T180000
DTEND;TZID=UTC:20250926T200000
DTSTAMP:20260423T235017
CREATED:20250824T153957Z
LAST-MODIFIED:20250824T153957Z
UID:4640-1758909600-1758916800@xceptionalheroes.org
SUMMARY:Bowling Night
DESCRIPTION:Join us for a “Rolling good time” at Grand Blanc Lanes for Bowling Night with Bubba! \nThe 2 hour session will be $10 and we welcome parents and caregivers to join in if they please as well! \nPlease make sure to sign up if you would like to bowl so that we have enough lanes reserved. \nSign up below: \nhttps://www.signupgenius.com/go/10C0948A4A72FAAFBCE9-58140864-bowling \n 
URL:https://xceptionalheroes.org/event/bowling-night-14/
LOCATION:Grand Blanc Lanes\, 5301 S. Saginaw St\, Grand Blanc\, MI\, 48439\, United States
CATEGORIES:Ticket or Entry Costs
ATTACH;FMTTYPE=image/jpeg:https://xceptionalheroes.org/wp-content/uploads/2025/07/523974567_10162167414843509_4927107405251019643_n.jpg
END:VEVENT
BEGIN:VEVENT
DTSTART;TZID=UTC:20250925T180000
DTEND;TZID=UTC:20250925T193000
DTSTAMP:20260423T235017
CREATED:20250824T174701Z
LAST-MODIFIED:20250824T174701Z
UID:4684-1758823200-1758828600@xceptionalheroes.org
SUMMARY:Painting Class in the North
DESCRIPTION:Join us in the North for an amazing painting class!\n\nCome by and learn the ins and outs of painting. We will be learning different techniques and styles!\n\nWe hope to see you all there and can’t wait to see what we create!\n\nSign up below:\nhttps://www.signupgenius.com/go/10C0948A4A72FAAFBCE9-58140867-painting\n 
URL:https://xceptionalheroes.org/event/painting-class-in-the-north-2/
LOCATION:12167 N Lewis Rd Clio\, MI\, 12167 N Lewis Rd\, Clio\, Michigan\, 48420
CATEGORIES:Free For All
ATTACH;FMTTYPE=image/jpeg:https://xceptionalheroes.org/wp-content/uploads/2025/08/Art-Class.jpg
END:VEVENT
BEGIN:VEVENT
DTSTART;TZID=UTC:20250925T110000
DTEND;TZID=UTC:20250925T120000
DTSTAMP:20260423T235017
CREATED:20250824T164711Z
LAST-MODIFIED:20250826T214053Z
UID:4669-1758798000-1758801600@xceptionalheroes.org
SUMMARY:Fun w/ Fitness
DESCRIPTION:Join us for Fitness with Tamara!  Make sure to dress appropriately\, consider the weather as when it permits\, we will still try to get outdoors as much as possible.  Bring plenty of water to get you through! \nWe will post on the page if weather seems it will be bad to let everyone know if we will cancel \nSign up below:\nhttps://www.signupgenius.com/go/10C0948A4A72FAAFBCE9-58141696-funwfitness \n 
URL:https://xceptionalheroes.org/event/fun-w-fitness-19/
LOCATION:Ascension Genesys Health Club\, 801 Health Park Blvd\, Grand Blanc\, MI\, 48439
CATEGORIES:Free For All
ATTACH;FMTTYPE=image/jpeg:https://xceptionalheroes.org/wp-content/uploads/2024/12/IMG_4229.jpg
END:VEVENT
BEGIN:VEVENT
DTSTART;TZID=UTC:20250924T180000
DTEND;TZID=UTC:20250924T193000
DTSTAMP:20260423T235017
CREATED:20250824T153521Z
LAST-MODIFIED:20250824T222718Z
UID:4637-1758736800-1758742200@xceptionalheroes.org
SUMMARY:Bingo Night
DESCRIPTION:Come join us for a funfilled Bingo Night with Bubba! \nThis is a very popular event and always has everyone leaving with a smile on their face! \nMake sure to bring 2.75 in quarters with you to play with as Bubba has a fun progressive jackpot going! \nSign up below: \nhttps://www.signupgenius.com/go/10C0948A4A72FAAFBCE9-58140772-bingo \n  \n 
URL:https://xceptionalheroes.org/event/bingo-night-24/
LOCATION:Richfield Road Church\, 6259 Richfield Rd\, Flint\, 48506
CATEGORIES:Ticket or Entry Costs
ATTACH;FMTTYPE=image/jpeg:https://xceptionalheroes.org/wp-content/uploads/2025/08/FB_IMG_1755969546238.jpg
END:VEVENT
END:VCALENDAR