BEGIN:VCALENDAR
VERSION:2.0
PRODID:-//Xceptional Heroes - ECPv6.15.20//NONSGML v1.0//EN
CALSCALE:GREGORIAN
METHOD:PUBLISH
X-WR-CALNAME:Xceptional Heroes
X-ORIGINAL-URL:https://xceptionalheroes.org
X-WR-CALDESC:Events for Xceptional Heroes
REFRESH-INTERVAL;VALUE=DURATION:PT1H
X-Robots-Tag:noindex
X-PUBLISHED-TTL:PT1H
BEGIN:VTIMEZONE
TZID:UTC
BEGIN:STANDARD
TZOFFSETFROM:+0000
TZOFFSETTO:+0000
TZNAME:UTC
DTSTART:20240101T000000
END:STANDARD
END:VTIMEZONE
BEGIN:VEVENT
DTSTART;TZID=UTC:20250409T180000
DTEND;TZID=UTC:20250409T200000
DTSTAMP:20260424T161507
CREATED:20250330T221808Z
LAST-MODIFIED:20250330T221808Z
UID:4108-1744221600-1744228800@xceptionalheroes.org
SUMMARY:Craft Night
DESCRIPTION:Come join Robin for a fun and creative Craft Night!\n\nThis event is free thanks to our amazing donations that go towards every craft every Month!\n\nRobin keeps it interesting by choosing a different craft to do with the Heroes each month!\n\nClick here to sign up!
URL:https://xceptionalheroes.org/event/craft-night-11/
LOCATION:Richfield Road Church\, 6259 Richfield Rd\, Flint\, 48506
CATEGORIES:Free For All
ATTACH;FMTTYPE=image/jpeg:https://xceptionalheroes.org/wp-content/uploads/2024/04/IMG_3101.jpg
END:VEVENT
BEGIN:VEVENT
DTSTART;TZID=UTC:20250408T183000
DTEND;TZID=UTC:20250408T193000
DTSTAMP:20260424T161507
CREATED:20250330T221227Z
LAST-MODIFIED:20250330T221227Z
UID:4106-1744137000-1744140600@xceptionalheroes.org
SUMMARY:Fun w/ Fitness in the North
DESCRIPTION:We are so exctied to be able to offer Fintess in the North!\n\nThere is no cost to this event and all we ask is that you bring proper shoes and plenty of water with you!\n\nOur Heroes love the Fitness Classes and this is a great way to meet new people while learning a little bit about staying active!\n\nClick here to sign up!
URL:https://xceptionalheroes.org/event/fun-w-fitness-in-the-north-2/
LOCATION:12167 N Lewis Rd Clio\, MI\, 12167 N Lewis Rd\, Clio\, Michigan\, 48420
CATEGORIES:Free For All
ATTACH;FMTTYPE=image/jpeg:https://xceptionalheroes.org/wp-content/uploads/2024/08/IMG_3553.jpg
END:VEVENT
BEGIN:VEVENT
DTSTART;TZID=UTC:20250407T180000
DTEND;TZID=UTC:20250407T200000
DTSTAMP:20260424T161507
CREATED:20250330T221000Z
LAST-MODIFIED:20250330T221000Z
UID:4103-1744048800-1744056000@xceptionalheroes.org
SUMMARY:Craft Night in the North
DESCRIPTION:Come join Robin for a fun and creative Craft Night!\n\nThis event is free thanks to our amazing donations that go towards every craft every Month!\n\nRobin keeps it interesting by choosing a different craft to do with the Heroes each month!\n\nClick here to sign up!
URL:https://xceptionalheroes.org/event/craft-night-in-the-north-2/
LOCATION:12167 N Lewis Rd Clio\, MI\, 12167 N Lewis Rd\, Clio\, Michigan\, 48420
CATEGORIES:Free For All
ATTACH;FMTTYPE=image/jpeg:https://xceptionalheroes.org/wp-content/uploads/2025/03/IMG_8119-scaled.jpeg
END:VEVENT
BEGIN:VEVENT
DTSTART;TZID=UTC:20250403T113000
DTEND;TZID=UTC:20250403T123000
DTSTAMP:20260424T161507
CREATED:20250330T220653Z
LAST-MODIFIED:20250330T220653Z
UID:4101-1743679800-1743683400@xceptionalheroes.org
SUMMARY:Fun w/ Fitness
DESCRIPTION:We are going back to the gym for Fitness!\n\nThis is a great way to get your body moving and stay active during the cold months!\n\nTamara always has fun ideas to keep Fitness fun and interesting!\n\nMake sure to wear the proper shoes and to bring lots of water with you!\n\nClick here to sign up!
URL:https://xceptionalheroes.org/event/fun-w-fitness-7/
LOCATION:Ascension Genesys Health Club\, 801 Health Park Blvd\, Grand Blanc\, MI\, 48439
CATEGORIES:Free For All
ATTACH;FMTTYPE=image/jpeg:https://xceptionalheroes.org/wp-content/uploads/2024/12/IMG_4229.jpg
END:VEVENT
BEGIN:VEVENT
DTSTART;TZID=UTC:20250226T180000
DTEND;TZID=UTC:20250226T193000
DTSTAMP:20260424T161507
CREATED:20250211T003749Z
LAST-MODIFIED:20250211T003749Z
UID:4093-1740592800-1740598200@xceptionalheroes.org
SUMMARY:Game Night
DESCRIPTION:Join us for Game Night! \nWe encourage you to bring your favorite board game and share it with us! \nWe will be playing board games and teaching eachother how to play our favorite games! \n  \nClick here to sign up! \n 
URL:https://xceptionalheroes.org/event/game-night-2/
LOCATION:Richfield Road Church\, 6259 Richfield Rd\, Flint\, 48506
CATEGORIES:Free For All
ATTACH;FMTTYPE=image/png:https://xceptionalheroes.org/wp-content/uploads/2024/12/Game-Night-Event-Image.png
END:VEVENT
BEGIN:VEVENT
DTSTART;TZID=UTC:20250225T180000
DTEND;TZID=UTC:20250225T183000
DTSTAMP:20260424T161507
CREATED:20250211T003603Z
LAST-MODIFIED:20250211T003603Z
UID:4091-1740506400-1740508200@xceptionalheroes.org
SUMMARY:XH North Drumming
DESCRIPTION:Join us for an amazing opportunity to learn to play the drums! \nWe are offering a class for our Heroes to learn the ins and outs of drumming and to be able to put their musical talent to the test! \nWe will learn the history of the instruments and the techniques to making beautiful music with them! \n  \nClick here to sign up! \n  \n 
URL:https://xceptionalheroes.org/event/xh-north-drumming/
LOCATION:12167 N Lewis Rd Clio\, MI\, 12167 N Lewis Rd\, Clio\, Michigan\, 48420
CATEGORIES:Free For All
ATTACH;FMTTYPE=image/jpeg:https://xceptionalheroes.org/wp-content/uploads/2025/02/group-drums.jpg
END:VEVENT
BEGIN:VEVENT
DTSTART;TZID=UTC:20250224T183000
DTEND;TZID=UTC:20250224T200000
DTSTAMP:20260424T161507
CREATED:20250211T003220Z
LAST-MODIFIED:20250211T003220Z
UID:4087-1740421800-1740427200@xceptionalheroes.org
SUMMARY:Walking Club
DESCRIPTION:Are you wanting to get more movement in during these cold months\, but aren’t sure how? \nJoin us for walking club on Mondays! This is a great way to get your steps in and maybe even prepare for that Crim Race you want to participate in this year! \n  \nClick here to sign up! \n 
URL:https://xceptionalheroes.org/event/walking-club-2/
LOCATION:Courtland Center Mall
CATEGORIES:Free For All
ATTACH;FMTTYPE=image/jpeg:https://xceptionalheroes.org/wp-content/uploads/2025/02/shutterstock_788590396-scaled-1.jpg
END:VEVENT
BEGIN:VEVENT
DTSTART;TZID=UTC:20250224T180000
DTEND;TZID=UTC:20250224T193000
DTSTAMP:20260424T161507
CREATED:20250211T003412Z
LAST-MODIFIED:20250211T003412Z
UID:4089-1740420000-1740425400@xceptionalheroes.org
SUMMARY:Painting Class
DESCRIPTION:Join us in the North for an amazing painting class! \nCome by and learn the ins and outs of painting. We will be learning different techniques and styles! \nWe hope to see you all there and can’t wait to see what we create! \n  \nClick here to sign up! \n 
URL:https://xceptionalheroes.org/event/painting-class/
LOCATION:12167 N Lewis Rd Clio\, MI\, 12167 N Lewis Rd\, Clio\, Michigan\, 48420
CATEGORIES:Free For All
ATTACH;FMTTYPE=image/webp:https://xceptionalheroes.org/wp-content/uploads/2024/12/artists-brushes-paints.jpg-2.webp
END:VEVENT
BEGIN:VEVENT
DTSTART;TZID=UTC:20250221T180000
DTEND;TZID=UTC:20250221T200000
DTSTAMP:20260424T161507
CREATED:20250211T003011Z
LAST-MODIFIED:20250211T003011Z
UID:4085-1740160800-1740168000@xceptionalheroes.org
SUMMARY:Monthly Social
DESCRIPTION:Join us for our Monthly Social! \nThis is a great way to get out there and meet new friends along with hanging out with old friends! \nWe encourage everyone to join us at the soical! Theres dancing\, snacks\, and nothing but a good time! \n  \nClick here to sign up! \n  \n 
URL:https://xceptionalheroes.org/event/monthly-social-9/
LOCATION:Faith Lutheran\, 12534 Holly Road\, Grand Blanc\, MI\, 48439\, United States
CATEGORIES:Free For All
ATTACH;FMTTYPE=image/jpeg:https://xceptionalheroes.org/wp-content/uploads/2024/07/IMG_5457-scaled.jpg
END:VEVENT
BEGIN:VEVENT
DTSTART;TZID=UTC:20250220T120000
DTEND;TZID=UTC:20250220T130000
DTSTAMP:20260424T161507
CREATED:20250211T002755Z
LAST-MODIFIED:20250211T002755Z
UID:4083-1740052800-1740056400@xceptionalheroes.org
SUMMARY:Fun w/ Fitness
DESCRIPTION:We are going back to the gym for Fitness! \nThis is a great way to get your body moving and stay active during the cold months! \nTamara always has fun ideas to keep Fitness fun and interesting! \nMake sure to wear the proper shoes and to bring lots of water with you! \n  \nClick here to sign up! \n  \n 
URL:https://xceptionalheroes.org/event/fun-w-fitness-6/
LOCATION:Ascension Genesys Health Club\, 801 Health Park Blvd\, Grand Blanc\, MI\, 48439
CATEGORIES:Free For All
ATTACH;FMTTYPE=image/jpeg:https://xceptionalheroes.org/wp-content/uploads/2024/12/IMG_4229.jpg
END:VEVENT
BEGIN:VEVENT
DTSTART;TZID=UTC:20250219T180000
DTEND;TZID=UTC:20250219T193000
DTSTAMP:20260424T161507
CREATED:20250211T002605Z
LAST-MODIFIED:20250211T002605Z
UID:4081-1739988000-1739993400@xceptionalheroes.org
SUMMARY:XH North Bingo
DESCRIPTION:We have found a location to be able to offer more events in the Clio area for our Heroes that live farther North! \nCome join us for a funfilled Bingo Night! \nThis is a free event\, but you do need to bring 2.75 in quarters to play with! You may have noticed we upped the price a little but bubba wanted to create a bigger jackpot of winnings for Bingo! \nThis is a very popular event and would love to invite anyone that has not joined yet! \n  \nClick here to sign up! \n 
URL:https://xceptionalheroes.org/event/xh-north-bingo/
LOCATION:12167 N Lewis Rd Clio\, MI\, 12167 N Lewis Rd\, Clio\, Michigan\, 48420
CATEGORIES:Ticket or Entry Costs
ATTACH;FMTTYPE=image/jpeg:https://xceptionalheroes.org/wp-content/uploads/2024/11/IMG_8271-scaled.jpeg
END:VEVENT
BEGIN:VEVENT
DTSTART;TZID=UTC:20250219T140000
DTEND;TZID=UTC:20250219T144500
DTSTAMP:20260424T161507
CREATED:20250211T002329Z
LAST-MODIFIED:20250211T002329Z
UID:4078-1739973600-1739976300@xceptionalheroes.org
SUMMARY:FIM Music Therapy
DESCRIPTION:Join us for some Music Therapy fun! \nFlint Institute of Music is welcoming us for a 45 minute class to teach us about about different instruments\, music generes\, and how to use different music instruments. \nThis is an amazing opportunity and has gone to show that music can be therapeutic or most! \n  \nClick here to sign up! \n  \n 
URL:https://xceptionalheroes.org/event/fim-music-therapy-3/
LOCATION:Flint Institute of Music
CATEGORIES:Free For All
ATTACH;FMTTYPE=image/jpeg:https://xceptionalheroes.org/wp-content/uploads/2024/11/IMG_7224-scaled.jpg
END:VEVENT
BEGIN:VEVENT
DTSTART;TZID=UTC:20250218T183000
DTEND;TZID=UTC:20250218T193000
DTSTAMP:20260424T161507
CREATED:20250211T002117Z
LAST-MODIFIED:20250211T002117Z
UID:4076-1739903400-1739907000@xceptionalheroes.org
SUMMARY:Fun w/ Fitness in the North
DESCRIPTION:We are so exctied to be able to offer Fintess in the North! \nThere is no cost to this event and all we ask is that you bring proper shoes and plenty of water with you! \nOur Heroes love the Fitness Classes and this is a great way to meet new people while learning a little bit about staying active! \n  \nClick here to sign up! \n 
URL:https://xceptionalheroes.org/event/fun-w-fitness-in-the-north/
LOCATION:12167 N Lewis Rd Clio\, MI\, 12167 N Lewis Rd\, Clio\, Michigan\, 48420
CATEGORIES:Free For All
ATTACH;FMTTYPE=image/jpeg:https://xceptionalheroes.org/wp-content/uploads/2024/12/IMG_4229.jpg
END:VEVENT
BEGIN:VEVENT
DTSTART;TZID=UTC:20250217T120000
DTEND;TZID=UTC:20250217T140000
DTSTAMP:20260424T161507
CREATED:20250211T001912Z
LAST-MODIFIED:20250211T001912Z
UID:4072-1739793600-1739800800@xceptionalheroes.org
SUMMARY:Walking Club
DESCRIPTION:Are you wanting to get more movement in during these cold months\, but aren’t sure how? \nJoin us for walking club on Mondays! This is a great way to get your steps in and maybe even prepare for that Crim Race you want to participate in this year! \n  \nClick here to sign up! \n 
URL:https://xceptionalheroes.org/event/walking-club/
LOCATION:Courtland Center Mall
CATEGORIES:Free For All
ATTACH;FMTTYPE=image/jpeg:https://xceptionalheroes.org/wp-content/uploads/2025/02/shutterstock_788590396-scaled-1.jpg
END:VEVENT
BEGIN:VEVENT
DTSTART;TZID=UTC:20250214T180000
DTEND;TZID=UTC:20250214T200000
DTSTAMP:20260424T161507
CREATED:20250211T001600Z
LAST-MODIFIED:20250211T001600Z
UID:4070-1739556000-1739563200@xceptionalheroes.org
SUMMARY:Bowling Night
DESCRIPTION:Join us for a “Rolling good time” at Grand Blanc Lanes for Bowling Night with Bubba! \nThe two hour session will be $10 and we welcome parents and caregivers to join in if they please as well! \nPlease make sure to sign up if you would like to bowl so that we have enough lanes reserved. \n  \n  \nClick here to sign up! \n  \n 
URL:https://xceptionalheroes.org/event/bowling-night-9/
LOCATION:Grand Blanc Lanes\, 5301 S. Saginaw St\, Grand Blanc\, MI\, 48439\, United States
CATEGORIES:Ticket or Entry Costs
ATTACH;FMTTYPE=image/jpeg:https://xceptionalheroes.org/wp-content/uploads/2024/03/PHOTO-2024-02-03-09-16-05.jpg
END:VEVENT
BEGIN:VEVENT
DTSTART;TZID=UTC:20250213T120000
DTEND;TZID=UTC:20250213T130000
DTSTAMP:20260424T161507
CREATED:20250211T001356Z
LAST-MODIFIED:20250211T001356Z
UID:4068-1739448000-1739451600@xceptionalheroes.org
SUMMARY:Fun w/ Fitness
DESCRIPTION:We are going back to the gym for Fitness! \nThis is a great way to get your body moving and stay active during the cold months! \nTamara always has fun ideas to keep Fitness fun and interesting! \nMake sure to wear the proper shoes and to bring lots of water with you! \n  \nClick here to sign up! \n  \n 
URL:https://xceptionalheroes.org/event/fun-w-fitness-5/
LOCATION:Ascension Genesys Health Club\, 801 Health Park Blvd\, Grand Blanc\, MI\, 48439
CATEGORIES:Free For All
ATTACH;FMTTYPE=image/jpeg:https://xceptionalheroes.org/wp-content/uploads/2024/12/IMG_4229.jpg
END:VEVENT
BEGIN:VEVENT
DTSTART;TZID=UTC:20250212T180000
DTEND;TZID=UTC:20250212T200000
DTSTAMP:20260424T161507
CREATED:20250211T001157Z
LAST-MODIFIED:20250211T001157Z
UID:4066-1739383200-1739390400@xceptionalheroes.org
SUMMARY:Craft Night
DESCRIPTION:Come join Robin for a fun and creative Craft Night! \nThis event is free thanks to our amazing donations that go towards every craft every Month! \nRobin keeps it interesting by choosing a different craft to do with the Heroes each month! \n  \nClick here to sign up! \n  \n 
URL:https://xceptionalheroes.org/event/craft-night-10/
LOCATION:Richfield Road Church\, 6259 Richfield Rd\, Flint\, 48506
CATEGORIES:Free For All
ATTACH;FMTTYPE=image/jpeg:https://xceptionalheroes.org/wp-content/uploads/2024/04/IMG_3111.jpg
END:VEVENT
BEGIN:VEVENT
DTSTART;TZID=UTC:20250212T164500
DTEND;TZID=UTC:20250212T220000
DTSTAMP:20260424T161507
CREATED:20250211T000940Z
LAST-MODIFIED:20250211T000940Z
UID:4064-1739378700-1739397600@xceptionalheroes.org
SUMMARY:Powers Hockey Game
DESCRIPTION:We have an amazing opportunity for our Heroes to enjoy a Hockey game\, meet the players of the Powers hockey team\, and have an opportunity to see the locker room! \nWe will have a hard cap on this event so please only sign up if you plan to attend and we ask that only one caregiver sign up per Hero for right now. \nWe will meet in the lobby at 4:45pm and meet the players at 5pm. The game will begin at 6pm! \nOur wonderful Powers volunteers will be the ones heading up this amazing opportunity. \n  \nClick here to sign up! \n 
URL:https://xceptionalheroes.org/event/powers-hockey-game/
LOCATION:Flint Iceland Arena\, 1160 Elms Rd\, Flint\, MI\, 48532\, United States
END:VEVENT
BEGIN:VEVENT
DTSTART;TZID=UTC:20250211T180000
DTEND;TZID=UTC:20250211T183000
DTSTAMP:20260424T161507
CREATED:20250210T232858Z
LAST-MODIFIED:20250210T232858Z
UID:4061-1739296800-1739298600@xceptionalheroes.org
SUMMARY:XH North Drumming Class
DESCRIPTION:Join us for an amazing opportunity to learn to play the drums! \nWe are offering a class for our Heroes to learn the ins and outs of drumming and to be able to put their musical talent to the test! \nWe will learn the history of the instruments and the techniques to making beautiful music with them! \n  \nClick here to sign up! \n 
URL:https://xceptionalheroes.org/event/xh-north-drumming-class/
LOCATION:12167 N Lewis Rd Clio\, MI\, 12167 N Lewis Rd\, Clio\, Michigan\, 48420
CATEGORIES:Free For All
ATTACH;FMTTYPE=image/jpeg:https://xceptionalheroes.org/wp-content/uploads/2025/02/group-drums.jpg
END:VEVENT
BEGIN:VEVENT
DTSTART;TZID=UTC:20250130T180000
DTEND;TZID=UTC:20250130T200000
DTSTAMP:20260424T161507
CREATED:20241231T003126Z
LAST-MODIFIED:20241231T003126Z
UID:4048-1738260000-1738267200@xceptionalheroes.org
SUMMARY:XH North Painting Class
DESCRIPTION:Join us in the North for an amazing painting class! \nCome by and learn the ins and outs of painting. We will be learning different techniques and styles! \nWe hope to see you all there and can’t wait to see what we create! \n  \nClick here to sign up! \n  \n 
URL:https://xceptionalheroes.org/event/xh-north-painting-class/
LOCATION:12167 N Lewis Rd Clio\, MI\, 12167 N Lewis Rd\, Clio\, Michigan\, 48420
CATEGORIES:Free For All
ATTACH;FMTTYPE=image/webp:https://xceptionalheroes.org/wp-content/uploads/2024/12/artists-brushes-paints.jpg-2.webp
END:VEVENT
BEGIN:VEVENT
DTSTART;TZID=UTC:20250130T120000
DTEND;TZID=UTC:20250130T130000
DTSTAMP:20260424T161507
CREATED:20241231T000251Z
LAST-MODIFIED:20241231T000251Z
UID:4030-1738238400-1738242000@xceptionalheroes.org
SUMMARY:Fun w/ Fitness
DESCRIPTION:We are going back to the gym for Fitness! \nThis is a great way to get your body moving and stay active during the cold months! \nTamara always has fun ideas to keep Fitness fun and interesting! \nMake sure to wear the proper shoes and to bring lots of water with you! \n  \nClick here to sign up! \n 
URL:https://xceptionalheroes.org/event/fun-w-fitness-4/
LOCATION:Ascension Genesys Health Club\, 801 Health Park Blvd\, Grand Blanc\, MI\, 48439
CATEGORIES:Free For All
ATTACH;FMTTYPE=image/jpeg:https://xceptionalheroes.org/wp-content/uploads/2024/03/IMG_3059-1-scaled.jpeg
END:VEVENT
BEGIN:VEVENT
DTSTART;TZID=UTC:20250129T180000
DTEND;TZID=UTC:20250129T193000
DTSTAMP:20260424T161507
CREATED:20241231T000628Z
LAST-MODIFIED:20241231T000628Z
UID:4032-1738173600-1738179000@xceptionalheroes.org
SUMMARY:Game Night
DESCRIPTION:Join us for Game Night! \nWe encourage you to bring your favorite board game and share it with us! \nWe will be playing board games and teaching each-other how to play our favorite games! \n  \nClick here to sign up! \n 
URL:https://xceptionalheroes.org/event/game-night/
LOCATION:Richfield Road Church\, 6259 Richfield Rd\, Flint\, 48506
CATEGORIES:Free For All
ATTACH;FMTTYPE=image/png:https://xceptionalheroes.org/wp-content/uploads/2024/12/Game-Night-Event-Image.png
END:VEVENT
BEGIN:VEVENT
DTSTART;TZID=UTC:20250127T180000
DTEND;TZID=UTC:20250127T200000
DTSTAMP:20260424T161507
CREATED:20241231T001716Z
LAST-MODIFIED:20241231T001716Z
UID:4041-1738000800-1738008000@xceptionalheroes.org
SUMMARY:XH North Craft Night
DESCRIPTION:Are you looking for something crafty to do\, but can’t make our normal location? \nWe have just the thing for you! XH North Craft Night in Clio! \nRobin will be putting together amazing craft activities for you to join us at the Lacure Community Center for! \n  \nClick here to sign up! \n 
URL:https://xceptionalheroes.org/event/xh-north-craft-night-4/
LOCATION:12167 N Lewis Rd Clio\, MI\, 12167 N Lewis Rd\, Clio\, Michigan\, 48420
CATEGORIES:Free For All
ATTACH;FMTTYPE=image/jpeg:https://xceptionalheroes.org/wp-content/uploads/2024/10/IMG_8119-scaled.jpeg
END:VEVENT
BEGIN:VEVENT
DTSTART;TZID=UTC:20250123T120000
DTEND;TZID=UTC:20250123T130000
DTSTAMP:20260424T161507
CREATED:20241230T235907Z
LAST-MODIFIED:20241230T235907Z
UID:4028-1737633600-1737637200@xceptionalheroes.org
SUMMARY:Fun w/ Fitness
DESCRIPTION:We are going back to the gym for Fitness this month! \nThis is a great way to get your body moving and stay active during the cold months! \nTamara always has fun ideas to keep Fitness fun and interesting! \nMake sure to wear the proper shoes and to bring lots of water with you! \n  \nClick here to sign up! \n  \n 
URL:https://xceptionalheroes.org/event/fun-w-fitness-3/
LOCATION:Ascension Genesys Health Club\, 801 Health Park Blvd\, Grand Blanc\, MI\, 48439
CATEGORIES:Free For All
ATTACH;FMTTYPE=image/jpeg:https://xceptionalheroes.org/wp-content/uploads/2024/04/IMG_3059-scaled.jpeg
END:VEVENT
BEGIN:VEVENT
DTSTART;TZID=UTC:20250122T180000
DTEND;TZID=UTC:20250122T193000
DTSTAMP:20260424T161507
CREATED:20241231T001509Z
LAST-MODIFIED:20241231T001509Z
UID:4039-1737568800-1737574200@xceptionalheroes.org
SUMMARY:XH North Bingo Night
DESCRIPTION:We have found a location to be able to offer more events in the Clio area for our Heroes that live farther North! \nCome join us for a funfilled Bingo Night! \nThis is a free event\, but you do need to bring 2.75 in quarters to play with! You may have noticed we upped the price a little but bubba wanted to create a bigger jackpot of winnings for Bingo! \nThis is a very popular event and would love to invite anyone that has not joined yet! \n  \nClick here to sign up! \n 
URL:https://xceptionalheroes.org/event/xh-north-bingo-night-4/
LOCATION:12167 N Lewis Rd Clio\, MI\, 12167 N Lewis Rd\, Clio\, Michigan\, 48420
CATEGORIES:Ticket or Entry Costs
ATTACH;FMTTYPE=image/jpeg:https://xceptionalheroes.org/wp-content/uploads/2024/11/IMG_8271-scaled.jpeg
END:VEVENT
BEGIN:VEVENT
DTSTART;TZID=UTC:20250122T140000
DTEND;TZID=UTC:20250122T160000
DTSTAMP:20260424T161507
CREATED:20241230T234031Z
LAST-MODIFIED:20241230T234031Z
UID:4018-1737554400-1737561600@xceptionalheroes.org
SUMMARY:FIA Event
DESCRIPTION:Join us for an amazing opportunity at The Flint Institute of Arts! \nWe have been invited back to learn about the culture of art and learn a little bit about the background of some pieces. \nWe may even get to create some art of our own! \n  \nClick here to sign up! \n  \n 
URL:https://xceptionalheroes.org/event/fia-event/
LOCATION:Flint Institute of Arts
CATEGORIES:Ticket or Entry Costs
ATTACH;FMTTYPE=image/jpeg:https://xceptionalheroes.org/wp-content/uploads/2024/11/IMG_5607-scaled.jpg
END:VEVENT
BEGIN:VEVENT
DTSTART;TZID=UTC:20250121T183000
DTEND;TZID=UTC:20250121T193000
DTSTAMP:20260424T161507
CREATED:20241231T002721Z
LAST-MODIFIED:20241231T002721Z
UID:4045-1737484200-1737487800@xceptionalheroes.org
SUMMARY:XH North Fun w/ Fitness
DESCRIPTION:We are so exctied to be able to offer Fintess in the North! \nThere is no cost to this event and all we ask is that you bring proper shoes and plenty of water with you! \nOur Heroes love the Fitness Classes and this is a great way to meet new people while learning a little bit about staying active! \n  \nClick here to sign up! \n 
URL:https://xceptionalheroes.org/event/xh-north-fun-w-fitness-2/
LOCATION:12167 N Lewis Rd Clio\, MI\, 12167 N Lewis Rd\, Clio\, Michigan\, 48420
CATEGORIES:Free For All
ATTACH;FMTTYPE=image/jpeg:https://xceptionalheroes.org/wp-content/uploads/2024/12/IMG_4229.jpg
END:VEVENT
BEGIN:VEVENT
DTSTART;TZID=UTC:20250119T110000
DTEND;TZID=UTC:20250119T150000
DTSTAMP:20260424T161507
CREATED:20241231T000959Z
LAST-MODIFIED:20241231T000959Z
UID:4035-1737284400-1737298800@xceptionalheroes.org
SUMMARY:Lunch and a Movie
DESCRIPTION:Join us for lunch and a movie! \nCome join your friends at lunch and watching a new film! \nThe Heroes will be responsible for their lunch and movie ticket and the movie will be determined closer to the 19th! \n  \nClick here to sign up! \n 
URL:https://xceptionalheroes.org/event/lunch-and-a-movie/
LOCATION:NCG Triullium\, 8220 Trillium Circle Ave\, Grand Blanc\, MI\, 48439\, United States
CATEGORIES:Ticket or Entry Costs
ATTACH;FMTTYPE=image/jpeg:https://xceptionalheroes.org/wp-content/uploads/2023/11/dinner.jpg
END:VEVENT
BEGIN:VEVENT
DTSTART;TZID=UTC:20250117T180000
DTEND;TZID=UTC:20250117T200000
DTSTAMP:20260424T161507
CREATED:20241230T233549Z
LAST-MODIFIED:20241230T233549Z
UID:4014-1737136800-1737144000@xceptionalheroes.org
SUMMARY:Bowling Night
DESCRIPTION:Join us for a “Rolling good time” at Grand Blanc Lanes for Bowling Night with Bubba! \nEach game will be $10 and we welcome parents and caregivers to join in if they please as well! \nPlease make sure to sign up if you would like to bowl so that we have enough lanes reserved. \n  \n  \nClick here to sign up! \n  \n 
URL:https://xceptionalheroes.org/event/bowling-night-8/
LOCATION:Grand Blanc Lanes\, 5301 S. Saginaw St\, Grand Blanc\, MI\, 48439\, United States
CATEGORIES:Ticket or Entry Costs
ATTACH;FMTTYPE=image/jpeg:https://xceptionalheroes.org/wp-content/uploads/2024/03/PHOTO-2024-02-03-09-16-02-2.jpg
END:VEVENT
BEGIN:VEVENT
DTSTART;TZID=UTC:20250117T140000
DTEND;TZID=UTC:20250117T144500
DTSTAMP:20260424T161507
CREATED:20241230T234401Z
LAST-MODIFIED:20241230T234401Z
UID:4020-1737122400-1737125100@xceptionalheroes.org
SUMMARY:FIM Music Therapy
DESCRIPTION:Join us for some Music Therapy fun! \nFlint Institute of Music is welcoming us for a 45 minute class to teach us about about different instruments\, music generes\, and how to use different music instruments. \nThis is an amazing opportunity and has gone to show that music can be therapeutic or most! \n  \nClick here to sign up! \n 
URL:https://xceptionalheroes.org/event/fim-music-therapy-2/
LOCATION:FIM
CATEGORIES:Free For All
ATTACH;FMTTYPE=image/jpeg:https://xceptionalheroes.org/wp-content/uploads/2024/11/IMG_7211-scaled.jpg
END:VEVENT
END:VCALENDAR