BEGIN:VCALENDAR
VERSION:2.0
PRODID:-//Xceptional Heroes - ECPv6.15.20//NONSGML v1.0//EN
CALSCALE:GREGORIAN
METHOD:PUBLISH
X-ORIGINAL-URL:https://xceptionalheroes.org
X-WR-CALDESC:Events for Xceptional Heroes
REFRESH-INTERVAL;VALUE=DURATION:PT1H
X-Robots-Tag:noindex
X-PUBLISHED-TTL:PT1H
BEGIN:VTIMEZONE
TZID:UTC
BEGIN:STANDARD
TZOFFSETFROM:+0000
TZOFFSETTO:+0000
TZNAME:UTC
DTSTART:20230101T000000
END:STANDARD
END:VTIMEZONE
BEGIN:VEVENT
DTSTART;TZID=UTC:20250623T150000
DTEND;TZID=UTC:20250623T170000
DTSTAMP:20260423T211841
CREATED:20250529T223940Z
LAST-MODIFIED:20250529T223940Z
UID:4393-1750690800-1750698000@xceptionalheroes.org
SUMMARY:Swimming
DESCRIPTION:Join us at the new Aquatics Center at Grand Blanc High school for swimming fun!\n\nWe are all looking for ways to enjoy summer and to keep active and swimming class can help!\n\nThis event has a strict cap on the number of participants and is a closed event meaning that you need to sign up in order to attend.\n\nThis is because XH needs to pay for passes before the event starts. So please only sign up if you plan on attending!\n\nClick here to sign up!
URL:https://xceptionalheroes.org/event/swimming-2/
LOCATION:Grand Blanc HS East Campus\, 12500 Holly Rd\, Grand Blanc\, MI\, 48439
CATEGORIES:Ticket or Entry Costs
ATTACH;FMTTYPE=image/jpeg:https://xceptionalheroes.org/wp-content/uploads/2024/08/IMG_3559.jpg
END:VEVENT
BEGIN:VEVENT
DTSTART;TZID=UTC:20250618T180000
DTEND;TZID=UTC:20250618T193000
DTSTAMP:20260423T211841
CREATED:20250529T223508Z
LAST-MODIFIED:20250529T223508Z
UID:4388-1750269600-1750275000@xceptionalheroes.org
SUMMARY:XH North Bingo
DESCRIPTION:Come join us for a funfilled Bingo Night with Bubba!\n\nThis is a very popular event and always has everyone leaving with a smile on their face!\n\nMake sure to bring 2.75 in quarters with you to play with as Bubba has a fun progressive jackpot going.\n\nClick here to sign up!
URL:https://xceptionalheroes.org/event/xh-north-bingo-2/
LOCATION:12167 N Lewis Rd Clio\, MI\, 12167 N Lewis Rd\, Clio\, Michigan\, 48420
CATEGORIES:Ticket or Entry Costs
ATTACH;FMTTYPE=image/jpeg:https://xceptionalheroes.org/wp-content/uploads/2025/03/IMG_4344.jpg
END:VEVENT
BEGIN:VEVENT
DTSTART;TZID=UTC:20250616T150000
DTEND;TZID=UTC:20250616T170000
DTSTAMP:20260423T211841
CREATED:20250529T222757Z
LAST-MODIFIED:20250529T222757Z
UID:4381-1750086000-1750093200@xceptionalheroes.org
SUMMARY:Swimming
DESCRIPTION:Join us at the new Aquatics Center at Grand Blanc High school for swimming fun!\n\nWe are all looking for ways to enjoy summer and to keep active and swimming class can help!\n\nThis event has a strict cap on the number of participants and is a closed event meaning that you need to sign up in order to attend.\n\nThis is a sign up only event because XH needs to pay for passes before the event starts. So please only sign up if you plan on attending!\n\nClick here to sign up!
URL:https://xceptionalheroes.org/event/swimming/
LOCATION:Grand Blanc HS East Campus\, 12500 Holly Rd\, Grand Blanc\, MI\, 48439
CATEGORIES:Ticket or Entry Costs
ATTACH;FMTTYPE=image/jpeg:https://xceptionalheroes.org/wp-content/uploads/2024/08/IMG_3559.jpg
END:VEVENT
BEGIN:VEVENT
DTSTART;TZID=UTC:20250525T110000
DTEND;TZID=UTC:20250525T170000
DTSTAMP:20260423T211841
CREATED:20250506T232009Z
LAST-MODIFIED:20250506T232009Z
UID:4237-1748170800-1748192400@xceptionalheroes.org
SUMMARY:Lunch and Movie
DESCRIPTION:Join us for a little sunday Movie and lunch outing!\n\nWe will be meeting at Buffalo Wild Wings for lunch and heading right over to the theatre afterwards to catch our movie!\n\nWe wil be seeing Lilo and Stich and the time will be determined soon!\n\nClick here to sign up!
URL:https://xceptionalheroes.org/event/lunch-and-movie-4/
LOCATION:NCG Triullium\, 8220 Trillium Circle Ave\, Grand Blanc\, MI\, 48439\, United States
CATEGORIES:Ticket or Entry Costs
ATTACH;FMTTYPE=image/jpeg:https://xceptionalheroes.org/wp-content/uploads/2023/11/dinner.jpg
END:VEVENT
BEGIN:VEVENT
DTSTART;TZID=UTC:20250521T180000
DTEND;TZID=UTC:20250521T193000
DTSTAMP:20260423T211841
CREATED:20250506T231304Z
LAST-MODIFIED:20250506T231304Z
UID:4231-1747850400-1747855800@xceptionalheroes.org
SUMMARY:Bingo Night
DESCRIPTION:Come join us for a funfilled Bingo Night with Bubba!\n\nThis is a very popular event and always has everyone leaving with a smile on their face!\n\nMake sure to bring 2.75 in quarters with you to play with as Bubba has a fun progressive jackpot going!\n\nClick here to sign up!
URL:https://xceptionalheroes.org/event/bingo-night-20/
LOCATION:Richfield Road Church\, 6259 Richfield Rd\, Flint\, 48506
CATEGORIES:Ticket or Entry Costs
ATTACH;FMTTYPE=image/jpeg:https://xceptionalheroes.org/wp-content/uploads/2024/04/IMG_3058.jpg
END:VEVENT
BEGIN:VEVENT
DTSTART;TZID=UTC:20250427T110000
DTEND;TZID=UTC:20250427T140000
DTSTAMP:20260423T211841
CREATED:20250330T225251Z
LAST-MODIFIED:20250330T225251Z
UID:4134-1745751600-1745762400@xceptionalheroes.org
SUMMARY:Lunch and Movie
DESCRIPTION:Join us for lunch and a movie!\n\nWe will meet at Buffalo Wild Wings in Grand Blanc for lunch and then head over to theatre from there for the movie that will be determined closer to the date!\n\nWe will also be doing an XH Fundraiser at Buffalo Wild Wings this day as well! We will have a flyer soon to hand out and send to you all to be able to present when you pay your bill to make sure a percentage of the bill goes to XH!\n\nClick here to sign up!
URL:https://xceptionalheroes.org/event/lunch-and-movie-3/
LOCATION:NCG Triullium\, 8220 Trillium Circle Ave\, Grand Blanc\, MI\, 48439\, United States
CATEGORIES:Ticket or Entry Costs
ATTACH;FMTTYPE=image/jpeg:https://xceptionalheroes.org/wp-content/uploads/2023/11/dinner.jpg
END:VEVENT
BEGIN:VEVENT
DTSTART;TZID=UTC:20250423T180000
DTEND;TZID=UTC:20250423T193000
DTSTAMP:20260423T211841
CREATED:20250330T224104Z
LAST-MODIFIED:20250330T224104Z
UID:4124-1745431200-1745436600@xceptionalheroes.org
SUMMARY:Bingo Night
DESCRIPTION:Come join us for a funfilled Bingo Night with Bubba!\n\nThis is a very popular event and always has everyone leaving with a smile on their face!\n\nMake sure to bring 2.75 in quarters with you to play with as Bubba has a fun progressive jackpot going!\n\nClick here to sign up!
URL:https://xceptionalheroes.org/event/bingo-night-19/
LOCATION:Richfield Road Church\, 6259 Richfield Rd\, Flint\, 48506
CATEGORIES:Ticket or Entry Costs
ATTACH;FMTTYPE=image/jpeg:https://xceptionalheroes.org/wp-content/uploads/2024/04/IMG_3063.jpg
END:VEVENT
BEGIN:VEVENT
DTSTART;TZID=UTC:20250416T180000
DTEND;TZID=UTC:20250416T193000
DTSTAMP:20260423T211841
CREATED:20250330T223411Z
LAST-MODIFIED:20250330T223411Z
UID:4117-1744826400-1744831800@xceptionalheroes.org
SUMMARY:XH North Bingo Night
DESCRIPTION:Come join us for a funfilled Bingo Night with Bubba!\n\nThis is a very popular event and always has everyone leaving with a smile on their face!\n\nMake sure to bring 2.75 in quarters with you to play with as Bubba has a fun progressive jackpot going!\n\nClick here to sign up!
URL:https://xceptionalheroes.org/event/xh-north-bingo-night-5/
LOCATION:12167 N Lewis Rd Clio\, MI\, 12167 N Lewis Rd\, Clio\, Michigan\, 48420
CATEGORIES:Ticket or Entry Costs
ATTACH;FMTTYPE=image/jpeg:https://xceptionalheroes.org/wp-content/uploads/2025/03/IMG_4344.jpg
END:VEVENT
BEGIN:VEVENT
DTSTART;TZID=UTC:20250411T180000
DTEND;TZID=UTC:20250411T200000
DTSTAMP:20260423T211841
CREATED:20250330T222814Z
LAST-MODIFIED:20250330T222814Z
UID:4112-1744394400-1744401600@xceptionalheroes.org
SUMMARY:Bowling Night
DESCRIPTION:Join us for a “Rolling good time” at Grand Blanc Lanes for Bowling Night with Bubba!\n\nThe 2 hour session will be $10 and we welcome parents and caregivers to join in if they please as well!\n\nPlease make sure to sign up if you would like to bowl so that we have enough lanes reserved.\n\nClick here to sign up!
URL:https://xceptionalheroes.org/event/bowling-night-10/
LOCATION:Grand Blanc Lanes\, 5301 S. Saginaw St\, Grand Blanc\, MI\, 48439\, United States
CATEGORIES:Ticket or Entry Costs
ATTACH;FMTTYPE=image/jpeg:https://xceptionalheroes.org/wp-content/uploads/2024/03/PHOTO-2024-02-03-09-16-02-2.jpg
END:VEVENT
BEGIN:VEVENT
DTSTART;TZID=UTC:20250219T180000
DTEND;TZID=UTC:20250219T193000
DTSTAMP:20260423T211841
CREATED:20250211T002605Z
LAST-MODIFIED:20250211T002605Z
UID:4081-1739988000-1739993400@xceptionalheroes.org
SUMMARY:XH North Bingo
DESCRIPTION:We have found a location to be able to offer more events in the Clio area for our Heroes that live farther North! \nCome join us for a funfilled Bingo Night! \nThis is a free event\, but you do need to bring 2.75 in quarters to play with! You may have noticed we upped the price a little but bubba wanted to create a bigger jackpot of winnings for Bingo! \nThis is a very popular event and would love to invite anyone that has not joined yet! \n  \nClick here to sign up! \n 
URL:https://xceptionalheroes.org/event/xh-north-bingo/
LOCATION:12167 N Lewis Rd Clio\, MI\, 12167 N Lewis Rd\, Clio\, Michigan\, 48420
CATEGORIES:Ticket or Entry Costs
ATTACH;FMTTYPE=image/jpeg:https://xceptionalheroes.org/wp-content/uploads/2024/11/IMG_8271-scaled.jpeg
END:VEVENT
BEGIN:VEVENT
DTSTART;TZID=UTC:20250214T180000
DTEND;TZID=UTC:20250214T200000
DTSTAMP:20260423T211841
CREATED:20250211T001600Z
LAST-MODIFIED:20250211T001600Z
UID:4070-1739556000-1739563200@xceptionalheroes.org
SUMMARY:Bowling Night
DESCRIPTION:Join us for a “Rolling good time” at Grand Blanc Lanes for Bowling Night with Bubba! \nThe two hour session will be $10 and we welcome parents and caregivers to join in if they please as well! \nPlease make sure to sign up if you would like to bowl so that we have enough lanes reserved. \n  \n  \nClick here to sign up! \n  \n 
URL:https://xceptionalheroes.org/event/bowling-night-9/
LOCATION:Grand Blanc Lanes\, 5301 S. Saginaw St\, Grand Blanc\, MI\, 48439\, United States
CATEGORIES:Ticket or Entry Costs
ATTACH;FMTTYPE=image/jpeg:https://xceptionalheroes.org/wp-content/uploads/2024/03/PHOTO-2024-02-03-09-16-05.jpg
END:VEVENT
BEGIN:VEVENT
DTSTART;TZID=UTC:20250122T180000
DTEND;TZID=UTC:20250122T193000
DTSTAMP:20260423T211841
CREATED:20241231T001509Z
LAST-MODIFIED:20241231T001509Z
UID:4039-1737568800-1737574200@xceptionalheroes.org
SUMMARY:XH North Bingo Night
DESCRIPTION:We have found a location to be able to offer more events in the Clio area for our Heroes that live farther North! \nCome join us for a funfilled Bingo Night! \nThis is a free event\, but you do need to bring 2.75 in quarters to play with! You may have noticed we upped the price a little but bubba wanted to create a bigger jackpot of winnings for Bingo! \nThis is a very popular event and would love to invite anyone that has not joined yet! \n  \nClick here to sign up! \n 
URL:https://xceptionalheroes.org/event/xh-north-bingo-night-4/
LOCATION:12167 N Lewis Rd Clio\, MI\, 12167 N Lewis Rd\, Clio\, Michigan\, 48420
CATEGORIES:Ticket or Entry Costs
ATTACH;FMTTYPE=image/jpeg:https://xceptionalheroes.org/wp-content/uploads/2024/11/IMG_8271-scaled.jpeg
END:VEVENT
BEGIN:VEVENT
DTSTART;TZID=UTC:20250122T140000
DTEND;TZID=UTC:20250122T160000
DTSTAMP:20260423T211841
CREATED:20241230T234031Z
LAST-MODIFIED:20241230T234031Z
UID:4018-1737554400-1737561600@xceptionalheroes.org
SUMMARY:FIA Event
DESCRIPTION:Join us for an amazing opportunity at The Flint Institute of Arts! \nWe have been invited back to learn about the culture of art and learn a little bit about the background of some pieces. \nWe may even get to create some art of our own! \n  \nClick here to sign up! \n  \n 
URL:https://xceptionalheroes.org/event/fia-event/
LOCATION:Flint Institute of Arts
CATEGORIES:Ticket or Entry Costs
ATTACH;FMTTYPE=image/jpeg:https://xceptionalheroes.org/wp-content/uploads/2024/11/IMG_5607-scaled.jpg
END:VEVENT
BEGIN:VEVENT
DTSTART;TZID=UTC:20250119T110000
DTEND;TZID=UTC:20250119T150000
DTSTAMP:20260423T211841
CREATED:20241231T000959Z
LAST-MODIFIED:20241231T000959Z
UID:4035-1737284400-1737298800@xceptionalheroes.org
SUMMARY:Lunch and a Movie
DESCRIPTION:Join us for lunch and a movie! \nCome join your friends at lunch and watching a new film! \nThe Heroes will be responsible for their lunch and movie ticket and the movie will be determined closer to the 19th! \n  \nClick here to sign up! \n 
URL:https://xceptionalheroes.org/event/lunch-and-a-movie/
LOCATION:NCG Triullium\, 8220 Trillium Circle Ave\, Grand Blanc\, MI\, 48439\, United States
CATEGORIES:Ticket or Entry Costs
ATTACH;FMTTYPE=image/jpeg:https://xceptionalheroes.org/wp-content/uploads/2023/11/dinner.jpg
END:VEVENT
BEGIN:VEVENT
DTSTART;TZID=UTC:20250117T180000
DTEND;TZID=UTC:20250117T200000
DTSTAMP:20260423T211841
CREATED:20241230T233549Z
LAST-MODIFIED:20241230T233549Z
UID:4014-1737136800-1737144000@xceptionalheroes.org
SUMMARY:Bowling Night
DESCRIPTION:Join us for a “Rolling good time” at Grand Blanc Lanes for Bowling Night with Bubba! \nEach game will be $10 and we welcome parents and caregivers to join in if they please as well! \nPlease make sure to sign up if you would like to bowl so that we have enough lanes reserved. \n  \n  \nClick here to sign up! \n  \n 
URL:https://xceptionalheroes.org/event/bowling-night-8/
LOCATION:Grand Blanc Lanes\, 5301 S. Saginaw St\, Grand Blanc\, MI\, 48439\, United States
CATEGORIES:Ticket or Entry Costs
ATTACH;FMTTYPE=image/jpeg:https://xceptionalheroes.org/wp-content/uploads/2024/03/PHOTO-2024-02-03-09-16-02-2.jpg
END:VEVENT
BEGIN:VEVENT
DTSTART;TZID=UTC:20250108T180000
DTEND;TZID=UTC:20250108T193000
DTSTAMP:20260423T211841
CREATED:20241230T233206Z
LAST-MODIFIED:20241230T233206Z
UID:4012-1736359200-1736364600@xceptionalheroes.org
SUMMARY:Bingo Night
DESCRIPTION:Come join us for a funfilled Bingo Night with Bubba! \nThis is a very popular event and always has everyone leaving with a smile on their face! \nMake sure to bring 2.75 in quarters with you to play with as Bubba has a fun progressive jackpot going! \n  \nClick here to sign up! \n 
URL:https://xceptionalheroes.org/event/bingo-night-18/
LOCATION:Richfield Road Church\, 6259 Richfield Rd\, Flint\, 48506
CATEGORIES:Ticket or Entry Costs
ATTACH;FMTTYPE=image/jpeg:https://xceptionalheroes.org/wp-content/uploads/2024/04/IMG_3066.jpg
END:VEVENT
BEGIN:VEVENT
DTSTART;TZID=UTC:20250103T180000
DTEND;TZID=UTC:20250103T210000
DTSTAMP:20260423T211841
CREATED:20241230T234551Z
LAST-MODIFIED:20241230T234551Z
UID:4022-1735927200-1735938000@xceptionalheroes.org
SUMMARY:Flint Firebirds Game
DESCRIPTION:Are you ready for another Flint Firebirds game!? \nWe would like everyone to meet in the lobby at 6pm so that we can get our seats together\, instead of risking being scattered through out the stadium. \nFor this game they ask that we bring 5 nonperishable items to help give back to the community! \nThese games are always a hit and such a blast! The game officially starts at 7pm! \n  \nClick here to sign up! \n 
URL:https://xceptionalheroes.org/event/flint-firebirds-game/
LOCATION:Dort Financial Center\, 3501 Lapeer Rd.\, Flint\, MI\, 48503
CATEGORIES:Ticket or Entry Costs
ATTACH;FMTTYPE=image/jpeg:https://xceptionalheroes.org/wp-content/uploads/2024/11/1802_Firebirds.jpg
END:VEVENT
BEGIN:VEVENT
DTSTART;TZID=UTC:20241220T180000
DTEND;TZID=UTC:20241220T200000
DTSTAMP:20260423T211841
CREATED:20241130T003153Z
LAST-MODIFIED:20241130T003153Z
UID:4004-1734717600-1734724800@xceptionalheroes.org
SUMMARY:Bowling Night
DESCRIPTION:Join us for a “Rolling good time” at Grand Blanc Lanes for Bowling Night with Bubba! \nEach game will be $10 and we welcome parents and caregivers to join in if they please as well! \nPlease make sure to sign up if you would like to bowl so that we have enough lanes reserved. \n  \nClick here to sign up! \n 
URL:https://xceptionalheroes.org/event/bowling-night-7/
LOCATION:Grand Blanc Lanes\, 5301 S. Saginaw St\, Grand Blanc\, MI\, 48439\, United States
CATEGORIES:Ticket or Entry Costs
ATTACH;FMTTYPE=image/jpeg:https://xceptionalheroes.org/wp-content/uploads/2024/03/IMG_2564.jpg
END:VEVENT
BEGIN:VEVENT
DTSTART;TZID=UTC:20241218T180000
DTEND;TZID=UTC:20241218T193000
DTSTAMP:20260423T211841
CREATED:20241130T002712Z
LAST-MODIFIED:20241130T002712Z
UID:3999-1734544800-1734550200@xceptionalheroes.org
SUMMARY:XH North Bingo Night
DESCRIPTION:We have found a location to be able to offer more events in the Clio area for our Heroes that live farther North! \nCome join us for a funfilled Bingo Night! \nThis is a free event\, but you do need to bring 2.75 in quarters to play with! You may have noticed we upped the price a little but bubba wanted to create a bigger jackpot of winnings for Bingo! \nThis is a very popular event and would love to invite anyone that has not joined yet! \n  \nClick here to sign up! \n 
URL:https://xceptionalheroes.org/event/xh-north-bingo-night-3/
LOCATION:12167 N Lewis Rd Clio\, MI\, 12167 N Lewis Rd\, Clio\, Michigan\, 48420
CATEGORIES:Ticket or Entry Costs
ATTACH;FMTTYPE=image/jpeg:https://xceptionalheroes.org/wp-content/uploads/2024/11/IMG_8271-scaled.jpeg
END:VEVENT
BEGIN:VEVENT
DTSTART;TZID=UTC:20241204T180000
DTEND;TZID=UTC:20241204T193000
DTSTAMP:20260423T211841
CREATED:20241130T000403Z
LAST-MODIFIED:20241130T000403Z
UID:3989-1733335200-1733340600@xceptionalheroes.org
SUMMARY:Bingo Night
DESCRIPTION:Come join us for a funfilled Bingo Night with Bubba!\n\nThis is a very popular event and always has everyone leaving with a smile on their face!\n\nMake sure to bring 2.75 in quarters with you to play with as Bubba has a fun progressive jackpot going!\n\n\nClick here to sign up!
URL:https://xceptionalheroes.org/event/bingo-night-17/
LOCATION:Richfield Road Church\, 6259 Richfield Rd\, Flint\, 48506
CATEGORIES:Ticket or Entry Costs
ATTACH;FMTTYPE=image/jpeg:https://xceptionalheroes.org/wp-content/uploads/2024/04/IMG_3066.jpg
END:VEVENT
BEGIN:VEVENT
DTSTART;TZID=UTC:20241115T180000
DTEND;TZID=UTC:20241115T200000
DTSTAMP:20260423T211841
CREATED:20241108T125755Z
LAST-MODIFIED:20241108T125755Z
UID:3749-1731693600-1731700800@xceptionalheroes.org
SUMMARY:Bowling Night
DESCRIPTION:Join us for a “Rolling good time” at Grand Blanc Lanes for Bowling Night with Bubba! \nEach game will be $10 and we welcome parents and caregivers to join in if they please as well! \nPlease make sure to sign up if you would like to bowl so that we have enough lanes reserved. \n  \nClick the link below to sign up! \n  \n  \n  \n 
URL:https://xceptionalheroes.org/event/bowling-night-6/
LOCATION:Grand Blanc Lanes\, 5301 S. Saginaw St\, Grand Blanc\, MI\, 48439\, United States
CATEGORIES:Ticket or Entry Costs
ATTACH;FMTTYPE=image/jpeg:https://xceptionalheroes.org/wp-content/uploads/2024/03/4b9bd515-b386-40f9-b78c-796e5861ae4b.jpg
END:VEVENT
BEGIN:VEVENT
DTSTART;TZID=UTC:20241023T173000
DTEND;TZID=UTC:20241023T190000
DTSTAMP:20260423T211841
CREATED:20241002T150428Z
LAST-MODIFIED:20241002T151312Z
UID:3705-1729704600-1729710000@xceptionalheroes.org
SUMMARY:XH North Bingo Night
DESCRIPTION:Join us for our Third XH North event! \nWe will be doing Bingo Night with Bubba in Clio! \nWe ask that you bring 2.75 in quarters to play with and we ask that you tell all your friends so that we can add to our North participation! \nClick here to sign up! \n  \n  \n 
URL:https://xceptionalheroes.org/event/xh-north-bingo-night/
LOCATION:12167 N Lewis Rd Clio\, MI\, 12167 N Lewis Rd\, Clio\, Michigan\, 48420
CATEGORIES:Ticket or Entry Costs
ATTACH;FMTTYPE=image/jpeg:https://xceptionalheroes.org/wp-content/uploads/2024/04/IMG_3062.jpg
END:VEVENT
BEGIN:VEVENT
DTSTART;TZID=UTC:20241018T180000
DTEND;TZID=UTC:20241018T200000
DTSTAMP:20260423T211841
CREATED:20241002T144944Z
LAST-MODIFIED:20241002T144944Z
UID:3703-1729274400-1729281600@xceptionalheroes.org
SUMMARY:Bowling Night
DESCRIPTION:Join us for a “Rolling good time” at Grand Blanc Lanes for Bowling Night with Bubba! \nEach game will be $10 and we welcome parents and caregivers to join in if they please as well! \nPlease make sure to sign up if you would like to bowl so that we have enought lanes reserved. \n  \nClick here to sign up! \n  \n 
URL:https://xceptionalheroes.org/event/bowling-night-5/
LOCATION:Grand Blanc Lanes\, 5301 S. Saginaw St\, Grand Blanc\, MI\, 48439\, United States
CATEGORIES:Ticket or Entry Costs
ATTACH;FMTTYPE=image/jpeg:https://xceptionalheroes.org/wp-content/uploads/2024/03/PHOTO-2024-02-03-09-16-02.jpg
END:VEVENT
BEGIN:VEVENT
DTSTART;TZID=UTC:20241009T173000
DTEND;TZID=UTC:20241009T190000
DTSTAMP:20260423T211841
CREATED:20241002T142732Z
LAST-MODIFIED:20241002T142732Z
UID:3690-1728495000-1728500400@xceptionalheroes.org
SUMMARY:Bingo Night
DESCRIPTION:Come join us for a funfilled Bingo Night with Bubba! \nThis is a very popular event and always has everyone leaving with a smile on their face! \nMake sure to bring 2.75 in quarters with you to play with as Bubba has a fun progressive jackpot going! \n  \nClick the link to sign up! \n  \n 
URL:https://xceptionalheroes.org/event/bingo-night-16/
LOCATION:Richfield Road Church\, 6259 Richfield Rd\, Flint\, 48506
CATEGORIES:Ticket or Entry Costs
ATTACH;FMTTYPE=image/jpeg:https://xceptionalheroes.org/wp-content/uploads/2024/04/IMG_3066.jpg
END:VEVENT
BEGIN:VEVENT
DTSTART;TZID=UTC:20241006T110000
DTEND;TZID=UTC:20241006T170000
DTSTAMP:20260423T211841
CREATED:20241002T142016Z
LAST-MODIFIED:20241002T142016Z
UID:3688-1728212400-1728234000@xceptionalheroes.org
SUMMARY:Movie and Lunch
DESCRIPTION:Join us for Movie and lunch at Buffalo Wild Wings! \nThe Heroes will be responsible for their own lunch and tickers for the movies. \nThe time and movie will be determined soon! \n  \nClick here to sign up! \n  \n 
URL:https://xceptionalheroes.org/event/movie-and-lunch-4/
LOCATION:NCG Triullium\, 8220 Trillium Circle Ave\, Grand Blanc\, MI\, 48439\, United States
CATEGORIES:Ticket or Entry Costs
ATTACH;FMTTYPE=image/jpeg:https://xceptionalheroes.org/wp-content/uploads/2023/11/dinner.jpg
END:VEVENT
BEGIN:VEVENT
DTSTART;TZID=UTC:20240925T173000
DTEND;TZID=UTC:20240925T190000
DTSTAMP:20260423T211841
CREATED:20240830T233238Z
LAST-MODIFIED:20240830T233238Z
UID:3647-1727285400-1727290800@xceptionalheroes.org
SUMMARY:Bingo Night
DESCRIPTION:Come join us for a funfilled Bingo Night!\n\nThis is a free event\, but you do need to bring 2.75 in quarters to play with!\n\nThis is a very popular event and would love to invite anyone that has not joined yet!\n\nClick here to sign up!
URL:https://xceptionalheroes.org/event/bingo-night-14/
LOCATION:Richfield Road Church\, 6259 Richfield Rd\, Flint\, 48506
CATEGORIES:Ticket or Entry Costs
ATTACH;FMTTYPE=image/jpeg:https://xceptionalheroes.org/wp-content/uploads/2024/04/IMG_3065.jpg
END:VEVENT
BEGIN:VEVENT
DTSTART;TZID=UTC:20240922T110000
DTEND;TZID=UTC:20240922T170000
DTSTAMP:20260423T211841
CREATED:20240830T232902Z
LAST-MODIFIED:20240830T232902Z
UID:3645-1727002800-1727024400@xceptionalheroes.org
SUMMARY:Lunch and Movie
DESCRIPTION:Join us for lunch at Buffalo Wild Wings and a movie right after!\n\nThe Heroes are responsible for their movie ticket and lunch!\n\nThe Movie will be determined closer to the event!\n\nClick here to sign up!
URL:https://xceptionalheroes.org/event/lunch-and-movie-2/
LOCATION:NCG Triullium\, 8220 Trillium Circle Ave\, Grand Blanc\, MI\, 48439\, United States
CATEGORIES:Ticket or Entry Costs
ATTACH;FMTTYPE=image/jpeg:https://xceptionalheroes.org/wp-content/uploads/2023/11/dinner.jpg
END:VEVENT
BEGIN:VEVENT
DTSTART;TZID=UTC:20240920T180000
DTEND;TZID=UTC:20240920T200000
DTSTAMP:20260423T211841
CREATED:20240830T232629Z
LAST-MODIFIED:20240830T232629Z
UID:3643-1726855200-1726862400@xceptionalheroes.org
SUMMARY:Bowling Night w/ Bubba
DESCRIPTION:Join Bubba for a night full of Bowling!\n\nIt will be $10 per game for the Heroes and we ask that you arrive a little bit early so that we can get lanes figured out and not have it cut into our bowling time!\n\nClick here to sign up!
URL:https://xceptionalheroes.org/event/bowling-night-w-bubba/
LOCATION:Grand Blanc Lanes\, 5301 S. Saginaw St\, Grand Blanc\, MI\, 48439\, United States
CATEGORIES:Ticket or Entry Costs
ATTACH;FMTTYPE=image/jpeg:https://xceptionalheroes.org/wp-content/uploads/2024/03/PHOTO-2024-02-03-09-16-02-2.jpg
END:VEVENT
BEGIN:VEVENT
DTSTART;TZID=UTC:20240912T173000
DTEND;TZID=UTC:20240912T190000
DTSTAMP:20260423T211841
CREATED:20240830T225005Z
LAST-MODIFIED:20240830T225005Z
UID:3632-1726162200-1726167600@xceptionalheroes.org
SUMMARY:Bingo Night in the North
DESCRIPTION:Welcome to our first event for XH North!\n\nWe have found a location to be able to offer more events in the Clio area for our Heroes that live farther North!\n\nCome join us for a funfilled Bingo Night!\n\nThis is a free event\, but you do need to bring 2.75 in quarters to play with! You may have noticed we upped the price a little but bubba wanted to create a bigger jackpot of winnings for Bingo!\n\nThis is a very popular event and would love to invite anyone that has not joined yet!\n\nClick here to sign up!
URL:https://xceptionalheroes.org/event/bingo-night-in-the-north/
LOCATION:12167 N Lewis Rd Clio\, MI\, 12167 N Lewis Rd\, Clio\, Michigan\, 48420
CATEGORIES:Ticket or Entry Costs
ATTACH;FMTTYPE=image/jpeg:https://xceptionalheroes.org/wp-content/uploads/2024/04/IMG_3064.jpg
END:VEVENT
BEGIN:VEVENT
DTSTART;TZID=UTC:20240911T173000
DTEND;TZID=UTC:20240911T190000
DTSTAMP:20260423T211841
CREATED:20240830T224259Z
LAST-MODIFIED:20240830T224259Z
UID:3628-1726075800-1726081200@xceptionalheroes.org
SUMMARY:Bingo Night
DESCRIPTION:Come join us for a funfilled Bingo Night! \nThis is a free event\, but you do need to bring 2.75 in quarters to play with! You may have noticed we upped the price a little but bubba wanted to create a bigger jackpot of winnings for Bingo! \nThis is a very popular event and would love to invite anyone that has not joined yet! \n  \nClick here to sign up! \n  \n 
URL:https://xceptionalheroes.org/event/bingo-night-13/
LOCATION:Richfield Road Church\, 6259 Richfield Rd\, Flint\, 48506
CATEGORIES:Ticket or Entry Costs
ATTACH;FMTTYPE=image/jpeg:https://xceptionalheroes.org/wp-content/uploads/2024/04/IMG_3066.jpg
END:VEVENT
END:VCALENDAR