BEGIN:VCALENDAR
VERSION:2.0
PRODID:-//Xceptional Heroes - ECPv6.15.20//NONSGML v1.0//EN
CALSCALE:GREGORIAN
METHOD:PUBLISH
X-ORIGINAL-URL:https://xceptionalheroes.org
X-WR-CALDESC:Events for Xceptional Heroes
REFRESH-INTERVAL;VALUE=DURATION:PT1H
X-Robots-Tag:noindex
X-PUBLISHED-TTL:PT1H
BEGIN:VTIMEZONE
TZID:UTC
BEGIN:STANDARD
TZOFFSETFROM:+0000
TZOFFSETTO:+0000
TZNAME:UTC
DTSTART:20210101T000000
END:STANDARD
END:VTIMEZONE
BEGIN:VEVENT
DTSTART;TZID=UTC:20221223T170000
DTEND;TZID=UTC:20221223T190000
DTSTAMP:20260424T225011
CREATED:20221119T133501Z
LAST-MODIFIED:20221119T133501Z
UID:1527-1671814800-1671822000@xceptionalheroes.org
SUMMARY:Bowling
DESCRIPTION:Join us in the Annex of Grand Blanc Lanes for 2 hours of bowling\, cornhole\, fowling\, and arcade games!  The cost is $10 and includes shoe rental.  GB Lanes has concessions available!
URL:https://xceptionalheroes.org/event/bowling-3/
LOCATION:Grand Blanc Lanes\, 5301 S. Saginaw St\, Grand Blanc\, MI\, 48439\, United States
CATEGORIES:Ticket or Entry Costs
ATTACH;FMTTYPE=image/jpeg:https://xceptionalheroes.org/wp-content/uploads/2022/10/bowling.jpg
END:VEVENT
BEGIN:VEVENT
DTSTART;TZID=UTC:20221220T170000
DTEND;TZID=UTC:20221220T190000
DTSTAMP:20260424T225011
CREATED:20221119T135200Z
LAST-MODIFIED:20221119T135200Z
UID:1540-1671555600-1671562800@xceptionalheroes.org
SUMMARY:Rollhaven Roller Skating
DESCRIPTION:We’re going roller skating at Rollhaven! They have a beautiful wood floor\, laser tag\, bounce house and soft play area which provides fun for all ages. \nSkating lessons are from 5-6pm and Open Skate is from 6-8pm
URL:https://xceptionalheroes.org/event/rollhaven-roller-skating-2/
LOCATION:Rollhaven\, 5315 S. Saginaw St\, Grand Blanc\, MI\, 48507\, United States
CATEGORIES:Ticket or Entry Costs
ATTACH;FMTTYPE=image/jpeg:https://xceptionalheroes.org/wp-content/uploads/2022/10/rollerskating.jpg
END:VEVENT
BEGIN:VEVENT
DTSTART;TZID=UTC:20221214T184500
DTEND;TZID=UTC:20221214T194500
DTSTAMP:20260424T225011
CREATED:20221119T134036Z
LAST-MODIFIED:20221119T134036Z
UID:1529-1671043500-1671047100@xceptionalheroes.org
SUMMARY:Tri County Ninja Obstacle Course with Tegan
DESCRIPTION:Challenge yourself on this adaptive Ninja Warrior course & hit the buzzer! This is suitable for all fitness levels. Get a great workout & tremendous sense of accomplishment?\n$15\n* waivers to be linked shortly with advance completion required \nhttps://docs.google.com/forms/d/e/1FAIpQLSeEv_hKIypvo3gNb2tb_FS09KO_ixn4We4uFoDKFSCvOCAzkA/viewform?gxids=7628&fbclid=IwAR1lvcgoJqQPQ1zf3RKITM7g7LHLVfitQeZHD1MdakvTjfRy845W26bJnfo\n\nhttps://docs.google.com/forms/d/e/1FAIpQLSe6phfJaDX9Rljw5FQftV3sc29Ewi1ixshS_yNqKRpS2cvHCw/viewform?fbclid=IwAR2ezZ6kmj_-q-fxJBLLJXYM994jrg8g0XNMv6NR_mHMwC15MFi_FW3tnU4\n\nhttps://docs.google.com/forms/d/e/1FAIpQLSfE8NEpw1sXhcKZ0rY5taXvderBU79u1K7-92sI9hpRqLi8MA/viewform?vc=0&c=0&w=1&flr=0&gxids=7628&fbclid=IwAR0IU0ZhbwgrFpZY9bWxpHXZyM2luicJ_P3qxn6X3CBWbKKQ8OQkHRs2_pE\n\nhttps://docs.google.com/forms/d/e/1FAIpQLSfiNtoRrHVIQmchhHreP48si3ypwfhLkyhz0DlKcxajdetCTg/viewform?vc=0&c=0&w=1&flr=0&gxids=7628&fbclid=IwAR12RgPND0xNxlEaC8FOCpL8UQwriicx-ULeqHG0ZAprVBBC-VJSTHW96I4
URL:https://xceptionalheroes.org/event/tri-county-ninja-obstacle-course-with-tegan-2/
LOCATION:Tri County Ninja\, 14283 Fenton Rd\, Fenton\, MI\, 48430
CATEGORIES:Ticket or Entry Costs
ATTACH;FMTTYPE=image/jpeg:https://xceptionalheroes.org/wp-content/uploads/2022/11/20220720_195028-scaled.jpg
END:VEVENT
BEGIN:VEVENT
DTSTART;TZID=UTC:20221210T183000
DTEND;TZID=UTC:20221210T213000
DTSTAMP:20260424T225011
CREATED:20221119T130246Z
LAST-MODIFIED:20221119T132415Z
UID:1517-1670697000-1670707800@xceptionalheroes.org
SUMMARY:Flint Firebirds - Old Newsboys Toy Drive
DESCRIPTION:XH families purchase tickets in Section 7 where the Firebirds shoot on net twice a night.  This is a very popular and highly attended activity and we are excited for you to join us!  Ticket prices can vary depending on attendance and we are able to secure group rates when we get 10 or more firm commitments.  Xceptional Heroes will create an event on our Facebook page to collect RSVP’s so we know if we are able to secure the group rate.  Please go to the event page and indicate that you will be attending! \nAlso\, parking is $10 at this venue\, but if you tell the guard that you are with Xceptional Heroes there is no fee.  Please try to arrive at 6:30 to get through security check-in. \nFor this game\, we are challenging our Heroes to collect as many new\, unopened toys as possible ($10 value or more) to donate to charity.  The Hero who collects the most toys will win a special prize from XH!  A flyer has been created to help your Hero request donations from friends\, family\, stores\, etc!  Good luck!
URL:https://xceptionalheroes.org/event/flint-firebirds-old-newsboys-toy-drive/
LOCATION:Dort Financial Center\, 3501 Lapeer Rd.\, Flint\, MI\, 48503
CATEGORIES:Ticket or Entry Costs
ATTACH;FMTTYPE=image/jpeg:https://xceptionalheroes.org/wp-content/uploads/2022/10/firebirds.jpg
END:VEVENT
BEGIN:VEVENT
DTSTART;TZID=UTC:20221209T170000
DTEND;TZID=UTC:20221209T190000
DTSTAMP:20260424T225011
CREATED:20221119T133417Z
LAST-MODIFIED:20221119T133417Z
UID:1525-1670605200-1670612400@xceptionalheroes.org
SUMMARY:Bowling
DESCRIPTION:Join us in the Annex of Grand Blanc Lanes for 2 hours of bowling\, cornhole\, fowling\, and arcade games!  The cost is $10 and includes shoe rental.  GB Lanes has concessions available!
URL:https://xceptionalheroes.org/event/bowling-2/
LOCATION:Grand Blanc Lanes\, 5301 S. Saginaw St\, Grand Blanc\, MI\, 48439\, United States
CATEGORIES:Ticket or Entry Costs
ATTACH;FMTTYPE=image/jpeg:https://xceptionalheroes.org/wp-content/uploads/2022/10/bowling.jpg
END:VEVENT
BEGIN:VEVENT
DTSTART;VALUE=DATE:20221113
DTEND;VALUE=DATE:20221114
DTSTAMP:20260424T225011
CREATED:20221025T154144Z
LAST-MODIFIED:20221025T154144Z
UID:1408-1668297600-1668383999@xceptionalheroes.org
SUMMARY:Movie Matinee & Lunch at BWW
DESCRIPTION:Join us for a Movie Matinee of Black Panther: Wakanda Forever and lunch at Buffalo Wild Wings. Time is still TBD based on available movie showtimes.
URL:https://xceptionalheroes.org/event/movie-matinee-lunch-at-bww/
LOCATION:NCG Triullium\, 8220 Trillium Circle Ave\, Grand Blanc\, MI\, 48439\, United States
CATEGORIES:Ticket or Entry Costs
ATTACH;FMTTYPE=image/jpeg:https://xceptionalheroes.org/wp-content/uploads/2022/10/wakanda-bww-movie.jpg
END:VEVENT
BEGIN:VEVENT
DTSTART;TZID=UTC:20221111T170000
DTEND;TZID=UTC:20221111T190000
DTSTAMP:20260424T225011
CREATED:20221104T211542Z
LAST-MODIFIED:20221107T164258Z
UID:1475-1668186000-1668193200@xceptionalheroes.org
SUMMARY:Bowling
DESCRIPTION:Join us in the Annex of Grand Blanc Lanes for 2 hours of bowling\, cornhole\, fowling\, and arcade games!  The cost is $10 and includes shoe rental.  GB Lanes has concessions available!
URL:https://xceptionalheroes.org/event/bowling/
LOCATION:Grand Blanc Lanes\, 5301 S. Saginaw St\, Grand Blanc\, MI\, 48439\, United States
CATEGORIES:Ticket or Entry Costs
ATTACH;FMTTYPE=image/jpeg:https://xceptionalheroes.org/wp-content/uploads/2022/10/bowling.jpg
END:VEVENT
BEGIN:VEVENT
DTSTART;TZID=UTC:20221105T183000
DTEND;TZID=UTC:20221105T213000
DTSTAMP:20260424T225011
CREATED:20221104T212547Z
LAST-MODIFIED:20221104T212601Z
UID:1478-1667673000-1667683800@xceptionalheroes.org
SUMMARY:Flint Firebirds - Autism Awareness Night
DESCRIPTION:Dort Federal Credit Union will be utilizing sensory-friendly lighting for our friends who may get overstimulated.  XH families purchase tickets in Section 7 where the Firebirds shoot on net twice a night.  This is a very popular and highly attended activity and we are excited for you to join us! \nTicket prices can vary depending on attendance and we are able to secure group rates.  Xceptional Heroes will create an event on our Facebook page to collect RSVP’s so we know if we are able to secure the group rate.  Please go to the event page and indicate that you will be attending! \nAlso\, parking is $10 at this venue\, but if you tell the guard that you are with Xceptional Heroes there is no fee.  Please try to arrive at 6:30 to get through security check-in.
URL:https://xceptionalheroes.org/event/flint-firebirds-autism-awareness-night/
LOCATION:Dort Financial Center\, 3501 Lapeer Rd.\, Flint\, MI\, 48503
CATEGORIES:Ticket or Entry Costs
END:VEVENT
BEGIN:VEVENT
DTSTART;TZID=UTC:20221101T170000
DTEND;TZID=UTC:20221101T190000
DTSTAMP:20260424T225011
CREATED:20221025T145639Z
LAST-MODIFIED:20221025T145639Z
UID:1400-1667322000-1667329200@xceptionalheroes.org
SUMMARY:Rollhaven Roller Skating
DESCRIPTION:We’re going roller skating at Rollhaven! They have a beautiful wood floor\, laser tag\, bounce house and soft play area which provides fun for all ages.
URL:https://xceptionalheroes.org/event/rollhaven-roller-skating/
LOCATION:Rollhaven\, 5315 S. Saginaw St\, Grand Blanc\, MI\, 48507\, United States
CATEGORIES:Ticket or Entry Costs
ATTACH;FMTTYPE=image/jpeg:https://xceptionalheroes.org/wp-content/uploads/2022/10/rollerskating.jpg
END:VEVENT
BEGIN:VEVENT
DTSTART;TZID=UTC:20220930T170000
DTEND;TZID=UTC:20220930T190000
DTSTAMP:20260424T225011
CREATED:20220902T135420Z
LAST-MODIFIED:20220922T115655Z
UID:1230-1664557200-1664564400@xceptionalheroes.org
SUMMARY:Bowling/Cornhole/Fowling - September Birthday Bash
DESCRIPTION:We are reinstating our tradition of meeting in the Annex at Grand Blanc Lanes for unlimited bowling\, cornhole\, and fowling for $10!  This includes as games of bowling as you can fit in 2 hours\, a lane ball (if you don’t have your own)\, and shoe rental!  GB Lanes has concessions available as well!  We will also be celebrating our September birthdays with cupcakes!
URL:https://xceptionalheroes.org/event/bowling-cornhole-fowling-2/
LOCATION:Grand Blanc Lanes\, 5301 S. Saginaw St\, Grand Blanc\, MI\, 48439\, United States
CATEGORIES:Ticket or Entry Costs
END:VEVENT
BEGIN:VEVENT
DTSTART;TZID=UTC:20220928T184500
DTEND;TZID=UTC:20220928T194500
DTSTAMP:20260424T225011
CREATED:20220902T141258Z
LAST-MODIFIED:20220922T115522Z
UID:1240-1664390700-1664394300@xceptionalheroes.org
SUMMARY:Tri County Ninja Obstacle Course with Tegan
DESCRIPTION:Challenge yourself on this adaptive Ninja Warrior course & hit the buzzer! This is suitable for all fitness levels. Get a great workout & tremendous sense of accomplishment?\n$15\n* waivers to be linked shortly with advance completion required \nhttps://docs.google.com/forms/d/e/1FAIpQLSeEv_hKIypvo3gNb2tb_FS09KO_ixn4We4uFoDKFSCvOCAzkA/viewform?gxids=7628&fbclid=IwAR1lvcgoJqQPQ1zf3RKITM7g7LHLVfitQeZHD1MdakvTjfRy845W26bJnfo\n\nhttps://docs.google.com/forms/d/e/1FAIpQLSe6phfJaDX9Rljw5FQftV3sc29Ewi1ixshS_yNqKRpS2cvHCw/viewform?fbclid=IwAR2ezZ6kmj_-q-fxJBLLJXYM994jrg8g0XNMv6NR_mHMwC15MFi_FW3tnU4\n\nhttps://docs.google.com/forms/d/e/1FAIpQLSfE8NEpw1sXhcKZ0rY5taXvderBU79u1K7-92sI9hpRqLi8MA/viewform?vc=0&c=0&w=1&flr=0&gxids=7628&fbclid=IwAR0IU0ZhbwgrFpZY9bWxpHXZyM2luicJ_P3qxn6X3CBWbKKQ8OQkHRs2_pE\n\nhttps://docs.google.com/forms/d/e/1FAIpQLSfiNtoRrHVIQmchhHreP48si3ypwfhLkyhz0DlKcxajdetCTg/viewform?vc=0&c=0&w=1&flr=0&gxids=7628&fbclid=IwAR12RgPND0xNxlEaC8FOCpL8UQwriicx-ULeqHG0ZAprVBBC-VJSTHW96I4
URL:https://xceptionalheroes.org/event/tri-county-ninja-obstacle-course-with-tegan/
LOCATION:Tri County Ninja\, 14283 Fenton Rd\, Fenton\, MI\, 48430
CATEGORIES:Ticket or Entry Costs
END:VEVENT
BEGIN:VEVENT
DTSTART;TZID=UTC:20220630T080000
DTEND;TZID=UTC:20220630T170000
DTSTAMP:20260424T225011
CREATED:20220615T020112Z
LAST-MODIFIED:20220615T020941Z
UID:887-1656576000-1656608400@xceptionalheroes.org
SUMMARY:Test Event
DESCRIPTION:Join us on June 30th for our first fake event for testing.  It will only cost you $1. \nClick here to register and pay!
URL:https://xceptionalheroes.org/event/test-event/
LOCATION:MI
CATEGORIES:Ticket or Entry Costs
END:VEVENT
END:VCALENDAR