BEGIN:VCALENDAR
VERSION:2.0
PRODID:-//Xceptional Heroes - ECPv6.15.20//NONSGML v1.0//EN
CALSCALE:GREGORIAN
METHOD:PUBLISH
X-ORIGINAL-URL:https://xceptionalheroes.org
X-WR-CALDESC:Events for Xceptional Heroes
REFRESH-INTERVAL;VALUE=DURATION:PT1H
X-Robots-Tag:noindex
X-PUBLISHED-TTL:PT1H
BEGIN:VTIMEZONE
TZID:UTC
BEGIN:STANDARD
TZOFFSETFROM:+0000
TZOFFSETTO:+0000
TZNAME:UTC
DTSTART:20250101T000000
END:STANDARD
END:VTIMEZONE
BEGIN:VEVENT
DTSTART;TZID=UTC:20260412T150000
DTEND;TZID=UTC:20260412T170000
DTSTAMP:20260423T165359
CREATED:20260329T142337Z
LAST-MODIFIED:20260329T142337Z
UID:5234-1776006000-1776013200@xceptionalheroes.org
SUMMARY:Dow Gardens
DESCRIPTION:Let’s meet up to see the gorgeous butterfly exhibit at Dow Gardens!\n\nAdmission is $15 and there is about a 1/4 mile walk from the main building to the exhibit. The grounds are beautiful and the exhibit itself is amazing!\nParticipants and families are responsible for their admission cost\, but we need to collect the fees up front to secure the tickets since advance purchase is required.\n\nSign up below: \nhttps://www.signupgenius.com/go/10C0948A4A72FAAFBCE9-63228669-dowgardens
URL:https://xceptionalheroes.org/event/dow-gardens-2/
LOCATION:Dow Gardens\, 1809 Eastman Rd\, Midland\, MI\, 48640\, United States
CATEGORIES:Ticket or Entry Costs
ATTACH;FMTTYPE=image/jpeg:https://xceptionalheroes.org/wp-content/uploads/2026/03/download-1.jpg
END:VEVENT
END:VCALENDAR