BEGIN:VCALENDAR
VERSION:2.0
PRODID:-//Xceptional Heroes - ECPv6.15.20//NONSGML v1.0//EN
CALSCALE:GREGORIAN
METHOD:PUBLISH
X-ORIGINAL-URL:https://xceptionalheroes.org
X-WR-CALDESC:Events for Xceptional Heroes
REFRESH-INTERVAL;VALUE=DURATION:PT1H
X-Robots-Tag:noindex
X-PUBLISHED-TTL:PT1H
BEGIN:VTIMEZONE
TZID:UTC
BEGIN:STANDARD
TZOFFSETFROM:+0000
TZOFFSETTO:+0000
TZNAME:UTC
DTSTART:20250101T000000
END:STANDARD
END:VTIMEZONE
BEGIN:VEVENT
DTSTART;TZID=UTC:20260223T180000
DTEND;TZID=UTC:20260223T193000
DTSTAMP:20260423T194645
CREATED:20260127T202102Z
LAST-MODIFIED:20260127T202751Z
UID:5010-1771869600-1771875000@xceptionalheroes.org
SUMMARY:Parents/Caregivers Painting Night Out
DESCRIPTION:You asked and we have delivered! Join our art instructor\, Chris\, at The HUB for an evening of painting for our parents and caregivers! \nChris will guide the class through a painting using techniques similar to “Painting with a Twist”.  Step by step instructions and all the supplies are provided!  We are excited to finally offer some entertainment to our families who also need some fun and entertainment! \nThere is a small fee associated with this class because the funds do not come from our Hero budget and this helps to offset our costs. \nSign up below:\nhttps://www.signupgenius.com/go/10C0948A4A72FAAFBCE9-61917646-parentscaregivers \n 
URL:https://xceptionalheroes.org/event/parents-caregivers-painting-night-out/
LOCATION:G3490 Miller Rd\, G3490 Miller Rd\, Flint\, MI\, 48532
CATEGORIES:Ticket or Entry Costs
ATTACH;FMTTYPE=image/jpeg:https://xceptionalheroes.org/wp-content/uploads/2026/01/art.jpg
END:VEVENT
END:VCALENDAR