BEGIN:VCALENDAR
VERSION:2.0
PRODID:-//Xceptional Heroes - ECPv6.15.20//NONSGML v1.0//EN
CALSCALE:GREGORIAN
METHOD:PUBLISH
X-WR-CALNAME:Xceptional Heroes
X-ORIGINAL-URL:https://xceptionalheroes.org
X-WR-CALDESC:Events for Xceptional Heroes
REFRESH-INTERVAL;VALUE=DURATION:PT1H
X-Robots-Tag:noindex
X-PUBLISHED-TTL:PT1H
BEGIN:VTIMEZONE
TZID:UTC
BEGIN:STANDARD
TZOFFSETFROM:+0000
TZOFFSETTO:+0000
TZNAME:UTC
DTSTART:20250101T000000
END:STANDARD
END:VTIMEZONE
BEGIN:VEVENT
DTSTART;TZID=UTC:20260222T110000
DTEND;TZID=UTC:20260222T170000
DTSTAMP:20260423T194457
CREATED:20260127T201247Z
LAST-MODIFIED:20260127T201247Z
UID:5027-1771758000-1771779600@xceptionalheroes.org
SUMMARY:Lunch and Movie
DESCRIPTION:Join us on Sunday for Lunch and a Movie! \nThe movie we will be seeing is GOAT.  The movie time will be determined closer to the date and we will let everyone know ahead of time! We typically meet at Buffalo Wild Wings for lunch first around 11 and then will head over to the theatre. \nEveryone is responsible for their own meal\, server tip\, and movie ticket.  There are no membership costs associated with this activity. \nSign up below:\nhttps://www.signupgenius.com/go/10C0948A4A72FAAFBCE9-61917647-lunch
URL:https://xceptionalheroes.org/event/lunch-and-movie-10/
LOCATION:NCG Triullium\, 8220 Trillium Circle Ave\, Grand Blanc\, MI\, 48439\, United States
CATEGORIES:Ticket or Entry Costs
ATTACH;FMTTYPE=image/jpeg:https://xceptionalheroes.org/wp-content/uploads/2023/11/dinner.jpg
END:VEVENT
END:VCALENDAR