BEGIN:VCALENDAR
VERSION:2.0
PRODID:-//Xceptional Heroes - ECPv6.15.20//NONSGML v1.0//EN
CALSCALE:GREGORIAN
METHOD:PUBLISH
X-ORIGINAL-URL:https://xceptionalheroes.org
X-WR-CALDESC:Events for Xceptional Heroes
REFRESH-INTERVAL;VALUE=DURATION:PT1H
X-Robots-Tag:noindex
X-PUBLISHED-TTL:PT1H
BEGIN:VTIMEZONE
TZID:UTC
BEGIN:STANDARD
TZOFFSETFROM:+0000
TZOFFSETTO:+0000
TZNAME:UTC
DTSTART:20240101T000000
END:STANDARD
END:VTIMEZONE
BEGIN:VEVENT
DTSTART;TZID=UTC:20250720T110000
DTEND;TZID=UTC:20250720T150000
DTSTAMP:20260424T040402
CREATED:20250622T202729Z
LAST-MODIFIED:20250622T202729Z
UID:4512-1753009200-1753023600@xceptionalheroes.org
SUMMARY:Movie and Lunch
DESCRIPTION:Join us on Sunday for Lunch and a Movie! \nWe will pick the movie closer to the date and we all meet at Buffalo Wild Wings first for lunch and then walk over to the movies afterwards. \nEveryone is responsible for their own meal and movie ticket. \nClick here to sign up! \n 
URL:https://xceptionalheroes.org/event/movie-and-lunch-5/
LOCATION:NCG Triullium\, 8220 Trillium Circle Ave\, Grand Blanc\, MI\, 48439\, United States
CATEGORIES:Ticket or Entry Costs
ATTACH;FMTTYPE=image/jpeg:https://xceptionalheroes.org/wp-content/uploads/2023/11/dinner.jpg
END:VEVENT
END:VCALENDAR