BEGIN:VCALENDAR
VERSION:2.0
PRODID:-//Xceptional Heroes - ECPv6.15.20//NONSGML v1.0//EN
CALSCALE:GREGORIAN
METHOD:PUBLISH
X-WR-CALNAME:Xceptional Heroes
X-ORIGINAL-URL:https://xceptionalheroes.org
X-WR-CALDESC:Events for Xceptional Heroes
REFRESH-INTERVAL;VALUE=DURATION:PT1H
X-Robots-Tag:noindex
X-PUBLISHED-TTL:PT1H
BEGIN:VTIMEZONE
TZID:UTC
BEGIN:STANDARD
TZOFFSETFROM:+0000
TZOFFSETTO:+0000
TZNAME:UTC
DTSTART:20230101T000000
END:STANDARD
END:VTIMEZONE
BEGIN:VEVENT
DTSTART;TZID=UTC:20240301T180000
DTEND;TZID=UTC:20240301T210000
DTSTAMP:20260425T015402
CREATED:20240227T170055Z
LAST-MODIFIED:20240227T170252Z
UID:2979-1709316000-1709326800@xceptionalheroes.org
SUMMARY:Flint Firebirds Autism Awareness Game
DESCRIPTION:We have been invited to join the Flint Firebirds in celebrating their Autism Awareness Night March 1st! \nWe will need a final head count on who is going by February 27th! \nThere will be 50/50 that night that will go towards the Autism Resource Center and our name will appear on the Jumbotron! \nThere will be low sensory at this game just light sounds and lights. \nThe tickets will be $2 off as long as we hit our 10 ticket mark. \nWe hope you join us at this game to help support this cause! There may even be a high-five tunnel in the works!
URL:https://xceptionalheroes.org/event/flint-firebirds-autism-awareness-game/
CATEGORIES:Ticket or Entry Costs
END:VEVENT
END:VCALENDAR