BEGIN:VCALENDAR
VERSION:2.0
PRODID:-//Xceptional Heroes - ECPv6.15.20//NONSGML v1.0//EN
CALSCALE:GREGORIAN
METHOD:PUBLISH
X-WR-CALNAME:Xceptional Heroes
X-ORIGINAL-URL:https://xceptionalheroes.org
X-WR-CALDESC:Events for Xceptional Heroes
REFRESH-INTERVAL;VALUE=DURATION:PT1H
X-Robots-Tag:noindex
X-PUBLISHED-TTL:PT1H
BEGIN:VTIMEZONE
TZID:UTC
BEGIN:STANDARD
TZOFFSETFROM:+0000
TZOFFSETTO:+0000
TZNAME:UTC
DTSTART:20230101T000000
END:STANDARD
END:VTIMEZONE
BEGIN:VEVENT
DTSTART;TZID=UTC:20240206T180000
DTEND;TZID=UTC:20240206T200000
DTSTAMP:20260425T032101
CREATED:20231230T162852Z
LAST-MODIFIED:20240122T142748Z
UID:2891-1707242400-1707249600@xceptionalheroes.org
SUMMARY:Craft Day
DESCRIPTION:Come join Teresa and Angelina in crafting some adorable yarn gnomes! They can be decorated for Valentine’s\, Easter\, etc. Your imagination is the limit!\n\nThere is a cost of $5/person and you can make up to 4 gnomes\, if time permits. This activity is limited to 20 participants due to the amount of instruction this craft will involve.\n\nhttps://www.signupgenius.com/go/10C0948A4A72FAAFBCE9-46999597-craft
URL:https://xceptionalheroes.org/event/craft-day-3/
LOCATION:Holly Library\, 1116 N. Saginaw St\, Holly\, 48442
CATEGORIES:Ticket or Entry Costs
ATTACH;FMTTYPE=image/jpeg:https://xceptionalheroes.org/wp-content/uploads/2023/12/gnomes.jpg
END:VEVENT
END:VCALENDAR