BEGIN:VCALENDAR
VERSION:2.0
PRODID:-//Xceptional Heroes - ECPv6.15.20//NONSGML v1.0//EN
CALSCALE:GREGORIAN
METHOD:PUBLISH
X-WR-CALNAME:Xceptional Heroes
X-ORIGINAL-URL:https://xceptionalheroes.org
X-WR-CALDESC:Events for Xceptional Heroes
REFRESH-INTERVAL;VALUE=DURATION:PT1H
X-Robots-Tag:noindex
X-PUBLISHED-TTL:PT1H
BEGIN:VTIMEZONE
TZID:UTC
BEGIN:STANDARD
TZOFFSETFROM:+0000
TZOFFSETTO:+0000
TZNAME:UTC
DTSTART:20220101T000000
END:STANDARD
END:VTIMEZONE
BEGIN:VEVENT
DTSTART;TZID=UTC:20230510T180000
DTEND;TZID=UTC:20230510T200000
DTSTAMP:20260425T154851
CREATED:20230504T003825Z
LAST-MODIFIED:20230504T003825Z
UID:2449-1683741600-1683748800@xceptionalheroes.org
SUMMARY:Cooking Class
DESCRIPTION:Join Teresa and Chris Huff at Grand Blanc High School-West Campus\, Room 707\, for our cooking class!\nWe will be preparing mexican dishes in honor of Cinco de Mayo for this class!  Burritos\, tacos\, and nachos are on the menu!\n\nIn order to attend\, you must register through the link below. The cost is $10/class which covers the room rental and cost of the groceries.\n\nhttps://anc.apm.activecommunities.com/gbparks/activity/search/detail/279?onlineSiteId=0&locale=en-US&from_original_cui=true&fbclid=IwAR0crMbfmZFMkdDps0_uJKq4CHh7Ef-A6CZE9tVn6VtDY5fDVZP3akaDio4
URL:https://xceptionalheroes.org/event/cooking-class-4/
LOCATION:Grand Blanc HS West Campus\, 1 Jewett Trail\, Grand Blanc\, MI\, 48439
CATEGORIES:Ticket or Entry Costs
ATTACH;FMTTYPE=image/jpeg:https://xceptionalheroes.org/wp-content/uploads/2023/05/mexican.jpg
END:VEVENT
END:VCALENDAR