BEGIN:VCALENDAR
VERSION:2.0
PRODID:-//Xceptional Heroes - ECPv6.15.20//NONSGML v1.0//EN
CALSCALE:GREGORIAN
METHOD:PUBLISH
X-ORIGINAL-URL:https://xceptionalheroes.org
X-WR-CALDESC:Events for Xceptional Heroes
REFRESH-INTERVAL;VALUE=DURATION:PT1H
X-Robots-Tag:noindex
X-PUBLISHED-TTL:PT1H
BEGIN:VTIMEZONE
TZID:UTC
BEGIN:STANDARD
TZOFFSETFROM:+0000
TZOFFSETTO:+0000
TZNAME:UTC
DTSTART:20210101T000000
END:STANDARD
END:VTIMEZONE
BEGIN:VEVENT
DTSTART;TZID=UTC:20221210T183000
DTEND;TZID=UTC:20221210T213000
DTSTAMP:20260425T223706
CREATED:20221119T130246Z
LAST-MODIFIED:20221119T132415Z
UID:1517-1670697000-1670707800@xceptionalheroes.org
SUMMARY:Flint Firebirds - Old Newsboys Toy Drive
DESCRIPTION:XH families purchase tickets in Section 7 where the Firebirds shoot on net twice a night.  This is a very popular and highly attended activity and we are excited for you to join us!  Ticket prices can vary depending on attendance and we are able to secure group rates when we get 10 or more firm commitments.  Xceptional Heroes will create an event on our Facebook page to collect RSVP’s so we know if we are able to secure the group rate.  Please go to the event page and indicate that you will be attending! \nAlso\, parking is $10 at this venue\, but if you tell the guard that you are with Xceptional Heroes there is no fee.  Please try to arrive at 6:30 to get through security check-in. \nFor this game\, we are challenging our Heroes to collect as many new\, unopened toys as possible ($10 value or more) to donate to charity.  The Hero who collects the most toys will win a special prize from XH!  A flyer has been created to help your Hero request donations from friends\, family\, stores\, etc!  Good luck!
URL:https://xceptionalheroes.org/event/flint-firebirds-old-newsboys-toy-drive/
LOCATION:Dort Financial Center\, 3501 Lapeer Rd.\, Flint\, MI\, 48503
CATEGORIES:Ticket or Entry Costs
ATTACH;FMTTYPE=image/jpeg:https://xceptionalheroes.org/wp-content/uploads/2022/10/firebirds.jpg
END:VEVENT
END:VCALENDAR