BEGIN:VCALENDAR
VERSION:2.0
PRODID:-//Xceptional Heroes - ECPv6.15.20//NONSGML v1.0//EN
CALSCALE:GREGORIAN
METHOD:PUBLISH
X-WR-CALNAME:Xceptional Heroes
X-ORIGINAL-URL:https://xceptionalheroes.org
X-WR-CALDESC:Events for Xceptional Heroes
REFRESH-INTERVAL;VALUE=DURATION:PT1H
X-Robots-Tag:noindex
X-PUBLISHED-TTL:PT1H
BEGIN:VTIMEZONE
TZID:UTC
BEGIN:STANDARD
TZOFFSETFROM:+0000
TZOFFSETTO:+0000
TZNAME:UTC
DTSTART:20210101T000000
END:STANDARD
END:VTIMEZONE
BEGIN:VEVENT
DTSTART;TZID=UTC:20221105T183000
DTEND;TZID=UTC:20221105T213000
DTSTAMP:20260425T235259
CREATED:20221104T212547Z
LAST-MODIFIED:20221104T212601Z
UID:1478-1667673000-1667683800@xceptionalheroes.org
SUMMARY:Flint Firebirds - Autism Awareness Night
DESCRIPTION:Dort Federal Credit Union will be utilizing sensory-friendly lighting for our friends who may get overstimulated.  XH families purchase tickets in Section 7 where the Firebirds shoot on net twice a night.  This is a very popular and highly attended activity and we are excited for you to join us! \nTicket prices can vary depending on attendance and we are able to secure group rates.  Xceptional Heroes will create an event on our Facebook page to collect RSVP’s so we know if we are able to secure the group rate.  Please go to the event page and indicate that you will be attending! \nAlso\, parking is $10 at this venue\, but if you tell the guard that you are with Xceptional Heroes there is no fee.  Please try to arrive at 6:30 to get through security check-in.
URL:https://xceptionalheroes.org/event/flint-firebirds-autism-awareness-night/
LOCATION:Dort Financial Center\, 3501 Lapeer Rd.\, Flint\, MI\, 48503
CATEGORIES:Ticket or Entry Costs
END:VEVENT
END:VCALENDAR