BEGIN:VCALENDAR
VERSION:2.0
PRODID:-//Xceptional Heroes - ECPv6.15.20//NONSGML v1.0//EN
CALSCALE:GREGORIAN
METHOD:PUBLISH
X-WR-CALNAME:Xceptional Heroes
X-ORIGINAL-URL:https://xceptionalheroes.org
X-WR-CALDESC:Events for Xceptional Heroes
REFRESH-INTERVAL;VALUE=DURATION:PT1H
X-Robots-Tag:noindex
X-PUBLISHED-TTL:PT1H
BEGIN:VTIMEZONE
TZID:UTC
BEGIN:STANDARD
TZOFFSETFROM:+0000
TZOFFSETTO:+0000
TZNAME:UTC
DTSTART:20210101T000000
END:STANDARD
END:VTIMEZONE
BEGIN:VEVENT
DTSTART;TZID=UTC:20221101T170000
DTEND;TZID=UTC:20221101T190000
DTSTAMP:20260425T235300
CREATED:20221025T145639Z
LAST-MODIFIED:20221025T145639Z
UID:1400-1667322000-1667329200@xceptionalheroes.org
SUMMARY:Rollhaven Roller Skating
DESCRIPTION:We’re going roller skating at Rollhaven! They have a beautiful wood floor\, laser tag\, bounce house and soft play area which provides fun for all ages.
URL:https://xceptionalheroes.org/event/rollhaven-roller-skating/
LOCATION:Rollhaven\, 5315 S. Saginaw St\, Grand Blanc\, MI\, 48507\, United States
CATEGORIES:Ticket or Entry Costs
ATTACH;FMTTYPE=image/jpeg:https://xceptionalheroes.org/wp-content/uploads/2022/10/rollerskating.jpg
END:VEVENT
END:VCALENDAR