BEGIN:VCALENDAR
VERSION:2.0
PRODID:-//Xceptional Heroes - ECPv6.15.20//NONSGML v1.0//EN
CALSCALE:GREGORIAN
METHOD:PUBLISH
X-ORIGINAL-URL:https://xceptionalheroes.org
X-WR-CALDESC:Events for Xceptional Heroes
REFRESH-INTERVAL;VALUE=DURATION:PT1H
X-Robots-Tag:noindex
X-PUBLISHED-TTL:PT1H
BEGIN:VTIMEZONE
TZID:UTC
BEGIN:STANDARD
TZOFFSETFROM:+0000
TZOFFSETTO:+0000
TZNAME:UTC
DTSTART:20250101T000000
END:STANDARD
END:VTIMEZONE
BEGIN:VEVENT
DTSTART;TZID=UTC:20260208T140000
DTEND;TZID=UTC:20260208T170000
DTSTAMP:20260423T181934
CREATED:20260127T211214Z
LAST-MODIFIED:20260127T213253Z
UID:5042-1770559200-1770570000@xceptionalheroes.org
SUMMARY:Roller Skating
DESCRIPTION:Join Alex and crew at Rollhaven for an afternoon of roller skating!  This is an event that Heroes will be responsible for their own entrance fees and there is no associated XH membership costs with this function. \nThe cost is $11 for 3 hours of skating.  If you need to rent skates\, it is an additional $5. \nSign up below:\nhttps://www.signupgenius.com/go/10C0948A4A72FAAFBCE9-61918070-roller
URL:https://xceptionalheroes.org/event/roller-skating/
LOCATION:Rollhaven\, 5315 S. Saginaw St\, Grand Blanc\, MI\, 48507\, United States
CATEGORIES:Ticket or Entry Costs
ATTACH;FMTTYPE=image/jpeg:https://xceptionalheroes.org/wp-content/uploads/2026/01/skate.jpg
END:VEVENT
BEGIN:VEVENT
DTSTART;TZID=UTC:20260211T180000
DTEND;TZID=UTC:20260211T193000
DTSTAMP:20260423T181934
CREATED:20260127T194635Z
LAST-MODIFIED:20260127T194635Z
UID:5003-1770832800-1770838200@xceptionalheroes.org
SUMMARY:Bingo Night
DESCRIPTION:Come join us for a funfilled Bingo Night! \nThis is a very popular event and always has everyone leaving with a smile on their face! \nMake sure to bring 2.75 in quarters with you to play with to win a fun\, progressive jackpot! \nSign up below: \nhttps://www.signupgenius.com/go/10C0948A4A72FAAFBCE9-61917262-bingo \n  \n 
URL:https://xceptionalheroes.org/event/bingo-night-32/
LOCATION:G3490 Miller Rd\, G3490 Miller Rd\, Flint\, MI\, 48532
CATEGORIES:Ticket or Entry Costs
ATTACH;FMTTYPE=image/jpeg:https://xceptionalheroes.org/wp-content/uploads/2025/08/FB_IMG_1755969546238.jpg
END:VEVENT
BEGIN:VEVENT
DTSTART;TZID=UTC:20260218T180000
DTEND;TZID=UTC:20260218T193000
DTSTAMP:20260423T181934
CREATED:20260127T193807Z
LAST-MODIFIED:20260127T194002Z
UID:5019-1771437600-1771443000@xceptionalheroes.org
SUMMARY:Bingo Night
DESCRIPTION:Come join us for a funfilled Bingo Night! \nThis is a very popular event and always has everyone leaving with a smile on their face! \nMake sure to bring 2.75 in quarters with you to play with for a chance to win a fun\, progressive jackpot! \nSign up below:\nhttps://www.signupgenius.com/go/10C0948A4A72FAAFBCE9-61917261-bingo \n  \n 
URL:https://xceptionalheroes.org/event/bingo-night-31/
LOCATION:Richfield Road Church\, 6259 Richfield Rd\, Flint\, 48506
CATEGORIES:Ticket or Entry Costs
ATTACH;FMTTYPE=image/jpeg:https://xceptionalheroes.org/wp-content/uploads/2025/08/FB_IMG_1755969546238.jpg
END:VEVENT
BEGIN:VEVENT
DTSTART;TZID=UTC:20260222T110000
DTEND;TZID=UTC:20260222T170000
DTSTAMP:20260423T181934
CREATED:20260127T201247Z
LAST-MODIFIED:20260127T201247Z
UID:5027-1771758000-1771779600@xceptionalheroes.org
SUMMARY:Lunch and Movie
DESCRIPTION:Join us on Sunday for Lunch and a Movie! \nThe movie we will be seeing is GOAT.  The movie time will be determined closer to the date and we will let everyone know ahead of time! We typically meet at Buffalo Wild Wings for lunch first around 11 and then will head over to the theatre. \nEveryone is responsible for their own meal\, server tip\, and movie ticket.  There are no membership costs associated with this activity. \nSign up below:\nhttps://www.signupgenius.com/go/10C0948A4A72FAAFBCE9-61917647-lunch
URL:https://xceptionalheroes.org/event/lunch-and-movie-10/
LOCATION:NCG Triullium\, 8220 Trillium Circle Ave\, Grand Blanc\, MI\, 48439\, United States
CATEGORIES:Ticket or Entry Costs
ATTACH;FMTTYPE=image/jpeg:https://xceptionalheroes.org/wp-content/uploads/2023/11/dinner.jpg
END:VEVENT
BEGIN:VEVENT
DTSTART;TZID=UTC:20260223T180000
DTEND;TZID=UTC:20260223T193000
DTSTAMP:20260423T181934
CREATED:20260127T202102Z
LAST-MODIFIED:20260127T202751Z
UID:5010-1771869600-1771875000@xceptionalheroes.org
SUMMARY:Parents/Caregivers Painting Night Out
DESCRIPTION:You asked and we have delivered! Join our art instructor\, Chris\, at The HUB for an evening of painting for our parents and caregivers! \nChris will guide the class through a painting using techniques similar to “Painting with a Twist”.  Step by step instructions and all the supplies are provided!  We are excited to finally offer some entertainment to our families who also need some fun and entertainment! \nThere is a small fee associated with this class because the funds do not come from our Hero budget and this helps to offset our costs. \nSign up below:\nhttps://www.signupgenius.com/go/10C0948A4A72FAAFBCE9-61917646-parentscaregivers \n 
URL:https://xceptionalheroes.org/event/parents-caregivers-painting-night-out/
LOCATION:G3490 Miller Rd\, G3490 Miller Rd\, Flint\, MI\, 48532
CATEGORIES:Ticket or Entry Costs
ATTACH;FMTTYPE=image/jpeg:https://xceptionalheroes.org/wp-content/uploads/2026/01/art.jpg
END:VEVENT
BEGIN:VEVENT
DTSTART;TZID=UTC:20260227T180000
DTEND;TZID=UTC:20260227T200000
DTSTAMP:20260423T181934
CREATED:20260127T204151Z
LAST-MODIFIED:20260127T204151Z
UID:5013-1772215200-1772222400@xceptionalheroes.org
SUMMARY:Bowling Night
DESCRIPTION:Join us for a “Rolling good time” at Grand Blanc Lanes for Bowling Night! Remember that if you want to bowl with a particular Hero\, you must arrive early before lane assignments are entered. \nThe 2 hour session will be $10 and we welcome parents and caregivers to join in if they please as well!  There are no membership costs associated with this event. \nPlease make sure to sign up if you would like to bowl so that we have enough lanes reserved. \nSign up below: \nhttps://www.signupgenius.com/go/10C0948A4A72FAAFBCE9-61917717-bowling \n 
URL:https://xceptionalheroes.org/event/bowling-night-19/
LOCATION:Grand Blanc Lanes\, 5301 S. Saginaw St\, Grand Blanc\, MI\, 48439\, United States
CATEGORIES:Ticket or Entry Costs
ATTACH;FMTTYPE=image/jpeg:https://xceptionalheroes.org/wp-content/uploads/2024/03/PHOTO-2024-02-03-09-16-02-2.jpg
END:VEVENT
END:VCALENDAR