BEGIN:VCALENDAR
VERSION:2.0
PRODID:-//Xceptional Heroes - ECPv6.15.20//NONSGML v1.0//EN
CALSCALE:GREGORIAN
METHOD:PUBLISH
X-ORIGINAL-URL:https://xceptionalheroes.org
X-WR-CALDESC:Events for Xceptional Heroes
REFRESH-INTERVAL;VALUE=DURATION:PT1H
X-Robots-Tag:noindex
X-PUBLISHED-TTL:PT1H
BEGIN:VTIMEZONE
TZID:UTC
BEGIN:STANDARD
TZOFFSETFROM:+0000
TZOFFSETTO:+0000
TZNAME:UTC
DTSTART:20250101T000000
END:STANDARD
END:VTIMEZONE
BEGIN:VEVENT
DTSTART;TZID=UTC:20260102T180000
DTEND;TZID=UTC:20260102T193000
DTSTAMP:20260423T194417
CREATED:20251130T180418Z
LAST-MODIFIED:20251229T192325Z
UID:4918-1767376800-1767382200@xceptionalheroes.org
SUMMARY:Adult Painting with Chris
DESCRIPTION:You asked and we have delivered! Join our art instructor\, Chris\, at The HUB for an evening of painting for our parents and caregivers! \nChris will guide the class through a painting using techniques similar to “Painting with a Twist”.  Step by step instructions and all the supplies are provided!  We are excited to finally offer some entertainment to our families who also need some fun and entertainment! \nThere is a small fee associated with this class because the funds do not come from our Hero budget and this helps to offset our costs. \nSign up below:\nhttps://www.signupgenius.com/go/10C0948A4A72FAAFBCE9-60801556-painting \n 
URL:https://xceptionalheroes.org/event/adult-painting-with-chris/
LOCATION:G3490 Miller Rd\, G3490 Miller Rd\, Flint\, MI\, 48532
CATEGORIES:Ticket or Entry Costs
ATTACH;FMTTYPE=image/jpeg:https://xceptionalheroes.org/wp-content/uploads/2025/08/Art-Class.jpg
END:VEVENT
BEGIN:VEVENT
DTSTART;TZID=UTC:20260110T190000
DTEND;TZID=UTC:20260110T220000
DTSTAMP:20260423T194417
CREATED:20251229T132011Z
LAST-MODIFIED:20251230T121352Z
UID:4952-1768071600-1768082400@xceptionalheroes.org
SUMMARY:Flint Firebirds Game
DESCRIPTION:Are you ready for another Flint Firebirds game!?\n\nWe would like everyone to meet in the lobby at 6pm so that we can distribute the tickets. We are working to try and get access to the High Five Tunnel which will require an earlier arrival.\n\nParking is $10/car\, but if you tell them you are with Xceptional Heroes\, they typically allow us in without charging us\, but it’s not a guarantee.\n\nThese games are always a hit and such a blast! The game officially starts at 7pm!\n\nThe cost for tickets is $16\, which will be paid at the time of sign up. Please sign up below:\nhttps://www.signupgenius.com/go/10C0948A4A72FAAFBCE9-61376581-flint
URL:https://xceptionalheroes.org/event/flint-firebirds-game-3/
LOCATION:Dort Financial Center\, 3501 Lapeer Rd.\, Flint\, MI\, 48503
CATEGORIES:Ticket or Entry Costs
ATTACH;FMTTYPE=image/jpeg:https://xceptionalheroes.org/wp-content/uploads/2024/11/1802_Firebirds.jpg
END:VEVENT
BEGIN:VEVENT
DTSTART;TZID=UTC:20260114T180000
DTEND;TZID=UTC:20260114T193000
DTSTAMP:20260423T194417
CREATED:20251229T133740Z
LAST-MODIFIED:20251229T133740Z
UID:4956-1768413600-1768419000@xceptionalheroes.org
SUMMARY:Bingo Night
DESCRIPTION:Come join us for a funfilled Bingo Night with Bubba! \nThis is a very popular event and always has everyone leaving with a smile on their face! \nMake sure to bring 2.75 in quarters with you to play with as Bubba has a fun progressive jackpot going! \nSign up below: \nhttps://www.signupgenius.com/go/10C0948A4A72FAAFBCE9-61376583-bingo \n  \n 
URL:https://xceptionalheroes.org/event/bingo-night-29/
LOCATION:G3490 Miller Rd\, G3490 Miller Rd\, Flint\, MI\, 48532
CATEGORIES:Ticket or Entry Costs
ATTACH;FMTTYPE=image/jpeg:https://xceptionalheroes.org/wp-content/uploads/2025/08/FB_IMG_1755969546238.jpg
END:VEVENT
BEGIN:VEVENT
DTSTART;TZID=UTC:20260118T110000
DTEND;TZID=UTC:20260118T133000
DTSTAMP:20260423T194417
CREATED:20251229T135329Z
LAST-MODIFIED:20251229T135329Z
UID:4960-1768734000-1768743000@xceptionalheroes.org
SUMMARY:Laser Tag
DESCRIPTION:Join us for a lunch and laser tag! \nThere are no appropriate movie options for January so we’ve decided to change things up a little bit!  We will meet at The Palace restaurant (next door to Grand Blanc Lanes) at 11am for lunch and move to Rollhaven for laser tag afterward! \nSign up below:\nhttps://www.signupgenius.com/go/10C0948A4A72FAAFBCE9-61376610-lunch \n 
URL:https://xceptionalheroes.org/event/laser-tag-5/
LOCATION:Rollhaven\, 5315 S. Saginaw St\, Grand Blanc\, MI\, 48507\, United States
CATEGORIES:Ticket or Entry Costs
ATTACH;FMTTYPE=image/webp:https://xceptionalheroes.org/wp-content/uploads/2024/01/Laser-Tag-Fun-1.webp
END:VEVENT
BEGIN:VEVENT
DTSTART;TZID=UTC:20260121T180000
DTEND;TZID=UTC:20260121T193000
DTSTAMP:20260423T194417
CREATED:20251229T133932Z
LAST-MODIFIED:20251229T133932Z
UID:4958-1769018400-1769023800@xceptionalheroes.org
SUMMARY:Bingo Night
DESCRIPTION:Come join us for a funfilled Bingo Night with Bubba! \nThis is a very popular event and always has everyone leaving with a smile on their face! \nMake sure to bring 2.75 in quarters with you to play with as Bubba has a fun progressive jackpot going! \nSign up below: \nhttps://www.signupgenius.com/go/10C0948A4A72FAAFBCE9-61376591-bingo \n  \n 
URL:https://xceptionalheroes.org/event/bingo-night-30/
LOCATION:Richfield Road Church\, 6259 Richfield Rd\, Flint\, 48506
CATEGORIES:Ticket or Entry Costs
ATTACH;FMTTYPE=image/jpeg:https://xceptionalheroes.org/wp-content/uploads/2025/08/FB_IMG_1755969546238.jpg
END:VEVENT
BEGIN:VEVENT
DTSTART;TZID=UTC:20260130T180000
DTEND;TZID=UTC:20260130T200000
DTSTAMP:20260423T194417
CREATED:20251229T142617Z
LAST-MODIFIED:20251229T142617Z
UID:4973-1769796000-1769803200@xceptionalheroes.org
SUMMARY:Bowling Night
DESCRIPTION:Join us for a “Rolling good time” at Grand Blanc Lanes for Bowling Night with Bubba! Remember that if you want to bowl with a particular Hero\, you must arrive early before lane assignments are entered. \nThe 2 hour session will be $10 and we welcome parents and caregivers to join in if they please as well! \nPlease make sure to sign up if you would like to bowl so that we have enough lanes reserved. \nSign up below: \nhttps://www.signupgenius.com/go/10C0948A4A72FAAFBCE9-61376606-bowling \n 
URL:https://xceptionalheroes.org/event/bowling-night-18/
LOCATION:Grand Blanc Lanes\, 5301 S. Saginaw St\, Grand Blanc\, MI\, 48439\, United States
CATEGORIES:Ticket or Entry Costs
ATTACH;FMTTYPE=image/jpeg:https://xceptionalheroes.org/wp-content/uploads/2024/03/PHOTO-2024-02-03-09-16-02-2.jpg
END:VEVENT
END:VCALENDAR