BEGIN:VCALENDAR
VERSION:2.0
PRODID:-//Xceptional Heroes - ECPv6.15.20//NONSGML v1.0//EN
CALSCALE:GREGORIAN
METHOD:PUBLISH
X-ORIGINAL-URL:https://xceptionalheroes.org
X-WR-CALDESC:Events for Xceptional Heroes
REFRESH-INTERVAL;VALUE=DURATION:PT1H
X-Robots-Tag:noindex
X-PUBLISHED-TTL:PT1H
BEGIN:VTIMEZONE
TZID:UTC
BEGIN:STANDARD
TZOFFSETFROM:+0000
TZOFFSETTO:+0000
TZNAME:UTC
DTSTART:20240101T000000
END:STANDARD
END:VTIMEZONE
BEGIN:VEVENT
DTSTART;TZID=UTC:20250920T170000
DTEND;TZID=UTC:20250920T223000
DTSTAMP:20260424T000818
CREATED:20250824T182212Z
LAST-MODIFIED:20250824T182212Z
UID:4690-1758387600-1758407400@xceptionalheroes.org
SUMMARY:Auto City Max Destruction
DESCRIPTION:Be ready to bust out your costumes early this year and dress up as a witch or a wizard and come on out to Auto City Speedway!  Gates open at 5:00pm\, racing begins at 6:00pm \nAuto City has generously offered free admission to our Heroes and $5/person for families/caregivers for this special event!  Bring a bag to get candy handed out by the drivers!  You will also be able to go onto the track and meet the drivers! \nThe restrooms are not handicap accessible\, so please make a note of this. \nSign up below:\nhttps://www.signupgenius.com/go/10C0948A4A72FAAFBCE9-58143577-auto
URL:https://xceptionalheroes.org/event/auto-city-max-destruction/
LOCATION:Auto City Speedway\, 10205 N. Saginaw Rd\, Clio\, 48420\, United States
CATEGORIES:Ticket or Entry Costs
ATTACH;FMTTYPE=image/png:https://xceptionalheroes.org/wp-content/uploads/2025/08/auto-city.png
END:VEVENT
BEGIN:VEVENT
DTSTART;TZID=UTC:20250921T110000
DTEND;TZID=UTC:20250921T170000
DTSTAMP:20260424T000818
CREATED:20250824T173157Z
LAST-MODIFIED:20250824T173157Z
UID:4679-1758452400-1758474000@xceptionalheroes.org
SUMMARY:Lunch and Movie
DESCRIPTION:Join us on Sunday for Lunch and a Movie! \nThe movie we will be seeing will be determined closer to the date and we will let everyone know ahead of time! We typically meet at Buffalo Wild Wings for lunch first around 11 and then will head over to the theatre. \nEveryone is responsible for their own meal and movie ticket. \nSign up below:\nhttps://www.signupgenius.com/go/10C0948A4A72FAAFBCE9-58140826-lunch
URL:https://xceptionalheroes.org/event/lunch-and-movie-6/
LOCATION:NCG Triullium\, 8220 Trillium Circle Ave\, Grand Blanc\, MI\, 48439\, United States
CATEGORIES:Ticket or Entry Costs
ATTACH;FMTTYPE=image/jpeg:https://xceptionalheroes.org/wp-content/uploads/2023/11/dinner.jpg
END:VEVENT
BEGIN:VEVENT
DTSTART;TZID=UTC:20250924T180000
DTEND;TZID=UTC:20250924T193000
DTSTAMP:20260424T000818
CREATED:20250824T153521Z
LAST-MODIFIED:20250824T222718Z
UID:4637-1758736800-1758742200@xceptionalheroes.org
SUMMARY:Bingo Night
DESCRIPTION:Come join us for a funfilled Bingo Night with Bubba! \nThis is a very popular event and always has everyone leaving with a smile on their face! \nMake sure to bring 2.75 in quarters with you to play with as Bubba has a fun progressive jackpot going! \nSign up below: \nhttps://www.signupgenius.com/go/10C0948A4A72FAAFBCE9-58140772-bingo \n  \n 
URL:https://xceptionalheroes.org/event/bingo-night-24/
LOCATION:Richfield Road Church\, 6259 Richfield Rd\, Flint\, 48506
CATEGORIES:Ticket or Entry Costs
ATTACH;FMTTYPE=image/jpeg:https://xceptionalheroes.org/wp-content/uploads/2025/08/FB_IMG_1755969546238.jpg
END:VEVENT
BEGIN:VEVENT
DTSTART;TZID=UTC:20250926T180000
DTEND;TZID=UTC:20250926T200000
DTSTAMP:20260424T000818
CREATED:20250824T153957Z
LAST-MODIFIED:20250824T153957Z
UID:4640-1758909600-1758916800@xceptionalheroes.org
SUMMARY:Bowling Night
DESCRIPTION:Join us for a “Rolling good time” at Grand Blanc Lanes for Bowling Night with Bubba! \nThe 2 hour session will be $10 and we welcome parents and caregivers to join in if they please as well! \nPlease make sure to sign up if you would like to bowl so that we have enough lanes reserved. \nSign up below: \nhttps://www.signupgenius.com/go/10C0948A4A72FAAFBCE9-58140864-bowling \n 
URL:https://xceptionalheroes.org/event/bowling-night-14/
LOCATION:Grand Blanc Lanes\, 5301 S. Saginaw St\, Grand Blanc\, MI\, 48439\, United States
CATEGORIES:Ticket or Entry Costs
ATTACH;FMTTYPE=image/jpeg:https://xceptionalheroes.org/wp-content/uploads/2025/07/523974567_10162167414843509_4927107405251019643_n.jpg
END:VEVENT
END:VCALENDAR