BEGIN:VCALENDAR
VERSION:2.0
PRODID:-//Xceptional Heroes - ECPv6.15.20//NONSGML v1.0//EN
CALSCALE:GREGORIAN
METHOD:PUBLISH
X-ORIGINAL-URL:https://xceptionalheroes.org
X-WR-CALDESC:Events for Xceptional Heroes
REFRESH-INTERVAL;VALUE=DURATION:PT1H
X-Robots-Tag:noindex
X-PUBLISHED-TTL:PT1H
BEGIN:VTIMEZONE
TZID:UTC
BEGIN:STANDARD
TZOFFSETFROM:+0000
TZOFFSETTO:+0000
TZNAME:UTC
DTSTART:20240101T000000
END:STANDARD
END:VTIMEZONE
BEGIN:VEVENT
DTSTART;TZID=UTC:20250810T110000
DTEND;TZID=UTC:20250810T170000
DTSTAMP:20260424T012339
CREATED:20250727T184613Z
LAST-MODIFIED:20250727T184613Z
UID:4600-1754823600-1754845200@xceptionalheroes.org
SUMMARY:Lunch and Movie
DESCRIPTION:Join us on Sunday for Lunch and a Movie! \nThe movie we will be seeing will be determined closer to the date and we will let everyone know ahead of time! We typically meet at Buffalo Wild Wings for lunch first around 11 and then will head over to the theatre. \nEveryone is responsible for their own meal and movie ticket. \nClick here to sign up! \n 
URL:https://xceptionalheroes.org/event/lunch-and-movie-5/
LOCATION:NCG Triullium\, 8220 Trillium Circle Ave\, Grand Blanc\, MI\, 48439\, United States
CATEGORIES:Ticket or Entry Costs
ATTACH;FMTTYPE=image/jpeg:https://xceptionalheroes.org/wp-content/uploads/2023/11/dinner.jpg
END:VEVENT
BEGIN:VEVENT
DTSTART;TZID=UTC:20250822T180000
DTEND;TZID=UTC:20250822T200000
DTSTAMP:20260424T012339
CREATED:20250727T191147Z
LAST-MODIFIED:20250727T191147Z
UID:4622-1755885600-1755892800@xceptionalheroes.org
SUMMARY:Bowling Night
DESCRIPTION:Join us for a “Rolling good time” at Grand Blanc Lanes for Bowling Night with Bubba! \nThe 2 hour session will be $10 and we welcome parents and caregivers to join in if they please as well! \nPlease make sure to sign up if you would like to bowl so that we have enough lanes reserved. \nClick here to sign up! \n 
URL:https://xceptionalheroes.org/event/bowling-night-13/
LOCATION:Grand Blanc Lanes\, 5301 S. Saginaw St\, Grand Blanc\, MI\, 48439\, United States
CATEGORIES:Ticket or Entry Costs
ATTACH;FMTTYPE=image/jpeg:https://xceptionalheroes.org/wp-content/uploads/2025/07/523974567_10162167414843509_4927107405251019643_n.jpg
END:VEVENT
BEGIN:VEVENT
DTSTART;TZID=UTC:20250827T180000
DTEND;TZID=UTC:20250827T193000
DTSTAMP:20260424T012339
CREATED:20250727T191527Z
LAST-MODIFIED:20250727T191527Z
UID:4627-1756317600-1756323000@xceptionalheroes.org
SUMMARY:Bingo Night
DESCRIPTION:Come join us for a funfilled Bingo Night with Bubba! \nThis is a very popular event and always has everyone leaving with a smile on their face! \nMake sure to bring 2.75 in quarters with you to play with as Bubba has a fun progressive jackpot going! \nClick here to sign up! \n  \n 
URL:https://xceptionalheroes.org/event/bingo-night-23/
LOCATION:Richfield Road Church\, 6259 Richfield Rd\, Flint\, 48506
CATEGORIES:Ticket or Entry Costs
ATTACH;FMTTYPE=image/jpeg:https://xceptionalheroes.org/wp-content/uploads/2024/04/IMG_3073.jpg
END:VEVENT
END:VCALENDAR