BEGIN:VCALENDAR
VERSION:2.0
PRODID:-//Xceptional Heroes - ECPv6.15.20//NONSGML v1.0//EN
CALSCALE:GREGORIAN
METHOD:PUBLISH
X-WR-CALNAME:Xceptional Heroes
X-ORIGINAL-URL:https://xceptionalheroes.org
X-WR-CALDESC:Events for Xceptional Heroes
REFRESH-INTERVAL;VALUE=DURATION:PT1H
X-Robots-Tag:noindex
X-PUBLISHED-TTL:PT1H
BEGIN:VTIMEZONE
TZID:UTC
BEGIN:STANDARD
TZOFFSETFROM:+0000
TZOFFSETTO:+0000
TZNAME:UTC
DTSTART:20220101T000000
END:STANDARD
END:VTIMEZONE
BEGIN:VEVENT
DTSTART;TZID=UTC:20230407T170000
DTEND;TZID=UTC:20230407T190000
DTSTAMP:20260425T154818
CREATED:20230331T141000Z
LAST-MODIFIED:20230331T141000Z
UID:2398-1680886800-1680894000@xceptionalheroes.org
SUMMARY:Bowling
DESCRIPTION:Join us in the Annex of Grand Blanc Lanes for 2 hours of bowling\, cornhole\, fowling\, and arcade games!  The cost is $10 and includes shoe rental.  GB Lanes has concessions available! \n  \nWe will cut off registration for this activity 3 days prior in order to coordinate all the pre-paid bowlers.  You are still welcome to come to this activity without registering but you will be required to pay individually at the counter on arrival. \nhttps://www.signupgenius.com/go/10C0948A4A72FAAFBCE9-bowling3 \n 
URL:https://xceptionalheroes.org/event/bowling-7/
LOCATION:Grand Blanc Lanes\, 5301 S. Saginaw St\, Grand Blanc\, MI\, 48439\, United States
CATEGORIES:Ticket or Entry Costs
ATTACH;FMTTYPE=image/jpeg:https://xceptionalheroes.org/wp-content/uploads/2022/10/bowling.jpg
END:VEVENT
BEGIN:VEVENT
DTSTART;TZID=UTC:20230412T180000
DTEND;TZID=UTC:20230412T200000
DTSTAMP:20260425T154818
CREATED:20230301T002239Z
LAST-MODIFIED:20230331T141155Z
UID:2347-1681322400-1681329600@xceptionalheroes.org
SUMMARY:Cooking Class
DESCRIPTION:Join Teresa and Chris Huff at Grand Blanc High School-West Campus\, Room 707\, for our cooking class!\nWe will be preparing breakfast for dinner in this class!  Scrambled eggs\, bacon\, french toast and pancakes\, etc!  Chris and Teresa will select 2 participants from the class to go to the grocery store and learn how to shop for ingredients (this will rotate from class to class!)\n\n\nIn order to attend\, you must register through the link below. The cost is $10/class which covers the room rental and cost of the groceries.\n\nhttps://anc.apm.activecommunities.com/gbparks/activity/search/detail/238?onlineSiteId=0&from_original_cui=true&locale=en-US
URL:https://xceptionalheroes.org/event/cooking-class-3/
LOCATION:Grand Blanc HS West Campus\, 1 Jewett Trail\, Grand Blanc\, MI\, 48439
CATEGORIES:Ticket or Entry Costs
ATTACH;FMTTYPE=image/jpeg:https://xceptionalheroes.org/wp-content/uploads/2023/03/breakfast.jpg
END:VEVENT
BEGIN:VEVENT
DTSTART;TZID=UTC:20230414T170000
DTEND;TZID=UTC:20230414T190000
DTSTAMP:20260425T154818
CREATED:20230331T141028Z
LAST-MODIFIED:20230331T141028Z
UID:2400-1681491600-1681498800@xceptionalheroes.org
SUMMARY:Bowling
DESCRIPTION:Join us in the Annex of Grand Blanc Lanes for 2 hours of bowling\, cornhole\, fowling\, and arcade games!  The cost is $10 and includes shoe rental.  GB Lanes has concessions available! \n  \nWe will cut off registration for this activity 3 days prior in order to coordinate all the pre-paid bowlers.  You are still welcome to come to this activity without registering but you will be required to pay individually at the counter on arrival. \nhttps://www.signupgenius.com/go/10C0948A4A72FAAFBCE9-bowling3 \n 
URL:https://xceptionalheroes.org/event/bowling-8/
LOCATION:Grand Blanc Lanes\, 5301 S. Saginaw St\, Grand Blanc\, MI\, 48439\, United States
CATEGORIES:Ticket or Entry Costs
ATTACH;FMTTYPE=image/jpeg:https://xceptionalheroes.org/wp-content/uploads/2022/10/bowling.jpg
END:VEVENT
BEGIN:VEVENT
DTSTART;TZID=UTC:20230416T140000
DTEND;TZID=UTC:20230416T160000
DTSTAMP:20260425T154818
CREATED:20230331T142203Z
LAST-MODIFIED:20230331T142355Z
UID:2403-1681653600-1681660800@xceptionalheroes.org
SUMMARY:XH Bowling Fundraiser
DESCRIPTION:Please join us at our fundraiser and enjoy our Heroes favorite pastime activity! There are several options available to support our cause:\n\nYou can purchase tickets for $30\, You can provide or help secure lane sponsorships for $300\, and you can donate an auction item!\n\nMany people are opting to purchase tickets and allow the Heroes to bowl in their place\, sort of “sponsoring” a Hero Team! Please be aware that this is a fundraiser and if Heroes attend\, they will be expected to purchase an admission ticket like everyone else; unless a sponsorship has been donated to them. Jennifer and Teresa will coordinate those logistics.\n\nWe are also challenging our Heroes to sell 5 tickets each. The Hero who sells the most tickets will receive their choice of 3 nights of bowling ($30 value) or a gift certificate to Leo’s Coney Island.\n\nPayment for tickets can be made via Venmo (xheroes2021)\, PayPal (xheroes2021@gmail.com)\, or directly through the donation tab on our website (xceptionalheroes.org). I will also put QR codes in the comments for Venmo and Paypal!\n\nThank you for supporting our foundation and allowing us to serve your amazing young adults!
URL:https://xceptionalheroes.org/event/2403/
LOCATION:B’s Bowling Center\, 750 S. Center Rd\, Burton\, MI\, 48506\, United States
CATEGORIES:Ticket or Entry Costs
ATTACH;FMTTYPE=image/jpeg:https://xceptionalheroes.org/wp-content/uploads/2023/03/Fundraiser-flyer.jpg
END:VEVENT
BEGIN:VEVENT
DTSTART;VALUE=DATE:20230423
DTEND;VALUE=DATE:20230424
DTSTAMP:20260425T154818
CREATED:20230331T143647Z
LAST-MODIFIED:20230331T143651Z
UID:2414-1682208000-1682294399@xceptionalheroes.org
SUMMARY:Meijer Gardens Butterfly Exhibit
DESCRIPTION:This will be an all-day field trip to Grand Rapids to enjoy the butterflies! We will coordinate a carpool convoy to assist with those who will need transportation. Pack a picnic lunch and we will have a wonderful day together! Wear comfortable clothing and walking shoes!\n\nFred & Dorothy Fichter Butterflies Are Blooming\n\nThe annual Fred & Dorothy Fichter Butterflies Are Blooming exhibition at Meijer Gardens is the largest temporary tropical butterfly exhibition in the nation. Tropical butterflies from around the world fly freely in the Lena Meijer Tropical Conservatory every March and April.\n\nThroughout the exhibition\, there is special educational programming and the Lena Meijer Children’s Garden offers butterfly-themed activities.\n\nCosts are: Adults – $20\, Seniors (65 and older) – $15\, Students w/ ID – $15\, Children (3-13) – $10\, Children (2 and younger) – Free\n\nPlease sign up below and select the appropriate ticket category in Sign up genius:\nhttps://www.signupgenius.com/go/10C0948A4A72FAAFBCE9-meijer
URL:https://xceptionalheroes.org/event/meijer-gardens-butterfly-exhibit/
LOCATION:Frederik Meijer Gardens\, 1000 E Beltline Ave NE\, Grand Rapids\, MI\, United States
CATEGORIES:Ticket or Entry Costs
ATTACH;FMTTYPE=image/jpeg:https://xceptionalheroes.org/wp-content/uploads/2023/03/butterfly.jpg
END:VEVENT
BEGIN:VEVENT
DTSTART;TZID=UTC:20230430T120000
DTEND;TZID=UTC:20230430T153000
DTSTAMP:20260425T154818
CREATED:20230331T144238Z
LAST-MODIFIED:20230331T144238Z
UID:2420-1682856000-1682868600@xceptionalheroes.org
SUMMARY:Movie Matinee & Lunch at BWW
DESCRIPTION:Come join Christopher and crew for lunch at Buffalo Wild Wings followed by Super Mario at NCG Trillium next door! The actual times will be updated closer to the date when the theater releases the movie times!
URL:https://xceptionalheroes.org/event/movie-matinee-lunch-at-bww-5/
LOCATION:NCG Triullium\, 8220 Trillium Circle Ave\, Grand Blanc\, MI\, 48439\, United States
CATEGORIES:Ticket or Entry Costs
ATTACH;FMTTYPE=image/jpeg:https://xceptionalheroes.org/wp-content/uploads/2023/03/mario.jpg
END:VEVENT
END:VCALENDAR