BEGIN:VCALENDAR
VERSION:2.0
PRODID:-//Xceptional Heroes - ECPv6.15.20//NONSGML v1.0//EN
CALSCALE:GREGORIAN
METHOD:PUBLISH
X-ORIGINAL-URL:https://xceptionalheroes.org
X-WR-CALDESC:Events for Xceptional Heroes
REFRESH-INTERVAL;VALUE=DURATION:PT1H
X-Robots-Tag:noindex
X-PUBLISHED-TTL:PT1H
BEGIN:VTIMEZONE
TZID:UTC
BEGIN:STANDARD
TZOFFSETFROM:+0000
TZOFFSETTO:+0000
TZNAME:UTC
DTSTART:20250101T000000
END:STANDARD
END:VTIMEZONE
BEGIN:VEVENT
DTSTART;TZID=UTC:20260421T173000
DTEND;TZID=UTC:20260421T183000
DTSTAMP:20260423T162902
CREATED:20260328T141851Z
LAST-MODIFIED:20260328T141851Z
UID:5184-1776792600-1776796200@xceptionalheroes.org
SUMMARY:Stretching/Fitness/Cardio Drumming
DESCRIPTION:Join us for 30 minutes of stretching and warming up before Kheila joins us at 6pm for a fun and unique way to get your body moving and enjoy some fun tunes in the process!\n\nThere is a participant limit so please only show up if you are signed up for the event\n\nClick the link below to sign up!\nhttps://www.signupgenius.com/go/10C0948A4A72FAAFBCE9-63220683-stretchingtoning\n 
URL:https://xceptionalheroes.org/event/stretching-fitness-cardio-drumming-9/
LOCATION:G3490 Miller Rd\, G3490 Miller Rd\, Flint\, MI\, 48532
CATEGORIES:Free For All
ATTACH;FMTTYPE=image/jpeg:https://xceptionalheroes.org/wp-content/uploads/2026/01/building8.jpg
END:VEVENT
END:VCALENDAR