BEGIN:VCALENDAR
VERSION:2.0
PRODID:-//Xceptional Heroes - ECPv6.15.20//NONSGML v1.0//EN
CALSCALE:GREGORIAN
METHOD:PUBLISH
X-ORIGINAL-URL:https://xceptionalheroes.org
X-WR-CALDESC:Events for Xceptional Heroes
REFRESH-INTERVAL;VALUE=DURATION:PT1H
X-Robots-Tag:noindex
X-PUBLISHED-TTL:PT1H
BEGIN:VTIMEZONE
TZID:UTC
BEGIN:STANDARD
TZOFFSETFROM:+0000
TZOFFSETTO:+0000
TZNAME:UTC
DTSTART:20250101T000000
END:STANDARD
END:VTIMEZONE
BEGIN:VEVENT
DTSTART;TZID=UTC:20260418T130000
DTEND;TZID=UTC:20260418T140000
DTSTAMP:20260423T162832
CREATED:20260328T145429Z
LAST-MODIFIED:20260328T145429Z
UID:5202-1776517200-1776520800@xceptionalheroes.org
SUMMARY:Line Dancing
DESCRIPTION:Join us at The HUB for Line Dancing lessons!  This is going to be so much fun!  The only requirement is to dress appropriately for dancing and have a huge smile on your face! \nSign up below:\nhttps://www.signupgenius.com/go/10C0948A4A72FAAFBCE9-63220764-line
URL:https://xceptionalheroes.org/event/line-dancing-3/
LOCATION:G3490 Miller Rd\, G3490 Miller Rd\, Flint\, MI\, 48532
CATEGORIES:Free For All
ATTACH;FMTTYPE=image/png:https://xceptionalheroes.org/wp-content/uploads/2026/01/linedancing.png
END:VEVENT
END:VCALENDAR