BEGIN:VCALENDAR
VERSION:2.0
PRODID:-//Xceptional Heroes - ECPv6.15.20//NONSGML v1.0//EN
CALSCALE:GREGORIAN
METHOD:PUBLISH
X-WR-CALNAME:Xceptional Heroes
X-ORIGINAL-URL:https://xceptionalheroes.org
X-WR-CALDESC:Events for Xceptional Heroes
REFRESH-INTERVAL;VALUE=DURATION:PT1H
X-Robots-Tag:noindex
X-PUBLISHED-TTL:PT1H
BEGIN:VTIMEZONE
TZID:UTC
BEGIN:STANDARD
TZOFFSETFROM:+0000
TZOFFSETTO:+0000
TZNAME:UTC
DTSTART:20250101T000000
END:STANDARD
END:VTIMEZONE
BEGIN:VEVENT
DTSTART;TZID=UTC:20260417T130000
DTEND;TZID=UTC:20260417T140000
DTSTAMP:20260423T162658
CREATED:20260328T145016Z
LAST-MODIFIED:20260328T145016Z
UID:5198-1776430800-1776434400@xceptionalheroes.org
SUMMARY:Zumba Class
DESCRIPTION:We are so excited to offer this new activity to our programming!  Let’s get up and get moving with Briana every month while dancing to fun music and getting great exercise!  Dress appropriately for movement and be sure to bring water and towels! \nSign up below:\nhttps://www.signupgenius.com/go/10C0948A4A72FAAFBCE9-63220756-zumba
URL:https://xceptionalheroes.org/event/zumba-class-4/
LOCATION:G3490 Miller Rd\, G3490 Miller Rd\, Flint\, MI\, 48532
CATEGORIES:Free For All
ATTACH;FMTTYPE=image/jpeg:https://xceptionalheroes.org/wp-content/uploads/2026/01/zumba.jpg
END:VEVENT
BEGIN:VEVENT
DTSTART;TZID=UTC:20260417T180000
DTEND;TZID=UTC:20260417T200000
DTSTAMP:20260423T162658
CREATED:20260328T145221Z
LAST-MODIFIED:20260328T145221Z
UID:5200-1776448800-1776456000@xceptionalheroes.org
SUMMARY:Karaoke Night
DESCRIPTION:Join us for a super fun evening of singing\, dancing\, and friendship!\n\nSign up below:\nhttps://www.signupgenius.com/go/10C0948A4A72FAAFBCE9-63220758-karaoke
URL:https://xceptionalheroes.org/event/karaoke-night-4/
LOCATION:G3490 Miller Rd\, G3490 Miller Rd\, Flint\, MI\, 48532
CATEGORIES:Free For All
ATTACH;FMTTYPE=image/jpeg:https://xceptionalheroes.org/wp-content/uploads/2025/12/karaoke.jpg
END:VEVENT
END:VCALENDAR