BEGIN:VCALENDAR
VERSION:2.0
PRODID:-//Xceptional Heroes - ECPv6.15.20//NONSGML v1.0//EN
CALSCALE:GREGORIAN
METHOD:PUBLISH
X-WR-CALNAME:Xceptional Heroes
X-ORIGINAL-URL:https://xceptionalheroes.org
X-WR-CALDESC:Events for Xceptional Heroes
REFRESH-INTERVAL;VALUE=DURATION:PT1H
X-Robots-Tag:noindex
X-PUBLISHED-TTL:PT1H
BEGIN:VTIMEZONE
TZID:UTC
BEGIN:STANDARD
TZOFFSETFROM:+0000
TZOFFSETTO:+0000
TZNAME:UTC
DTSTART:20250101T000000
END:STANDARD
END:VTIMEZONE
BEGIN:VEVENT
DTSTART;TZID=UTC:20260414T140000
DTEND;TZID=UTC:20260414T163000
DTSTAMP:20260423T162752
CREATED:20260328T144159Z
LAST-MODIFIED:20260328T144159Z
UID:5191-1776175200-1776184200@xceptionalheroes.org
SUMMARY:Collaboration with TDN and FIA
DESCRIPTION:XH is teaming up with The Disability Network and Flint Institute of Art again for another special project. \nThis exhibition presents 77 artworks in a wide range of media from the collection of arts administrator\, curator\, and collector Eric Key. With over 35 years of experience in the arts\, Key has long been an advocate for artists and their stories. His intent has always been to help preserve the African American experience in the arts\, and to benefit the many communities that he has been a part of—opening gateways for artists\, African Americans\, and conversations about race\, identity\, and America \nSign up below:\nhttps://www.signupgenius.com/go/10C0948A4A72FAAFBCE9-63220735-collaboration
URL:https://xceptionalheroes.org/event/collaboration-with-tdn-and-fia-5/
LOCATION:1120 East Kearsley St\, 1120 East Kearsley St\, Flint\, MI\, 48503\, United States
CATEGORIES:Free For All
ATTACH;FMTTYPE=image/jpeg:https://xceptionalheroes.org/wp-content/uploads/2026/03/download.jpg
END:VEVENT
END:VCALENDAR