BEGIN:VCALENDAR
VERSION:2.0
PRODID:-//Xceptional Heroes - ECPv6.15.20//NONSGML v1.0//EN
CALSCALE:GREGORIAN
METHOD:PUBLISH
X-WR-CALNAME:Xceptional Heroes
X-ORIGINAL-URL:https://xceptionalheroes.org
X-WR-CALDESC:Events for Xceptional Heroes
REFRESH-INTERVAL;VALUE=DURATION:PT1H
X-Robots-Tag:noindex
X-PUBLISHED-TTL:PT1H
BEGIN:VTIMEZONE
TZID:UTC
BEGIN:STANDARD
TZOFFSETFROM:+0000
TZOFFSETTO:+0000
TZNAME:UTC
DTSTART:20250101T000000
END:STANDARD
END:VTIMEZONE
BEGIN:VEVENT
DTSTART;TZID=UTC:20260411T110000
DTEND;TZID=UTC:20260411T170000
DTSTAMP:20260423T162703
CREATED:20260328T143202Z
LAST-MODIFIED:20260328T143202Z
UID:5189-1775905200-1775926800@xceptionalheroes.org
SUMMARY:Lunch and Movie
DESCRIPTION:Join us for a little Saturday movie and lunch outing! \nWe will be meeting at Buffalo Wild Wings for lunch and heading right over to the theatre afterwards to catch our movie!  The movie we will be seeing is Super Mario Galaxy! \nHeroes are responsible for their own meal\, drink\, tip\, movie admission\, and any concessions at the theater. \nSign up below:\nhttps://www.signupgenius.com/go/10C0948A4A72FAAFBCE9-63220694-lunch
URL:https://xceptionalheroes.org/event/lunch-and-movie-12/
LOCATION:NCG Triullium\, 8220 Trillium Circle Ave\, Grand Blanc\, MI\, 48439\, United States
CATEGORIES:Ticket or Entry Costs
ATTACH;FMTTYPE=image/jpeg:https://xceptionalheroes.org/wp-content/uploads/2023/11/dinner.jpg
END:VEVENT
END:VCALENDAR