BEGIN:VCALENDAR
VERSION:2.0
PRODID:-//Xceptional Heroes - ECPv6.15.20//NONSGML v1.0//EN
CALSCALE:GREGORIAN
METHOD:PUBLISH
X-ORIGINAL-URL:https://xceptionalheroes.org
X-WR-CALDESC:Events for Xceptional Heroes
REFRESH-INTERVAL;VALUE=DURATION:PT1H
X-Robots-Tag:noindex
X-PUBLISHED-TTL:PT1H
BEGIN:VTIMEZONE
TZID:UTC
BEGIN:STANDARD
TZOFFSETFROM:+0000
TZOFFSETTO:+0000
TZNAME:UTC
DTSTART:20250101T000000
END:STANDARD
END:VTIMEZONE
BEGIN:VEVENT
DTSTART;TZID=UTC:20260305T130000
DTEND;TZID=UTC:20260409T143000
DTSTAMP:20260423T180345
CREATED:20260226T001814Z
LAST-MODIFIED:20260226T001814Z
UID:5070-1772715600-1775745000@xceptionalheroes.org
SUMMARY:Pickleball Training
DESCRIPTION:Advance your pickleball skills or jump on the bandwagon and learn a new sport! \nPickleball will be a 6-week session due to Spring Break and requires a full commitment\, barring any emergency absences. \nPLEASE only sign up if you are fully committed. Xceptional Heroes is proud to share the cost of this activity by supplementing half of the fee as pickleball is considered a “special event” and simply has a one-time fee of $12.50 without the additional $5 and is separate from membership rates. Please be advised\, only Heroes with completed/approved forms are permitted to attend. \nDates- 3/5-4/9\nTime: 1-2:30\nLocation: Henry Ford Genesys \nSign up below for this fun opportunity!\nhttps://www.signupgenius.com/go/10C0948A4A72FAAFBCE9-62608447-pickleball
URL:https://xceptionalheroes.org/event/pickleball-training-3/
LOCATION:Ascension Genesys Health Club\, 801 Health Park Blvd\, Grand Blanc\, MI\, 48439
CATEGORIES:Ticket or Entry Costs
ATTACH;FMTTYPE=image/jpeg:https://xceptionalheroes.org/wp-content/uploads/2025/08/pickleball2.jpg
END:VEVENT
BEGIN:VEVENT
DTSTART;TZID=UTC:20260325T110000
DTEND;TZID=UTC:20260325T120000
DTSTAMP:20260423T180345
CREATED:20260226T213137Z
LAST-MODIFIED:20260226T213137Z
UID:5103-1774436400-1774440000@xceptionalheroes.org
SUMMARY:FIM Music Therapy
DESCRIPTION:Join us for some Music Therapy fun!\n\nFlint Institute of Music is welcoming us for a 45 minute class to teach us about about different instruments\, music generes\, and how to use different music instruments.\n\nThis is an amazing opportunity and shows that music can be therapeutic!\n\nSign up below:\nhttps://www.signupgenius.com/go/10C0948A4A72FAAFBCE9-62609269-fimmusic
URL:https://xceptionalheroes.org/event/fim-music-therapy-8/
LOCATION:Flint Institute of Music
CATEGORIES:Free For All
ATTACH;FMTTYPE=image/jpeg:https://xceptionalheroes.org/wp-content/uploads/2024/11/IMG_7211-scaled.jpg
END:VEVENT
BEGIN:VEVENT
DTSTART;TZID=UTC:20260325T180000
DTEND;TZID=UTC:20260325T193000
DTSTAMP:20260423T180345
CREATED:20260226T213340Z
LAST-MODIFIED:20260226T213340Z
UID:5105-1774461600-1774467000@xceptionalheroes.org
SUMMARY:Game Night
DESCRIPTION:Join us for Game Night! \nWe have tons of board and cards games at The HUB\, but you are welcome to bring your favorites and share with us! \nWe will be playing board games and teaching each other how to play our favorite games! \nSign up below:\nhttps://www.signupgenius.com/go/10C0948A4A72FAAFBCE9-62609271-game \n 
URL:https://xceptionalheroes.org/event/game-night-10/
LOCATION:G3490 Miller Rd\, G3490 Miller Rd\, Flint\, MI\, 48532
CATEGORIES:Free For All
ATTACH;FMTTYPE=image/png:https://xceptionalheroes.org/wp-content/uploads/2024/12/Game-Night-Event-Image.png
END:VEVENT
END:VCALENDAR