BEGIN:VCALENDAR
VERSION:2.0
PRODID:-//Xceptional Heroes - ECPv6.15.20//NONSGML v1.0//EN
CALSCALE:GREGORIAN
METHOD:PUBLISH
X-WR-CALNAME:Xceptional Heroes
X-ORIGINAL-URL:https://xceptionalheroes.org
X-WR-CALDESC:Events for Xceptional Heroes
REFRESH-INTERVAL;VALUE=DURATION:PT1H
X-Robots-Tag:noindex
X-PUBLISHED-TTL:PT1H
BEGIN:VTIMEZONE
TZID:UTC
BEGIN:STANDARD
TZOFFSETFROM:+0000
TZOFFSETTO:+0000
TZNAME:UTC
DTSTART:20250101T000000
END:STANDARD
END:VTIMEZONE
BEGIN:VEVENT
DTSTART;TZID=UTC:20260108T130000
DTEND;TZID=UTC:20260226T143000
DTSTAMP:20260423T203100
CREATED:20251229T125941Z
LAST-MODIFIED:20251229T125941Z
UID:4947-1767877200-1772116200@xceptionalheroes.org
SUMMARY:Pickleball Training
DESCRIPTION:Join us for another wonderful round of Pickleball classes!  This sign up is ONLY for participants who have committed to the full 8-week session.  Please do not drop in\, as this is a structured activity and has a strict limit on attendees. \nWe meet every Thursday at the Henry Ford Health Center\, the same building we do fitness and we meet from 1:00pm-2:30pm! \nThis class is very popular and has a limited number of participants so make sure to sign up quickly to secure your spot and please make sure you can attend every class as we would hate for you to miss most of the classes and or take a spot of someone that would like to be present every week. \nBy signing up below\, you are stating that you have committed to attending the full 8-week session:\nhttps://www.signupgenius.com/go/10C0948A4A72FAAFBCE9-61376567-pickleball
URL:https://xceptionalheroes.org/event/pickleball-training-2/
LOCATION:Ascension Genesys Health Club\, 801 Health Park Blvd\, Grand Blanc\, MI\, 48439
ATTACH;FMTTYPE=image/jpeg:https://xceptionalheroes.org/wp-content/uploads/2025/08/pickleball2.jpg
END:VEVENT
BEGIN:VEVENT
DTSTART;TZID=UTC:20260120T110000
DTEND;TZID=UTC:20260120T120000
DTSTAMP:20260423T203100
CREATED:20251229T140503Z
LAST-MODIFIED:20251229T140503Z
UID:4965-1768906800-1768910400@xceptionalheroes.org
SUMMARY:Mall Walking with GHS Social Club
DESCRIPTION:The GHS Social Club has invited XH to join them at Courtland Center for a fun hour of mall walking! Grab your water\, tennis shoes\, and comfy clothes and be sure to meet us at the Courtland Center to walk off all those Christmas cookies we enjoyed over the holidays!\n\nSign up below:\nhttps://www.signupgenius.com/go/10C0948A4A72FAAFBCE9-61376680-mall
URL:https://xceptionalheroes.org/event/mall-walking-with-ghs-social-club/
LOCATION:Courtland Center Mall
CATEGORIES:Free For All
ATTACH;FMTTYPE=image/jpeg:https://xceptionalheroes.org/wp-content/uploads/2025/02/shutterstock_788590396-scaled-1.jpg
END:VEVENT
BEGIN:VEVENT
DTSTART;TZID=UTC:20260120T173000
DTEND;TZID=UTC:20260120T183000
DTSTAMP:20260423T203100
CREATED:20251229T125707Z
LAST-MODIFIED:20251229T125707Z
UID:4945-1768930200-1768933800@xceptionalheroes.org
SUMMARY:Stretching/Fitness/Cardio Drumming
DESCRIPTION:Join us for 30 minutes of stretching and warming up before Kheila joins us at 6pm for a fun and unique way to get your body moving and enjoy some fun tunes in the process!\n\nThere is a participant limit so please only show up if you are signed up for the event\n\nClick the link below to sign up!\nhttps://www.signupgenius.com/go/10C0948A4A72FAAFBCE9-61376568-stretchingtoning\n 
URL:https://xceptionalheroes.org/event/stretching-fitness-cardio-drumming-3/
LOCATION:G3490 Miller Rd\, G3490 Miller Rd\, Flint\, MI\, 48532
CATEGORIES:Free For All
ATTACH;FMTTYPE=image/jpeg:https://xceptionalheroes.org/wp-content/uploads/2025/07/517125853_10163006662914928_6359084589592012239_n.jpg
END:VEVENT
BEGIN:VEVENT
DTSTART;TZID=UTC:20260120T180000
DTEND;TZID=UTC:20260120T193000
DTSTAMP:20260423T203100
CREATED:20251229T135656Z
LAST-MODIFIED:20251229T135656Z
UID:4962-1768932000-1768937400@xceptionalheroes.org
SUMMARY:Art Class
DESCRIPTION:Join us for Art Class with Chris! \n\nCome work with our talented instructor\, Chris\, to create amazing works of art! No two projects are ever the same and Chris really works to make some very fun and unique projects! If you haven’t already registered\, please arrive 15 minutes early to complete the paperwork with Mundy Township!\nSign up below:\nhttps://www.signupgenius.com/go/10C0948A4A72FAAFBCE9-61376598-artclass \n 
URL:https://xceptionalheroes.org/event/art-class-9/
LOCATION:1286 W Hill Rd\, 1286 W. Hill Rd.\, Flint\, MI\, 48507\, United States
CATEGORIES:Free For All
ATTACH;FMTTYPE=image/jpeg:https://xceptionalheroes.org/wp-content/uploads/2025/12/art1.jpg
END:VEVENT
END:VCALENDAR