BEGIN:VCALENDAR
VERSION:2.0
PRODID:-//Xceptional Heroes - ECPv6.15.20//NONSGML v1.0//EN
CALSCALE:GREGORIAN
METHOD:PUBLISH
X-ORIGINAL-URL:https://xceptionalheroes.org
X-WR-CALDESC:Events for Xceptional Heroes
REFRESH-INTERVAL;VALUE=DURATION:PT1H
X-Robots-Tag:noindex
X-PUBLISHED-TTL:PT1H
BEGIN:VTIMEZONE
TZID:UTC
BEGIN:STANDARD
TZOFFSETFROM:+0000
TZOFFSETTO:+0000
TZNAME:UTC
DTSTART:20240101T000000
END:STANDARD
END:VTIMEZONE
BEGIN:VEVENT
DTSTART;TZID=UTC:20251219T180000
DTEND;TZID=UTC:20251219T200000
DTSTAMP:20260423T213519
CREATED:20251128T133715Z
LAST-MODIFIED:20251128T133715Z
UID:4890-1766167200-1766174400@xceptionalheroes.org
SUMMARY:Group Activity with Powers Volunteers
DESCRIPTION:Our volunteers from Powers Catholic High School would love the opportunity to host a group activity with our Heroes.  We will be doing crafts\, playing games\, and decorating cookies! \nSpace is limited for this activity\, so please do not show up if you haven’t registered.  Sign up below: \nhttps://www.signupgenius.com/go/10C0948A4A72FAAFBCE9-60791955-group
URL:https://xceptionalheroes.org/event/group-activity-with-powers-volunteers/
LOCATION:G3490 Miller Rd\, G3490 Miller Rd\, Flint\, MI\, 48532
CATEGORIES:Free For All
ATTACH;FMTTYPE=image/jpeg:https://xceptionalheroes.org/wp-content/uploads/2022/12/IMG_20220119_170341989_HDR.jpg
END:VEVENT
END:VCALENDAR