BEGIN:VCALENDAR
VERSION:2.0
PRODID:-//Xceptional Heroes - ECPv6.15.20//NONSGML v1.0//EN
CALSCALE:GREGORIAN
METHOD:PUBLISH
X-WR-CALNAME:Xceptional Heroes
X-ORIGINAL-URL:https://xceptionalheroes.org
X-WR-CALDESC:Events for Xceptional Heroes
REFRESH-INTERVAL;VALUE=DURATION:PT1H
X-Robots-Tag:noindex
X-PUBLISHED-TTL:PT1H
BEGIN:VTIMEZONE
TZID:UTC
BEGIN:STANDARD
TZOFFSETFROM:+0000
TZOFFSETTO:+0000
TZNAME:UTC
DTSTART:20240101T000000
END:STANDARD
END:VTIMEZONE
BEGIN:VEVENT
DTSTART;TZID=UTC:20251216T180000
DTEND;TZID=UTC:20251216T193000
DTSTAMP:20260423T213434
CREATED:20251127T173712Z
LAST-MODIFIED:20251127T173712Z
UID:4879-1765908000-1765913400@xceptionalheroes.org
SUMMARY:Art Class
DESCRIPTION:Join us for Art Class! REMEMBER\, we are in a new location! The new building is in Mundy Miracle Commons on Hill Rd.! \n\nCome work with our talented instructor\, Chris\, to create amazing works of art! No two projects are ever the same and Chris really works to make some very fun and unique projects! If you haven’t already registered\, please arrive 15 minutes early to complete the paperwork with Mundy Township!\nSign up below:\nhttps://www.signupgenius.com/go/10C0948A4A72FAAFBCE9-60791939-artclass \n 
URL:https://xceptionalheroes.org/event/art-class-7/
LOCATION:1286 W Hill Rd\, 1286 W. Hill Rd.\, Flint\, MI\, 48507\, United States
CATEGORIES:Free For All
ATTACH;FMTTYPE=image/jpeg:https://xceptionalheroes.org/wp-content/uploads/2025/08/Art-Class.jpg
END:VEVENT
END:VCALENDAR