BEGIN:VCALENDAR
VERSION:2.0
PRODID:-//Xceptional Heroes - ECPv6.15.20//NONSGML v1.0//EN
CALSCALE:GREGORIAN
METHOD:PUBLISH
X-WR-CALNAME:Xceptional Heroes
X-ORIGINAL-URL:https://xceptionalheroes.org
X-WR-CALDESC:Events for Xceptional Heroes
REFRESH-INTERVAL;VALUE=DURATION:PT1H
X-Robots-Tag:noindex
X-PUBLISHED-TTL:PT1H
BEGIN:VTIMEZONE
TZID:UTC
BEGIN:STANDARD
TZOFFSETFROM:+0000
TZOFFSETTO:+0000
TZNAME:UTC
DTSTART:20240101T000000
END:STANDARD
END:VTIMEZONE
BEGIN:VEVENT
DTSTART;TZID=UTC:20251213T180000
DTEND;TZID=UTC:20251213T220000
DTSTAMP:20260423T213433
CREATED:20251128T145022Z
LAST-MODIFIED:20251128T145415Z
UID:4909-1765648800-1765663200@xceptionalheroes.org
SUMMARY:4th Annual Holiday Party
DESCRIPTION:This is the EVENT OF THE YEAR for Xceptional Heroes!\nIt’s the grande finale of another wonderful year of activities\, friendship\, community inclusion\, and independence building for our Heroes! We will have a wonderful menu\, DJ\, photo booth\, and so much more!\n\nRegistration is required due to the limited space available at our venue. Anyone not signed up will not be able to attend this function. A waitlist will be available\, but we are not able to honor any walk-in’s for this event.\n\nDress in your very best or just dress to be yourself and be comfortable! The most important thing is that you come and enjoy your evening with our Hero Family!\n\nWe have grown exponentially over the years and our need for volunteers to help us make this the greatest evening ever for our Heroes has also increased! Please consider signing up to be a volunteer for this event! It is SO appreciated!\n\nThe sign up for Heroes and Volunteers is below! We will be monitoring this closely for any duplications. Please ONLY sign up for yourself. If you have a friend or significant other you want to attend with you\, they must sign up themselves. We have a very short deadline to provide our final headcount so don’t hesitate or all the spots will fill up quickly!\n\n\nhttps://www.signupgenius.com/go/10C0948A4A72FAAFBCE9-60778259-4thannual
URL:https://xceptionalheroes.org/event/4th-annual-holiday-party/
LOCATION:Flint Elks\, 7177 E. Maple Ave\, Grand Blanc\, MI\, 48439
CATEGORIES:Free For All
ATTACH;FMTTYPE=image/png:https://xceptionalheroes.org/wp-content/uploads/2025/11/Party-Announcement.png
END:VEVENT
END:VCALENDAR