BEGIN:VCALENDAR
VERSION:2.0
PRODID:-//Xceptional Heroes - ECPv6.15.20//NONSGML v1.0//EN
CALSCALE:GREGORIAN
METHOD:PUBLISH
X-ORIGINAL-URL:https://xceptionalheroes.org
X-WR-CALDESC:Events for Xceptional Heroes
REFRESH-INTERVAL;VALUE=DURATION:PT1H
X-Robots-Tag:noindex
X-PUBLISHED-TTL:PT1H
BEGIN:VTIMEZONE
TZID:UTC
BEGIN:STANDARD
TZOFFSETFROM:+0000
TZOFFSETTO:+0000
TZNAME:UTC
DTSTART:20240101T000000
END:STANDARD
END:VTIMEZONE
BEGIN:VEVENT
DTSTART;TZID=UTC:20251205T173000
DTEND;TZID=UTC:20251205T200000
DTSTAMP:20260423T213519
CREATED:20251128T140406Z
LAST-MODIFIED:20251128T140406Z
UID:4902-1764955800-1764964800@xceptionalheroes.org
SUMMARY:Holiday Tree Lighting
DESCRIPTION:This is a fun annual event where we enjoy an evening of lighted walking trails\, hot cocoa (made by Teresa!!)\, seeing Santa\, watching the tree lighting\, and there is always a fantastic fireworks show afterward! We meet at the Main Pavilion usually around 5:30pm\, but the event begins at 6pm!\n\nSign up below:\n\nhttps://www.signupgenius.com/go/10C0948A4A72FAAFBCE9-60791933-holiday
URL:https://xceptionalheroes.org/event/holiday-tree-lighting-2/
LOCATION:Bicentennial Park\, 1505 E. Grand Blanc Rd\, Grand Blanc\, MI\, 48439\, United States
CATEGORIES:Free For All
ATTACH;FMTTYPE=image/jpeg:https://xceptionalheroes.org/wp-content/uploads/2022/11/tree.jpg
END:VEVENT
END:VCALENDAR