BEGIN:VCALENDAR
VERSION:2.0
PRODID:-//Xceptional Heroes - ECPv6.15.20//NONSGML v1.0//EN
CALSCALE:GREGORIAN
METHOD:PUBLISH
X-ORIGINAL-URL:https://xceptionalheroes.org
X-WR-CALDESC:Events for Xceptional Heroes
REFRESH-INTERVAL;VALUE=DURATION:PT1H
X-Robots-Tag:noindex
X-PUBLISHED-TTL:PT1H
BEGIN:VTIMEZONE
TZID:UTC
BEGIN:STANDARD
TZOFFSETFROM:+0000
TZOFFSETTO:+0000
TZNAME:UTC
DTSTART:20240101T000000
END:STANDARD
END:VTIMEZONE
BEGIN:VEVENT
DTSTART;TZID=UTC:20251118T180000
DTEND;TZID=UTC:20251118T183000
DTSTAMP:20260423T222955
CREATED:20251022T151147Z
LAST-MODIFIED:20251022T151147Z
UID:4832-1763488800-1763490600@xceptionalheroes.org
SUMMARY:XH North Drumming
DESCRIPTION:Join us for an amazing opportunity to get a good workout in! \nWe are offering a class for our Heroes to have some fun drumming and working up a sweat! \nThis event has been a huge hit and you won’t want to miss out! \nPlease make sure to sign up for this event as there is a strict participation limit. \nSign up below! \nhttps://www.signupgenius.com/go/10C0948A4A72FAAFBCE9-59840655-drumming \n 
URL:https://xceptionalheroes.org/event/xh-north-drumming-13/
LOCATION:12167 N Lewis Rd Clio\, MI\, 12167 N Lewis Rd\, Clio\, Michigan\, 48420
CATEGORIES:Free For All
ATTACH;FMTTYPE=image/jpeg:https://xceptionalheroes.org/wp-content/uploads/2025/03/IMG_4345.jpg
END:VEVENT
BEGIN:VEVENT
DTSTART;TZID=UTC:20251118T180000
DTEND;TZID=UTC:20251118T193000
DTSTAMP:20260423T222955
CREATED:20251024T103956Z
LAST-MODIFIED:20251024T103956Z
UID:4859-1763488800-1763494200@xceptionalheroes.org
SUMMARY:Art Class
DESCRIPTION:Join us for Art Class! REMEMBER\, we are in a new location! The new building is in Mundy Miracle Commons on Hill Rd.! \n\nCome work with our talented instructor\, Chris\, to create amazing works of art! No two projects are ever the same and Chris really works to make some very fun and unique projects! If you haven’t already registered\, please arrive 15 minutes early to complete the paperwork with Mundy Township!\nSign up below:\nhttps://www.signupgenius.com/go/10C0948A4A72FAAFBCE9-59908471-copy \n 
URL:https://xceptionalheroes.org/event/art-class-6/
LOCATION:1286 W Hill Rd\, 1286 W. Hill Rd.\, Flint\, MI\, 48507\, United States
CATEGORIES:Free For All
ATTACH;FMTTYPE=image/jpeg:https://xceptionalheroes.org/wp-content/uploads/2025/08/Art-Class.jpg
END:VEVENT
END:VCALENDAR