BEGIN:VCALENDAR
VERSION:2.0
PRODID:-//Xceptional Heroes - ECPv6.15.20//NONSGML v1.0//EN
CALSCALE:GREGORIAN
METHOD:PUBLISH
X-WR-CALNAME:Xceptional Heroes
X-ORIGINAL-URL:https://xceptionalheroes.org
X-WR-CALDESC:Events for Xceptional Heroes
REFRESH-INTERVAL;VALUE=DURATION:PT1H
X-Robots-Tag:noindex
X-PUBLISHED-TTL:PT1H
BEGIN:VTIMEZONE
TZID:UTC
BEGIN:STANDARD
TZOFFSETFROM:+0000
TZOFFSETTO:+0000
TZNAME:UTC
DTSTART:20240101T000000
END:STANDARD
END:VTIMEZONE
BEGIN:VEVENT
DTSTART;TZID=UTC:20250918T130000
DTEND;TZID=UTC:20251106T143000
DTSTAMP:20260423T234607
CREATED:20250824T225905Z
LAST-MODIFIED:20250824T225905Z
UID:4694-1758200400-1762439400@xceptionalheroes.org
SUMMARY:Pickleball Training
DESCRIPTION:Join us for another wonderful round of Pickleball classes!  This sign up is ONLY for participants who have committed to the full 8-week session.  Please do not drop in\, as this is a structured activity and has a strict limit on attendees. \nWe meet every Thursday at the Henry Ford Health Center\, the same building we do fitness and we meet from 1:00pm-2:30pm! \nThis class is very popular and has a limited number of participants so make sure to sign up quickly to secure your spot and please make sure you can attend every class as we would hate for you to miss most of the classes and or take a spot of someone that would like to be present every week. \nBy signing up below\, you are stating that you have committed to attending the full 8-week session:\nhttps://www.signupgenius.com/go/10C0948A4A72FAAFBCE9-58140809-pickleball
URL:https://xceptionalheroes.org/event/pickleball-training/
LOCATION:Ascension Genesys Health Club\, 801 Health Park Blvd\, Grand Blanc\, MI\, 48439
ATTACH;FMTTYPE=image/jpeg:https://xceptionalheroes.org/wp-content/uploads/2025/08/pickleball2.jpg
END:VEVENT
BEGIN:VEVENT
DTSTART;TZID=UTC:20251021T180000
DTEND;TZID=UTC:20251021T193000
DTSTAMP:20260423T234607
CREATED:20250925T175839Z
LAST-MODIFIED:20250925T175839Z
UID:4763-1761069600-1761075000@xceptionalheroes.org
SUMMARY:Art Class
DESCRIPTION:Join us for Art Class! REMEMBER\, we are in a new location beginning this month! The new building is in Mundy Miracle Commons on Hill Rd.! \n\nCome work with our talented instructor\, Chris\, to create amazing works of art! No two projects are ever the same and Chris really works to make some very fun and unique projects! If you haven’t already registered\, please arrive 15 minutes early to complete the paperwork with Mundy Township!\n\nSign up below:\nhttps://www.signupgenius.com/go/10C0948A4A72FAAFBCE9-58996550-artclass \n 
URL:https://xceptionalheroes.org/event/art-class-5/
LOCATION:1286 W Hill Rd\, 1286 W. Hill Rd.\, Flint\, MI\, 48507\, United States
CATEGORIES:Free For All
ATTACH;FMTTYPE=image/jpeg:https://xceptionalheroes.org/wp-content/uploads/2025/08/Art-Class.jpg
END:VEVENT
BEGIN:VEVENT
DTSTART;TZID=UTC:20251021T183000
DTEND;TZID=UTC:20251021T193000
DTSTAMP:20260423T234607
CREATED:20250925T184742Z
LAST-MODIFIED:20250925T184742Z
UID:4782-1761071400-1761075000@xceptionalheroes.org
SUMMARY:Fun w/ Fitness in the North
DESCRIPTION:Join us in the North getting fit and healthy – either indoors or outdoors\, as weather permits! \nWe will have lots of activities planned like pickleball\, kickball\, walking\, and a new bean bag baseball game! \nThese activities will differ depending on the weather but surely fun will be had by all! \nSign up below:\nhttps://www.signupgenius.com/go/10C0948A4A72FAAFBCE9-58996092-funwfitness \n 
URL:https://xceptionalheroes.org/event/fun-w-fitness-in-the-north-9/
LOCATION:12167 N Lewis Rd Clio\, MI\, 12167 N Lewis Rd\, Clio\, Michigan\, 48420
CATEGORIES:Free For All
ATTACH;FMTTYPE=image/jpeg:https://xceptionalheroes.org/wp-content/uploads/2024/03/IMG_3043-scaled.jpeg
END:VEVENT
END:VCALENDAR