BEGIN:VCALENDAR
VERSION:2.0
PRODID:-//Xceptional Heroes - ECPv6.15.20//NONSGML v1.0//EN
CALSCALE:GREGORIAN
METHOD:PUBLISH
X-WR-CALNAME:Xceptional Heroes
X-ORIGINAL-URL:https://xceptionalheroes.org
X-WR-CALDESC:Events for Xceptional Heroes
REFRESH-INTERVAL;VALUE=DURATION:PT1H
X-Robots-Tag:noindex
X-PUBLISHED-TTL:PT1H
BEGIN:VTIMEZONE
TZID:UTC
BEGIN:STANDARD
TZOFFSETFROM:+0000
TZOFFSETTO:+0000
TZNAME:UTC
DTSTART:20240101T000000
END:STANDARD
END:VTIMEZONE
BEGIN:VEVENT
DTSTART;TZID=UTC:20250918T130000
DTEND;TZID=UTC:20251106T143000
DTSTAMP:20260424T010328
CREATED:20250824T225905Z
LAST-MODIFIED:20250824T225905Z
UID:4694-1758200400-1762439400@xceptionalheroes.org
SUMMARY:Pickleball Training
DESCRIPTION:Join us for another wonderful round of Pickleball classes!  This sign up is ONLY for participants who have committed to the full 8-week session.  Please do not drop in\, as this is a structured activity and has a strict limit on attendees. \nWe meet every Thursday at the Henry Ford Health Center\, the same building we do fitness and we meet from 1:00pm-2:30pm! \nThis class is very popular and has a limited number of participants so make sure to sign up quickly to secure your spot and please make sure you can attend every class as we would hate for you to miss most of the classes and or take a spot of someone that would like to be present every week. \nBy signing up below\, you are stating that you have committed to attending the full 8-week session:\nhttps://www.signupgenius.com/go/10C0948A4A72FAAFBCE9-58140809-pickleball
URL:https://xceptionalheroes.org/event/pickleball-training/
LOCATION:Ascension Genesys Health Club\, 801 Health Park Blvd\, Grand Blanc\, MI\, 48439
ATTACH;FMTTYPE=image/jpeg:https://xceptionalheroes.org/wp-content/uploads/2025/08/pickleball2.jpg
END:VEVENT
BEGIN:VEVENT
DTSTART;TZID=UTC:20250925T110000
DTEND;TZID=UTC:20250925T120000
DTSTAMP:20260424T010328
CREATED:20250824T164711Z
LAST-MODIFIED:20250826T214053Z
UID:4669-1758798000-1758801600@xceptionalheroes.org
SUMMARY:Fun w/ Fitness
DESCRIPTION:Join us for Fitness with Tamara!  Make sure to dress appropriately\, consider the weather as when it permits\, we will still try to get outdoors as much as possible.  Bring plenty of water to get you through! \nWe will post on the page if weather seems it will be bad to let everyone know if we will cancel \nSign up below:\nhttps://www.signupgenius.com/go/10C0948A4A72FAAFBCE9-58141696-funwfitness \n 
URL:https://xceptionalheroes.org/event/fun-w-fitness-19/
LOCATION:Ascension Genesys Health Club\, 801 Health Park Blvd\, Grand Blanc\, MI\, 48439
CATEGORIES:Free For All
ATTACH;FMTTYPE=image/jpeg:https://xceptionalheroes.org/wp-content/uploads/2024/12/IMG_4229.jpg
END:VEVENT
BEGIN:VEVENT
DTSTART;TZID=UTC:20250925T180000
DTEND;TZID=UTC:20250925T193000
DTSTAMP:20260424T010328
CREATED:20250824T174701Z
LAST-MODIFIED:20250824T174701Z
UID:4684-1758823200-1758828600@xceptionalheroes.org
SUMMARY:Painting Class in the North
DESCRIPTION:Join us in the North for an amazing painting class!\n\nCome by and learn the ins and outs of painting. We will be learning different techniques and styles!\n\nWe hope to see you all there and can’t wait to see what we create!\n\nSign up below:\nhttps://www.signupgenius.com/go/10C0948A4A72FAAFBCE9-58140867-painting\n 
URL:https://xceptionalheroes.org/event/painting-class-in-the-north-2/
LOCATION:12167 N Lewis Rd Clio\, MI\, 12167 N Lewis Rd\, Clio\, Michigan\, 48420
CATEGORIES:Free For All
ATTACH;FMTTYPE=image/jpeg:https://xceptionalheroes.org/wp-content/uploads/2025/08/Art-Class.jpg
END:VEVENT
END:VCALENDAR