BEGIN:VCALENDAR
VERSION:2.0
PRODID:-//Xceptional Heroes - ECPv6.15.20//NONSGML v1.0//EN
CALSCALE:GREGORIAN
METHOD:PUBLISH
X-WR-CALNAME:Xceptional Heroes
X-ORIGINAL-URL:https://xceptionalheroes.org
X-WR-CALDESC:Events for Xceptional Heroes
REFRESH-INTERVAL;VALUE=DURATION:PT1H
X-Robots-Tag:noindex
X-PUBLISHED-TTL:PT1H
BEGIN:VTIMEZONE
TZID:UTC
BEGIN:STANDARD
TZOFFSETFROM:+0000
TZOFFSETTO:+0000
TZNAME:UTC
DTSTART:20240101T000000
END:STANDARD
END:VTIMEZONE
BEGIN:VEVENT
DTSTART;TZID=UTC:20250917T180000
DTEND;TZID=UTC:20250917T183000
DTSTAMP:20260424T010330
CREATED:20250824T160834Z
LAST-MODIFIED:20250824T160834Z
UID:4655-1758132000-1758133800@xceptionalheroes.org
SUMMARY:Cardio Drumming
DESCRIPTION:Join Kheila for a fun and unique way to get your body moving and enjoy some fun tunes in the process! \nThere is a participant limit so please only show up if you are signed up for the event. \nSign up below:\nhttps://www.signupgenius.com/go/10C0948A4A72FAAFBCE9-58141384-cardio \n 
URL:https://xceptionalheroes.org/event/cardio-drumming/
LOCATION:Richfield Road Church\, 6259 Richfield Rd\, Flint\, 48506
CATEGORIES:Free For All
ATTACH;FMTTYPE=image/jpeg:https://xceptionalheroes.org/wp-content/uploads/2025/07/517125853_10163006662914928_6359084589592012239_n.jpg
END:VEVENT
BEGIN:VEVENT
DTSTART;TZID=UTC:20250917T180000
DTEND;TZID=UTC:20250917T193000
DTSTAMP:20260424T010330
CREATED:20250824T172233Z
LAST-MODIFIED:20250824T172233Z
UID:4677-1758132000-1758137400@xceptionalheroes.org
SUMMARY:Game Night/Legos in the North
DESCRIPTION:Do you enjoy boardgames or card games?!\n\nJoin us in the North for a game night!\n\nWe will be learning how to play certain games and teaching others how to play our favorite games!\nMake sure to sign up if you plan on attending so that we can plan accordingly!\nSign up below:\nhttps://www.signupgenius.com/go/10C0948A4A72FAAFBCE9-58142581-game
URL:https://xceptionalheroes.org/event/game-night-legos-in-the-north/
LOCATION:12167 N Lewis Rd Clio\, MI\, 12167 N Lewis Rd\, Clio\, Michigan\, 48420
CATEGORIES:Free For All
ATTACH;FMTTYPE=image/png:https://xceptionalheroes.org/wp-content/uploads/2024/12/Game-Night-Event-Image.png
END:VEVENT
END:VCALENDAR