BEGIN:VCALENDAR
VERSION:2.0
PRODID:-//Xceptional Heroes - ECPv6.15.20//NONSGML v1.0//EN
CALSCALE:GREGORIAN
METHOD:PUBLISH
X-ORIGINAL-URL:https://xceptionalheroes.org
X-WR-CALDESC:Events for Xceptional Heroes
REFRESH-INTERVAL;VALUE=DURATION:PT1H
X-Robots-Tag:noindex
X-PUBLISHED-TTL:PT1H
BEGIN:VTIMEZONE
TZID:UTC
BEGIN:STANDARD
TZOFFSETFROM:+0000
TZOFFSETTO:+0000
TZNAME:UTC
DTSTART:20240101T000000
END:STANDARD
END:VTIMEZONE
BEGIN:VEVENT
DTSTART;TZID=UTC:20250916T180000
DTEND;TZID=UTC:20250916T193000
DTSTAMP:20260424T010351
CREATED:20250824T152746Z
LAST-MODIFIED:20250824T152746Z
UID:4634-1758045600-1758051000@xceptionalheroes.org
SUMMARY:Art Class
DESCRIPTION:Join us for Art Classes! All participants need to arrive approximately 15 minutes early to complete some registration forms for Mundy Township! \nCome work with our talented instructor\, Chris\, to create amazing works of art!  We are always looking for new ways to get our minds working and no two projects are ever the same! \nSign up below: \nhttps://www.signupgenius.com/go/10C0948A4A72FAAFBCE9-58140788-artclass \n  \n 
URL:https://xceptionalheroes.org/event/art-class-4/
LOCATION:Mundy Township senior and enrichment center
CATEGORIES:Free For All
ATTACH;FMTTYPE=image/jpeg:https://xceptionalheroes.org/wp-content/uploads/2025/08/Art-Class.jpg
END:VEVENT
BEGIN:VEVENT
DTSTART;TZID=UTC:20250916T183000
DTEND;TZID=UTC:20250916T193000
DTSTAMP:20260424T010351
CREATED:20250824T165313Z
LAST-MODIFIED:20250824T165313Z
UID:4671-1758047400-1758051000@xceptionalheroes.org
SUMMARY:Fun w/ Fitness in the North
DESCRIPTION:Join us in the North getting fit and healthy – either indoors or outdoors\, as weather permits! \nWe will have lots of activities planned like pickleball\, kickball\, walking\, and a new bean bag baseball game! \nThese activities will differ depending on the weather but surely fun will be had by all! \nSign up below:\nhttps://www.signupgenius.com/go/10C0948A4A72FAAFBCE9-58140881-funwfitness \n 
URL:https://xceptionalheroes.org/event/fun-w-fitness-in-the-north-6/
LOCATION:12167 N Lewis Rd Clio\, MI\, 12167 N Lewis Rd\, Clio\, Michigan\, 48420
CATEGORIES:Free For All
ATTACH;FMTTYPE=image/jpeg:https://xceptionalheroes.org/wp-content/uploads/2024/03/IMG_3043-scaled.jpeg
END:VEVENT
END:VCALENDAR