BEGIN:VCALENDAR
VERSION:2.0
PRODID:-//Xceptional Heroes - ECPv6.15.20//NONSGML v1.0//EN
CALSCALE:GREGORIAN
METHOD:PUBLISH
X-ORIGINAL-URL:https://xceptionalheroes.org
X-WR-CALDESC:Events for Xceptional Heroes
REFRESH-INTERVAL;VALUE=DURATION:PT1H
X-Robots-Tag:noindex
X-PUBLISHED-TTL:PT1H
BEGIN:VTIMEZONE
TZID:UTC
BEGIN:STANDARD
TZOFFSETFROM:+0000
TZOFFSETTO:+0000
TZNAME:UTC
DTSTART:20240101T000000
END:STANDARD
END:VTIMEZONE
BEGIN:VEVENT
DTSTART;TZID=UTC:20250912T180000
DTEND;TZID=UTC:20250912T200000
DTSTAMP:20260424T010350
CREATED:20250824T173912Z
LAST-MODIFIED:20250824T173940Z
UID:4681-1757700000-1757707200@xceptionalheroes.org
SUMMARY:Monthly Social
DESCRIPTION:Join us for our Monthly Social! \nThis is a great way to get out there and meet new friends along with hanging out with old friends! \nWe encourage everyone to join us at the social! There’s dancing\, snacks\, and nothing but a good time!  We also encourage everyone to bring a healthy snack to share with everyone! \nSign up below:\nhttps://www.signupgenius.com/go/10C0948A4A72FAAFBCE9-58140793-monthly \n 
URL:https://xceptionalheroes.org/event/monthly-social-14/
LOCATION:Faith Lutheran\, 12534 Holly Road\, Grand Blanc\, MI\, 48439\, United States
CATEGORIES:Free For All
ATTACH;FMTTYPE=image/jpeg:https://xceptionalheroes.org/wp-content/uploads/2024/07/IMG_5440-scaled.jpg
END:VEVENT
END:VCALENDAR