BEGIN:VCALENDAR
VERSION:2.0
PRODID:-//Xceptional Heroes - ECPv6.15.20//NONSGML v1.0//EN
CALSCALE:GREGORIAN
METHOD:PUBLISH
X-WR-CALNAME:Xceptional Heroes
X-ORIGINAL-URL:https://xceptionalheroes.org
X-WR-CALDESC:Events for Xceptional Heroes
REFRESH-INTERVAL;VALUE=DURATION:PT1H
X-Robots-Tag:noindex
X-PUBLISHED-TTL:PT1H
BEGIN:VTIMEZONE
TZID:UTC
BEGIN:STANDARD
TZOFFSETFROM:+0000
TZOFFSETTO:+0000
TZNAME:UTC
DTSTART:20240101T000000
END:STANDARD
END:VTIMEZONE
BEGIN:VEVENT
DTSTART;TZID=UTC:20250908T180000
DTEND;TZID=UTC:20250908T200000
DTSTAMP:20260424T010330
CREATED:20250824T155524Z
LAST-MODIFIED:20250824T155524Z
UID:4643-1757354400-1757361600@xceptionalheroes.org
SUMMARY:Craft Night in the North
DESCRIPTION:Come join Robin for a fun and creative Craft Night! \nThis event is free thanks to the amazing donations that go towards the crafts every Month! \nRobin keeps it interesting by choosing a different craft to do with the Heroes each month! \nPlease make sure if you are attending this event that you sign up. Signing up not only helps us be prepared for the amount of heroes coming\, but also allows us to have ways to contact everyone if the event needs to be canceled. \nSign up below:\nhttps://www.signupgenius.com/go/10C0948A4A72FAAFBCE9-58140770-craft \n 
URL:https://xceptionalheroes.org/event/craft-night-in-the-north-6/
LOCATION:12167 N Lewis Rd Clio\, MI\, 12167 N Lewis Rd\, Clio\, Michigan\, 48420
CATEGORIES:Free For All
ATTACH;FMTTYPE=image/jpeg:https://xceptionalheroes.org/wp-content/uploads/2025/08/FB_IMG_1755969807485.jpg
END:VEVENT
END:VCALENDAR