BEGIN:VCALENDAR
VERSION:2.0
PRODID:-//Xceptional Heroes - ECPv6.15.20//NONSGML v1.0//EN
CALSCALE:GREGORIAN
METHOD:PUBLISH
X-ORIGINAL-URL:https://xceptionalheroes.org
X-WR-CALDESC:Events for Xceptional Heroes
REFRESH-INTERVAL;VALUE=DURATION:PT1H
X-Robots-Tag:noindex
X-PUBLISHED-TTL:PT1H
BEGIN:VTIMEZONE
TZID:UTC
BEGIN:STANDARD
TZOFFSETFROM:+0000
TZOFFSETTO:+0000
TZNAME:UTC
DTSTART:20240101T000000
END:STANDARD
END:VTIMEZONE
BEGIN:VEVENT
DTSTART;TZID=UTC:20250904T110000
DTEND;TZID=UTC:20250904T120000
DTSTAMP:20260424T010351
CREATED:20250824T162618Z
LAST-MODIFIED:20250826T214243Z
UID:4663-1756983600-1756987200@xceptionalheroes.org
SUMMARY:Fun w/ Fitness
DESCRIPTION:Join us for Fitness with Tamara!  Make sure to dress appropriately\, consider the weather as when it permits\, we will still try to get outdoors as much as possible.  Bring plenty of water to get you through! \nWe will post on the page if weather seems it will be bad to let everyone know if we will cancel \nSign up below:\nhttps://www.signupgenius.com/go/10C0948A4A72FAAFBCE9-58140739-funwfitness \n 
URL:https://xceptionalheroes.org/event/fun-w-fitness-16/
LOCATION:Ascension Genesys Health Club\, 801 Health Park Blvd\, Grand Blanc\, MI\, 48439
CATEGORIES:Free For All
ATTACH;FMTTYPE=image/jpeg:https://xceptionalheroes.org/wp-content/uploads/2024/12/IMG_4229.jpg
END:VEVENT
END:VCALENDAR