BEGIN:VCALENDAR
VERSION:2.0
PRODID:-//Xceptional Heroes - ECPv6.15.20//NONSGML v1.0//EN
CALSCALE:GREGORIAN
METHOD:PUBLISH
X-ORIGINAL-URL:https://xceptionalheroes.org
X-WR-CALDESC:Events for Xceptional Heroes
REFRESH-INTERVAL;VALUE=DURATION:PT1H
X-Robots-Tag:noindex
X-PUBLISHED-TTL:PT1H
BEGIN:VTIMEZONE
TZID:UTC
BEGIN:STANDARD
TZOFFSETFROM:+0000
TZOFFSETTO:+0000
TZNAME:UTC
DTSTART:20240101T000000
END:STANDARD
END:VTIMEZONE
BEGIN:VEVENT
DTSTART;TZID=UTC:20250819T180000
DTEND;TZID=UTC:20250819T183000
DTSTAMP:20260424T022315
CREATED:20250727T190207Z
LAST-MODIFIED:20250727T190207Z
UID:4614-1755626400-1755628200@xceptionalheroes.org
SUMMARY:XH North Drumming
DESCRIPTION:Join us for an amazing opportunity to learn to play the drums and get a good workout in! \nWe are offering a class for our Heroes to have some fun drumming and working up a sweat! \nThis event has been a huge hit and you won’t want to miss out! \nPlease make sure to sign up for this event as there is a strict participation limit. \nClick here to sign up! \n 
URL:https://xceptionalheroes.org/event/xh-north-drumming-8/
LOCATION:12167 N Lewis Rd Clio\, MI\, 12167 N Lewis Rd\, Clio\, Michigan\, 48420
CATEGORIES:Free For All
ATTACH;FMTTYPE=image/jpeg:https://xceptionalheroes.org/wp-content/uploads/2025/03/IMG_4345.jpg
END:VEVENT
END:VCALENDAR