BEGIN:VCALENDAR
VERSION:2.0
PRODID:-//Xceptional Heroes - ECPv6.15.20//NONSGML v1.0//EN
CALSCALE:GREGORIAN
METHOD:PUBLISH
X-WR-CALNAME:Xceptional Heroes
X-ORIGINAL-URL:https://xceptionalheroes.org
X-WR-CALDESC:Events for Xceptional Heroes
REFRESH-INTERVAL;VALUE=DURATION:PT1H
X-Robots-Tag:noindex
X-PUBLISHED-TTL:PT1H
BEGIN:VTIMEZONE
TZID:UTC
BEGIN:STANDARD
TZOFFSETFROM:+0000
TZOFFSETTO:+0000
TZNAME:UTC
DTSTART:20240101T000000
END:STANDARD
END:VTIMEZONE
BEGIN:VEVENT
DTSTART;TZID=UTC:20250805T110000
DTEND;TZID=UTC:20250805T130000
DTSTAMP:20260424T022222
CREATED:20250727T182625Z
LAST-MODIFIED:20250727T182625Z
UID:4587-1754391600-1754398800@xceptionalheroes.org
SUMMARY:Wilderness Zoo Trails
DESCRIPTION:It’s time to get back to our animal friends at Wilderness Trails Zoo in Birch Run. \nIf you didn’t get the chance to join us last season\, be sure to sign up for this season! We will be helping zoo staff spruce up zoo grounds\, and prep food for zoo animals. \nStaff at the zoo always have something going on that we can help with. Be sure to apply sunscreen\, bring a hat\, gloves\, water and a snack/lunch. Stay on top of the weather so you have the appropriate attire. \nClick here to sign up! \n 
URL:https://xceptionalheroes.org/event/wilderness-zoo-trails/
LOCATION:Wilderness Trails Animal Zoo\, 11721 Gera Rd\, Birch Run\, MI\, 48415\, United States
CATEGORIES:Free For All
ATTACH;FMTTYPE=image/jpeg:https://xceptionalheroes.org/wp-content/uploads/2024/08/IMG_6032-scaled.jpg
END:VEVENT
BEGIN:VEVENT
DTSTART;TZID=UTC:20250805T180000
DTEND;TZID=UTC:20250805T183000
DTSTAMP:20260424T022222
CREATED:20250727T182311Z
LAST-MODIFIED:20250727T182311Z
UID:4585-1754416800-1754418600@xceptionalheroes.org
SUMMARY:Drumming in the North
DESCRIPTION:Join us for an amazing opportunity to learn to play the drums and get a good workout in! \nWe are offering a class for our Heroes to have some fun drumming and working up a sweat! \nThis event has been a huge hit and you won’t want to miss out! \nPlease make sure to sign up for this event as there are limited spaces for heroes. \n  \nClick here to sign up! \n 
URL:https://xceptionalheroes.org/event/drumming-in-the-north-2/
LOCATION:12167 N Lewis Rd Clio\, MI\, 12167 N Lewis Rd\, Clio\, Michigan\, 48420
CATEGORIES:Free For All
ATTACH;FMTTYPE=image/jpeg:https://xceptionalheroes.org/wp-content/uploads/2025/03/IMG_4345.jpg
END:VEVENT
END:VCALENDAR